Workbook

Sheet Прайс валюта
G1: brand-mebel.com
D2: Курс $ | E2: 45 | F2: * | G2: тел 096 0000 249, 066 0000 249
D3: Курс Є | E3: 51.5 | F3: * | G3: 093 0000 249
G4: м.Львів. вул.Личаківська 255
F5: прайс-лист, валюта | I5: 15.10.2026р.
B6: Артикул | C6: Найменування | D6: Валюта | E6: Роздріб | F6: Опт 1 | G6: кількість | H6: Опт2 | I6: кількість | J6: Опт3 | K6: кількість
A7: - | B7: 0043(N) | C7: Механізм підйому матраца М43 графіт (250-1500N), компл., (Укр+Турц)* | D7: грн. | E7: ='Прайс гривня'!E7 -> 712 | F7: ='Прайс гривня'!F7 -> 640 | G7: 5пар | H7: ='Прайс гривня'!H7 -> 605 | I7: 10пар | J7: ='Прайс гривня'!J7 -> 557 | K7: 30пар
A8: - | B8: 00431(N) | C8: Механізм підйому матраца М43 білий (250-1500N), компл., (Укр+Турц)* | D8: грн. | E8: ='Прайс гривня'!E8 -> 712 | F8: ='Прайс гривня'!F8 -> 640 | G8: 5пар | H8: ='Прайс гривня'!H8 -> 605 | I8: 10пар | J8: ='Прайс гривня'!J8 -> 557 | K8: 30пар
A9: - | B9: 0046(N) | C9: Механізм підйому матраца Eksan (250-1800N), компл., (Турц)* | D9: $, дол. | E9: =E35+E46*2 -> 15.5 | F9: =F35+F46*2 -> 13.95 | G9: 5пар | H9: =H35+H46*2 -> 13.175 | I9: 10пар | J9: =J35+J46*2 -> 11.625 | K9: 30пар
A10: - | B10: 00461(N) | C10: Механізм підйому матраца Gasan чорний (250-1800N), компл., (Турц)* | D10: $, дол. | E10: =E36+E46*2 -> 13.1 | F10: =F36+F46*2 -> 11.79 | G10: 5пар | H10: =H36+H46*2 -> 11.135 | I10: 10пар | J10: =J36+J46*2 -> 9.825 | K10: 30пар
A11: - | B11: 00462(N) | C11: Механізм підйому матраца Gasan білий (250-1800N), компл., (Турц)* | D11: $, дол. | E11: =E37+E46*2 -> 13.1 | F11: =F37+F46*2 -> 11.79 | G11: 5пар | H11: =H37+H46*2 -> 11.135 | I11: 10пар | J11: =J37+J46*2 -> 9.825 | K11: 30пар
A12: - | B12: 0045(N) | C12: Механізм підйому матраца М45 чорний (250-1800N), компл., (Укр-Турц)* | D12: грн. | E12: ='Прайс гривня'!E12 -> 665 | F12: ='Прайс гривня'!F12 -> 598 | G12: 5пар | H12: ='Прайс гривня'!H12 -> 565 | I12: 10пар | J12: ='Прайс гривня'!J12 -> 499 | K12: 30пар
A13: - | B13: 00452(N) | C13: Механізм підйому матраца М45 Титан (250-1800N), компл., (Укр-Турц)* | D13: грн. | E13: ='Прайс гривня'!E13 -> 665 | F13: ='Прайс гривня'!F13 -> 598 | G13: 5пар | H13: ='Прайс гривня'!H13 -> 565 | I13: 10пар | J13: ='Прайс гривня'!J13 -> 499 | K13: 30пар
A14: - | B14: 0047(N) | C14: Механізм підйому матраца Фокстер (250-1800N), компл., (Укр+Турц) | D14: грн. | E14: ='Прайс гривня'!E14 -> 939 | F14: ='Прайс гривня'!F14 -> 844.3 | G14: 5пар | H14: ='Прайс гривня'!H14 -> 796.45 | I14: 10пар | J14: ='Прайс гривня'!J14 -> 702.75 | K14: 30пар
A15: - | B15: 00451(N) | C15: Механізм підйому матраца М45 Long (250-1800N), компл., (Укр+Турц)* | D15: грн. | E15: ='Прайс гривня'!E15 -> 872 | F15: ='Прайс гривня'!F15 -> 784 | G15: 5пар | H15: ='Прайс гривня'!H15 -> 741 | I15: 10пар | J15: ='Прайс гривня'!J15 -> 654 | K15: 30пар
A16: - | B16: 0044(N) | C16: Механізм підйому матраца Himars чорний (150-1500N), компл., (Укр+Турц) | D16: грн. | E16: ='Прайс гривня'!E16 -> 1194 | F16: ='Прайс гривня'!F16 -> 1075 | G16: 5пар | H16: ='Прайс гривня'!H16 -> 1015 | I16: 10пар | J16: ='Прайс гривня'!J16 -> 934 | K16: 30пар
A17: - | B17: 00442(N) | C17: Механізм підйому матраца Himars титан (150-1500N), компл., (Укр+Турц) | D17: грн. | E17: ='Прайс гривня'!E17 -> 1194 | F17: ='Прайс гривня'!F17 -> 1075 | G17: 5пар | H17: ='Прайс гривня'!H17 -> 1015 | I17: 10пар | J17: ='Прайс гривня'!J17 -> 934 | K17: 30пар
A18: - | B18: 0048(N) | C18: Механізм підйому матраца Samson (150-1500N), компл., (Укр+Турц) | D18: грн. | E18: ='Прайс гривня'!E18 -> 1806 | F18: ='Прайс гривня'!F18 -> 1625 | G18: 5пар | H18: ='Прайс гривня'!H18 -> 1536 | I18: 10пар | J18: ='Прайс гривня'!J18 -> 1416 | K18: 30пар
A19: 350 | B19: 0100 | C19: Обмежувач ходу амортизатора для механізму підйому ліжка | D19: грн. | E19: 30 | F19: =E19*0.9 -> 27 | G19: 10шт | H19: =E19*0.8 -> 24 | I19: 50шт | J19: =E19*0.7 -> 21 | K19: 100шт
A20: 60 | B20: 0020 | C20: Обмежувач матрацу Твіст | D20: грн. | E20: 79 | F20: =E20*0.85 -> 67.15 | G20: 10шт | H20: =E20*0.8 -> 63.2 | I20: 50шт | J20: =E20*0.7 -> 55.3 | K20: 100шт
A21: 161 | B21: 0025/0030 | C21: Обмежувач матрацу Флеш цинк 25мм, 30мм | D21: грн. | E21: 68 | F21: =E21*0.85 -> 57.8 | G21: 10шт | H21: =E21*0.8 -> 54.4 | I21: 50шт | J21: =E21*0.7 -> 47.6 | K21: 100шт
A22: 161 | B22: 00251/00301 | C22: Обмежувач матрацу Флеш хром 25мм, 30мм | D22: грн. | E22: 120 | F22: =E22*0.85 -> 102 | G22: 10шт | H22: =E22*0.8 -> 96 | I22: 50шт | J22: =E22*0.75 -> 90 | K22: 100шт
B23: 003205 | C23: Обмежувач матрацу Блек | D23: грн. | E23: 50 | F23: =E23*0.9 -> 45 | G23: 10шт | H23: =E23*0.85 -> 42.5 | I23: 50шт | J23: =E23*0.8 -> 40 | K23: 100шт
A24: 200 | B24: 01000б | C24: Ремінь для підйому каркасу чорна | D24: грн. | E24: 50 | F24: =E24*0.85 -> 42.5 | G24: 10шт | H24: =E24*0.7 -> 35 | I24: 30шт | J24: =E24*0.65 -> 32.5 | K24: 50шт
A25: 200 | B25: 01000ч | C25: Ремінь для підйому каркасу біла | D25: грн. | E25: =E24 -> 50 | F25: =E25*0.85 -> 42.5 | G25: 10шт | H25: =E25*0.7 -> 35 | I25: 30шт | J25: =E25*0.65 -> 32.5 | K25: 50шт
A26: 60 | B26: 7070 | C26: Кутник ліжка опорний оцинкований 7*7см | D26: грн. | E26: 13.5 | F26: =E26*0.9 -> 12.15 | G26: 10шт | H26: =E26*0.85 -> 11.475 | I26: 50шт | J26: =E26*0.8 -> 10.8 | K26: 100шт
A27: 60 | B27: 13513525 | C27: Кутник ліжка опорний сірий 13,5*13,5см | D27: грн. | E27: 78 | F27: =E27*0.9 -> 70.2 | G27: 10шт | H27: =E27*0.85 -> 66.3 | I27: 50шт | J27: =E27*0.8 -> 62.4 | K27: 100шт
A28: 55 | B28: 14014025 | C28: Кутник ліжка опорний сірий 14*14см | D28: грн. | E28: 78 | F28: =E28*0.9 -> 70.2 | G28: 10шт | H28: =E28*0.85 -> 66.3 | I28: 50шт | J28: =E28*0.8 -> 62.4 | K28: 100шт
A29: 60 | B29: 1601601 | C29: Кутник ліжка опорний чорний 16*16см | D29: грн. | E29: 90 | F29: =E29*0.9 -> 81 | G29: 10шт | H29: =E29*0.85 -> 76.5 | I29: 50шт | J29: =E29*0.8 -> 72 | K29: 100шт
A30: 60 | B30: 160160 | C30: Кутник ліжка опорний оцинкований 16*16см | D30: грн. | E30: 90 | F30: =E30*0.9 -> 81 | G30: 10шт | H30: =E30*0.85 -> 76.5 | I30: 50шт | J30: =E30*0.8 -> 72 | K30: 100шт
A31: 100 | B31: 4317 | C31: Демпфер гумовий, відбійник для металевого кутника | D31: грн. | E31: 8 | F31: =E31*0.9 -> 7.2 | G31: 10шт | H31: =E31*0.81 -> 6.48 | I31: 50шт | J31: =E31*0.75 -> 6 | K31: 100шт
A32: 70 | B32: 12034 | C32: Зачіп монтажний універсальний оцинкований | D32: грн. | E32: 32 | F32: =E32*0.85 -> 27.2 | G32: 10шт | H32: =E32*0.8 -> 25.6 | I32: 50шт | J32: =E32*0.7 -> 22.4 | K32: 100шт
A33: 46 | B33: 0043 | C33: Механізм підйому матраца М43 графіт (без амортизаторів), пара, (Укр) | D33: грн. | E33: 460 | F33: =E33*0.9 -> 414 | G33: 5пар | H33: =E33*0.85 -> 391 | I33: 10пар | J33: =E33*0.8 -> 368 | K33: 30пар
A34: =A33 -> 46 | B34: 00431 | C34: Механізм підйому матраца М43 білий (без амортизаторів), пара, (Укр) | D34: грн. | E34: =E33 -> 460 | F34: =E34*0.9 -> 414 | G34: 5пар | H34: =E34*0.85 -> 391 | I34: 10пар | J34: =E34*0.8 -> 368 | K34: 30пар
A35: 50 | B35: 0046 | C35: Механізм підйому матраца Eksan (без амортиз), пара, (Укр) | D35: $, дол. | E35: 9.9 | F35: =E35*0.9 -> 8.91 | G35: 5пар | H35: =E35*0.85 -> 8.415 | I35: 10пар | J35: =E35*0.75 -> 7.425 | K35: 30пар
A36: 55 | B36: 00461 | C36: Механізм підйому матраца Gasan чорний (без амортиз), пара, (Турц) | D36: $, дол. | E36: 7.5 | F36: =E36*0.9 -> 6.75 | G36: 5пар | H36: =E36*0.85 -> 6.375 | I36: 10пар | J36: =E36*0.75 -> 5.625 | K36: 30пар
A37: =A36 -> 55 | B37: 00462 | C37: Механізм підйому матраца Gasan білий (без амортиз), пара, (Турц) | D37: $, дол. | E37: =E36 -> 7.5 | F37: =E37*0.9 -> 6.75 | G37: 5пар | H37: =E37*0.85 -> 6.375 | I37: 10пар | J37: =E37*0.75 -> 5.625 | K37: 30пар
A38: 50 | B38: 0045 | C38: Механізм підйому матраца М45 чорний (без амортизаторів) | D38: грн. | E38: 413 | F38: =E38*0.9 -> 371.7 | G38: 5пар | H38: =E38*0.85 -> 351.05 | I38: 10пар | J38: =E38*0.75 -> 309.75 | K38: 30пар
A39: 50 | B39: 00452 | C39: Механізм підйому матраца М45 Титан (без амортизаторів) | D39: грн. | E39: =E38 -> 413 | F39: =F38 -> 371.7 | G39: 5пар | H39: =H38 -> 351.05 | I39: 10пар | J39: =J38 -> 309.75 | K39: 30пар
A40: 170 | B40: 0047 | C40: Механізм підйому матраца Фокстер (без амортизаторів) | D40: грн. | E40: ='Прайс гривня'!E40 -> 657 | F40: ='Прайс гривня'!F40 -> 591.3 | G40: 5пар | H40: ='Прайс гривня'!H40 -> 558.45 | I40: 10пар | J40: ='Прайс гривня'!J40 -> 492.75 | K40: 30пар
A41: 55 | B41: 00451 | C41: Механізм підйому матраца М45 Long (без амортизаторів), пара, (Укр) | D41: грн. | E41: 620 | F41: =E41*0.9 -> 558 | G41: 5пар | H41: =E41*0.85 -> 527 | I41: 10пар | J41: =E41*0.75 -> 465 | K41: 30пар
A42: 45 | B42: 0044 | C42: Механізм підйому матраца Himars чорний (без амортиз), пара, (Укр) | D42: грн. | E42: 770 | F42: =E42*0.9 -> 693 | G42: 5пар | H42: =E42*0.85 -> 654.5 | I42: 10пар | J42: =E42*0.8 -> 616 | K42: 30пар
A43: =A42 -> 45 | B43: 00442 | C43: Механізм підйому матраца Himars титан (без амортиз), пара, (Укр) | D43: грн. | E43: =E42 -> 770 | F43: =E43*0.9 -> 693 | G43: 5пар | H43: =E43*0.85 -> 654.5 | I43: 10пар | J43: =E43*0.8 -> 616 | K43: 30пар
A44: 45 | B44: 0048 | C44: Механізм підйому матраца Samson (без амортиз), пара, (Укр) | D44: грн. | E44: 1230 | F44: =E44*0.9 -> 1107 | G44: 5пар | H44: =E44*0.85 -> 1045.5 | I44: 10пар | J44: =E44*0.8 -> 984 | K44: 30пар
A45: 60 | B45: 285(N) | C45: Газовий амортизатор L285мм (250,500,750,1000,1200,1500N), шт, (Турц) | D45: $, дол. | E45: 4.8 | F45: =E45*0.9 -> 4.32 | G45: 10шт | H45: =E45*0.85 -> 4.08 | I45: 50шт | J45: =E45*0.75 -> 3.6 | K45: 100шт
A46: 60 | B46: 365(N) | C46: Газовий амортизатор L360мм (350,450,750,1000,1000, 1200N), шт, (Турц) | D46: $, дол. | E46: 2.8 | F46: =E46*0.9 -> 2.52 | G46: 10шт | H46: =E46*0.85 -> 2.38 | I46: 50шт | J46: =E46*0.75 -> 2.1 | K46: 100шт
A47: 69 | B47: 3651500 | C47: Газовий амортизатор L360мм (250, 1500, 1800N), шт, (Турц) | D47: $, дол. | E47: 3.05 | F47: =E47*0.9 -> 2.745 | G47: 10шт | H47: =E47*0.85 -> 2.5925 | I47: 50шт | J47: =E47*0.75 -> 2.2875 | K47: 100шт
A48: 60 | B48: 405(N) | C48: Газовий амортизатор L405мм (250,500,600,800,1000,1200,1500N), шт, (Турц) | D48: $, дол. | E48: 4.7 | F48: =E48*0.9 -> 4.23 | G48: 10шт | H48: =E48*0.85 -> 3.995 | I48: 50шт | J48: =E48*0.75 -> 3.525 | K48: 100шт
A49: 50 | B49: 585(N) | C49: Газовий амортизатор L585мм (150,250;500,600,800,1000,1200,1500N), шт, (Турц) | D49: $, дол. | E49: 6.4 | F49: =E49*0.9 -> 5.76 | G49: 10шт | H49: =E49*0.85 -> 5.44 | I49: 50шт | J49: =E49*0.75 -> 4.8 | K49: 100шт
A50: 250 | B50: 00081 | C50: Кріплення амортизатора кутове | D50: грн. | E50: 50 | F50: =E50*0.9 -> 45 | G50: 10шт | H50: =E50*0.8 -> 40 | I50: 50шт | J50: =E50*0.7 -> 35 | K50: 100шт
A51: 250 | B51: 0008 | C51: Кріплення амортизатора пряме | D51: грн. | E51: 50 | F51: =E51*0.9 -> 45 | G51: 10шт | H51: =E51*0.8 -> 40 | I51: 50шт | J51: =E51*0.7 -> 35 | K51: 100шт
F53: =F5 -> прайс-лист, валюта | I53: =I5 -> 15.10.2026р.
C54: Найменування | D54: Валюта | E54: Роздріб | F54: Опт 1 | G54: кількість | H54: Опт2 | I54: кількість | J54: Опт3 | K54: кількість
A55: 50 | B55: 0010 | C55: Механізм ліжка трансформера односп МТ10 б/а пара,компл. (Укр) | D55: грн. | E55: 1330 | F55: =E55*0.9 -> 1197 | G55: 3пар | H55: =E55*0.85 -> 1130.5 | I55: 5шт | J55: =E55*0.8 -> 1064 | K55: 20шт
A56: 50 | B56: 0010(N) | C56: Механізм ліжка трансформера односп МТ10 (250-1500N) пара,компл. (Укр) | D56: грн. | E56: =E55+ROUND(E46*E2,0)*2 -> 1582 | F56: =F55+ROUND(F46*E2,0)*2 -> 1423 | G56: 3пар | H56: =H55+ROUND(H46*E2,0)*2 -> 1344.5 | I56: 5шт | J56: =J55+ROUND(J46*E2,0)*2 -> 1254 | K56: 20шт
A57: 30 | B57: 0209 | C57: Механізм ліжка трансформера односп MLА209, пара, (Італ) | D57: Є, євро | E57: 193 | F57: =E57*0.9 -> 173.7 | G57: 3пар | H57: =E57*0.85 -> 164.05 | I57: 10пар | J57: х | K57: х
A58: 30 | B58: 1081 | C58: Механізм ліжка трансформера односп MLА108,1, пара, (Італ) | D58: Є, євро | E58: 193 | F58: =E58*0.9 -> 173.7 | G58: 3пар | H58: =E58*0.85 -> 164.05 | I58: 10пар | J58: х | K58: х
A59: 30 | B59: 1082 | C59: Механізм ліжка трансформера півторасп MLА108,2, пара, (Італ) | D59: Є, євро | E59: 222 | F59: =E59*0.9 -> 199.8 | G59: 3пар | H59: =E59*0.85 -> 188.7 | I59: 10пар | J59: х | K59: х
A60: 32 | B60: 1084 | C60: Механізм ліжка трансформера двосп MLА108,4, пара, (Італ) | D60: Є, євро | E60: 242 | F60: =E60*0.9 -> 217.8 | G60: 3пар | H60: =E60*0.85 -> 205.7 | I60: 10пар | J60: х | K60: х
B61: 1086 | C61: Механізм ліжка трансформера двосп MLА108,6, пара, (Італ) | D61: Є, євро | E61: 0 | F61: 0 | G61: 3пар | H61: 0 | I61: 10пар | J61: х | K61: х
A62: 35 | B62: 0107 | C62: Механізм ліжка трансформера двосп "Крафт", пара, (Укр) | D62: грн. | E62: 7390 | F62: =E62*0.9 -> 6651 | G62: 3пар | H62: =E62*0.85 -> 6281.5 | I62: 10пар | J62: х | K62: х
A63: 35 | B63: 0109 | C63: Механізм ліжка трансформера двосп "Крафт плюс", пара, (Укр) | D63: грн. | E63: 7990 | F63: =E63*0.9 -> 7191 | G63: 3пар | H63: =E63*0.85 -> 6791.5 | I63: 10пар | J63: х | K63: х
A64: 50 | B64: 49500 | C64: Механізм трансформації дивану єврокнижки "Тік Так" (крок 495) | D64: грн. | E64: 430 | F64: =E64*0.9 -> 387 | G64: 5пар | H64: =E64*0.85 -> 365.5 | I64: 10пар | J64: =E64*0.8 -> 344 | K64: 30пар
A65: 50 | B65: 60000 | C65: Механізм трансформації дивану єврокнижки "Тік Так" (крок 600) | D65: грн. | E65: 440 | F65: =E65*0.9 -> 396 | G65: 5пар | H65: =E65*0.85 -> 374 | I65: 10пар | J65: =E65*0.8 -> 352 | K65: 30пар
A66: 50 | B66: 10001 | C66: Штанга телеск. для механізму трансформації дивану єврокнижка "Тік Так" | D66: грн. | E66: 285 | F66: =E66*0.9 -> 256.5 | G66: 5шт | H66: =E66*0.85 -> 242.25 | I66: 10шт | J66: =E66*0.8 -> 228 | K66: 30шт
A67: 55 | B67: 00780 | C67: Механізм дивану "Дельфін" 780мм | D67: грн. | E67: 595 | F67: =E67*0.9 -> 535.5 | G67: 5шт | H67: =E67*0.85 -> 505.75 | I67: 10шт | J67: =E67*0.8 -> 476 | K67: 30шт
A68: 60 | B68: 0255 | C68: Нога поворотно-відкидна нікель, вис. 255мм, пара, (Укр) | D68: грн. | E68: 1190 | F68: =E68*0.9 -> 1071 | G68: 3пар | H68: =E68*0.85 -> 1011.5 | I68: 10пар | J68: =E68*0.75 -> 892.5 | K68: 20пар
A69: 60 | B69: 0450 | C69: Нога поворотно-відкидна нікель, вис. 450мм, пара, (Укр) | D69: грн. | E69: 1390 | F69: =E69*0.9 -> 1251 | G69: 3пар | H69: =E69*0.85 -> 1181.5 | I69: 10пар | J69: =E69*0.75 -> 1042.5 | K69: 20пар
C70: Нога ліжка трансформера "Дует", вис. | D70: грн. | E70: 0 | F70: =E70*0.95 -> 0 | G70: 3пар | H70: =E70*0.9 -> 0 | I70: 10пар | J70: х | K70: х
C71: Нога ліжка трансформера "Дует", вис. | D71: грн. | E71: 0 | F71: =E71*0.95 -> 0 | G71: 3пар | H71: =E71*0.9 -> 0 | I71: 10пар | J71: х | K71: х
C72: Штанга з'єднювач ноги "Дует" | D72: грн. | F72: =E72*0.95 -> 0 | G72: 3шт | H72: =E72*0.9 -> 0 | I72: 10шт | J72: х | K72: х
A73: 70 | B73: 0090 | C73: Ремінь ліжка односпального, пара | D73: грн. | E73: 90 | F73: =E73*0.9 -> 81 | G73: 5пар | H73: =E73*0.8 -> 72 | I73: 10пар | J73: =E73*0.7 -> 63 | K73: 20пар
A74: 80 | B74: 0(довж,см) | C74: Ремінь ліжка двохспального, пара | D74: грн. | E74: 120 | F74: =E74*0.9 -> 108 | G74: 5пар | H74: =E74*0.8 -> 96 | I74: 10пар | J74: =E74*0.7 -> 84 | K74: 20пар
A76: 30 | B76: 1620 | C76: Механізм журнал-обідн стола трансформера "Сігма",пара (Укр) | D76: грн. | E76: 2150 | F76: =E76*0.95 -> 2042.5 | G76: 5пар | H76: =E76*0.9 -> 1935 | I76: 10пар | J76: =E76*0.85 -> 1827.5 | K76: 20пар
A77: 40 | B77: 1630 | C77: Механізм журнально обіднього столу трансформера X-Fly (Укр) | D77: грн. | E77: 1200 | F77: =E77*0.9 -> 1080 | G77: 5шт | H77: =E77*0.85 -> 1020 | I77: 10шт | J77: =E77*0.8 -> 960 | K77: 20шт
A78: 40 | B78: 1640 | C78: Механізм для відкидного столу трансформера "Рембо"білий (Укр) | D78: грн. | E78: 2400 | F78: =E78*0.9 -> 2160 | G78: 5шт | H78: =E78*0.85 -> 2040 | I78: 10шт | J78: =E78*0.8 -> 1920 | K78: 20шт
A79: 40 | B79: 1641 | C79: Механізм для відкидного столу трансформера "Рембо"сірий (Укр) | D79: грн. | E79: =E78 -> 2400 | F79: =E79*0.9 -> 2160 | G79: 5шт | H79: =E79*0.85 -> 2040 | I79: 10шт | J79: =E79*0.8 -> 1920 | K79: 20шт
A80: 40 | B80: 1642 | C80: Механізм для відкидного столу трансформера "Рембо"чорний (Укр) | D80: грн. | E80: =E78 -> 2400 | F80: =E80*0.9 -> 2160 | G80: 5шт | H80: =E80*0.85 -> 2040 | I80: 10шт | J80: =E80*0.8 -> 1920 | K80: 20шт
A81: - | B81: 0040К | C81: Комплект коліс для стола трансформера Сігма (4шт.) | D81: грн. | E81: =(E82+E26)*4 -> 398 | F81: =E81*0.9 -> 358.2 | G81: 5комп. | H81: =E81*0.85 -> 338.3 | I81: 10ком. | J81: =E81*0.8 -> 318.4 | K81: 50ком.
A82: 50+1 | B82: 0040 | C82: Колесо зі стопором d40мм М8, шт. | D82: грн. | E82: 86 | F82: =E82*0.9 -> 77.4 | G82: 20шт | H82: =E82*0.85 -> 73.1 | I82: 50шт | J82: =E82*0.8 -> 68.8 | K82: 100шт
A83: 44 | B83: 0041 | C83: Колесо на платформі зі стопором d40мм Альфа, шт | D83: грн. | E83: 15 | F83: =E83*0.9 -> 13.5 | G83: 20шт | H83: =E83*0.85 -> 12.75 | I83: 50шт | J83: =E83*0.8 -> 12 | K83: 100шт
A84: 100 | B84: 0050 | C84: Колесо на платформі з стопором силіконове d50 мм GTV | D84: $, дол. | E84: 1.9 | F84: =E84*0.9 -> 1.71 | G84: 20шт | H84: =E84*0.85 -> 1.615 | I84: 50шт | J84: =E84*0.8 -> 1.52 | K84: 100шт
A85: 60 | B85: 0500 | C85: Механізм журнальн стола-трансформера "Focus",пара,(Укр) | D85: грн. | E85: 520 | F85: =E85*0.9 -> 468 | G85: 5пар | H85: =E85*0.85 -> 442 | I85: 10пар | J85: =E85*0.8 -> 416 | K85: 30пар
A86: 70 | B86: 0501 | C86: Механізм журнального стола-трансформера "Koper",пара,(Тур) | D86: $, дол. | E86: 10.2 | F86: =E86*0.9 -> 9.18 | G86: 5пар | H86: =E86*0.85 -> 8.67 | I86: 10пар | J86: =E86*0.8 -> 8.16 | K86: 30пар
A87: 50 | B87: 0502 | C87: Механізм журнального стола-трансформера "Shrek",пара,(Тур) | D87: $, дол. | E87: 14.6 | F87: =E87*0.9 -> 13.14 | G87: 5пар | H87: =E87*0.85 -> 12.41 | I87: 10пар | J87: =E87*0.8 -> 11.68 | K87: 30пар
A88: 40 | B88: 00102 | C88: Завіс циліндричний D10мм, DC,шт, (Китай) | D88: $, дол. | E88: 1.7 | F88: =E88*0.9 -> 1.53 | G88: 20шт | H88: =E88*0.85 -> 1.445 | I88: 50шт | J88: =E88*0.8 -> 1.36 | K88: 100шт
A89: 40 | B89: 0012 | C89: Завіс циліндричний D12мм, DC,шт, (Китай) | D89: $, дол. | E89: 1.7 | F89: =E89*0.9 -> 1.53 | G89: 20шт | H89: =E89*0.85 -> 1.445 | I89: 50шт | J89: =E89*0.8 -> 1.36 | K89: 100шт
A90: 40 | B90: 0014 | C90: Завіс циліндричний D14мм, DC,шт, (Китай) | D90: $, дол. | E90: 1.76 | F90: =E90*0.9 -> 1.584 | G90: 20шт | H90: =E90*0.85 -> 1.496 | I90: 50шт | J90: =E90*0.8 -> 1.408 | K90: 100шт
B91: 00101 | C91: Завіс циліндричний D10мм, Siso,шт, (Данія) | D91: Є, євро | E91: 0 | F91: =E91*0.9 -> 0 | G91: 20шт | H91: =E91*0.85 -> 0 | I91: 50шт | J91: =E91*0.8 -> 0 | K91: 100шт
B92: 00121 | C92: Завіс циліндричний D12мм, Siso,шт, (Данія) | D92: Є, євро | E92: 0 | F92: =E92*0.9 -> 0 | G92: 20шт | H92: =E92*0.85 -> 0 | I92: 50шт | J92: =E92*0.8 -> 0 | K92: 100шт
A93: 40 | B93: 00141 | C93: Завіс циліндричний D14мм, Siso,шт, (Данія) | D93: Є, євро | E93: 2.28 | F93: =E93*0.9 -> 2.052 | G93: 20шт | H93: =E93*0.85 -> 1.938 | I93: 50шт | J93: =E93*0.8 -> 1.824 | K93: 100шт
C94: Завіс циліндричний D16мм, Siso,шт, (Данія) | D94: Є, євро | E94: 0 | F94: =E94*0.9 -> 0 | G94: 20шт | H94: =E94*0.85 -> 0 | I94: 50шт | J94: =E94*0.8 -> 0 | K94: 100шт
A95: 40 | B95: 00300 | C95: Завіс врізний шарнірний BM, шт, (Китай) | D95: $, дол. | E95: 1.05 | F95: =E95*0.9 -> 0.945 | G95: 20шт | H95: =E95*0.85 -> 0.8925 | I95: 50шт | J95: =E95*0.83 -> 0.8715 | K95: 100шт
A96: 50 | B96: 00302 | C96: Завіс врізний шарнірний MMP (сатин), шт. | D96: Є, євро | E96: 2 | F96: =E96*0.9 -> 1.8 | G96: 20шт | H96: =E96*0.85 -> 1.7 | I96: 50шт | J96: =E96*0.8 -> 1.6 | K96: 100шт
A97: 40 | B97: 00303 | C97: Завіс врізний шарнірний MMP (золото), шт. | D97: Є, євро | E97: 2.1 | F97: =E97*0.9 -> 1.89 | G97: 20шт | H97: =E97*0.85 -> 1.785 | I97: 50шт | J97: =E97*0.83 -> 1.743 | K97: 100шт
A98: 41 | B98: 00304 | C98: Завіс врізний шарнірний MMP (темно коричн), шт. | D98: Є, євро | E98: 2.1 | F98: =E98*0.9 -> 1.89 | G98: 20шт | H98: =E98*0.85 -> 1.785 | I98: 50шт | J98: =E98*0.83 -> 1.743 | K98: 100шт
A99: 40 | B99: 00305 | C99: Завіс врізний шарнірний Siso (золото), шт, (Данія) | D99: Є, євро | E99: 4.9 | F99: =E99*0.9 -> 4.41 | G99: 20шт | H99: =E99*0.85 -> 4.165 | I99: 50шт | J99: =E99*0.8 -> 3.92 | K99: 100шт
B100: 11301 | C100: Накладна металева петля 40*90 | D100: грн. | E100: 22 | F100: =E100*0.9 -> 19.8 | G100: 20шт | H100: =E100*0.85 -> 18.7 | I100: 50шт | J100: =E100*0.8 -> 17.6 | K100: 100шт
B101: 11302 | C101: Накладна металева петля 40*180 | D101: грн. | E101: 40 | F101: =E101*0.9 -> 36 | G101: 20шт | H101: =E101*0.85 -> 34 | I101: 50шт | J101: =E101*0.8 -> 32 | K101: 100шт
B102: 11305 | C102: Накладна металева петля 50*146 | D102: грн. | E102: 45 | F102: =E102*0.9 -> 40.5 | G102: 20шт | H102: =E102*0.85 -> 38.25 | I102: 100шт | J102: =E102*0.8 -> 36 | K102: 100шт
...

Sheet Прайс гривня
G1: brand-mebel.com
D2: Курс $ | E2: ='Прайс валюта'!E2 -> 45 | F2: не змінювати | G2: ='Прайс валюта'!G2:K2 -> тел 096 0000 249, 066 0000 249
D3: Курс Є | E3: ='Прайс валюта'!E3 -> 51.5 | F3: не змінювати | G3: 093 0000 249
G4: м.Львів. вул.Личаківська 255
F5: прайс-лист, гривня | I5: ='Прайс валюта'!I5 -> 15.10.2026р.
C6: Найменування | D6: Валюта | E6: Роздріб | F6: Опт 1 | G6: кількість | H6: Опт 2 | I6: кількість | J6: Опт 3 | K6: кількість
A7: ='Прайс валюта'!A7 -> - | B7: ='Прайс валюта'!B7 -> 0043(N) | C7: ='Прайс валюта'!C7 -> Механізм підйому матраца М43 графіт (250-1500N), компл., (Укр+Турц)* | D7: грн. | E7: =ROUND(E33+E46*2,0) -> 712 | F7: =F33+F46*2 -> 640 | G7: ='Прайс валюта'!G7 -> 5пар | H7: =H33+H46*2 -> 605 | I7: ='Прайс валюта'!I7 -> 10пар | J7: =J33+J46*2 -> 557 | K7: ='Прайс валюта'!K7 -> 30пар
A8: - | B8: 00431(N) | C8: ='Прайс валюта'!C8 -> Механізм підйому матраца М43 білий (250-1500N), компл., (Укр+Турц)* | D8: грн. | E8: =ROUND(E34+E46*2,0) -> 712 | F8: =F34+F46*2 -> 640 | G8: ='Прайс валюта'!G8 -> 5пар | H8: =H34+H46*2 -> 605 | I8: ='Прайс валюта'!I8 -> 10пар | J8: =J34+J46*2 -> 557 | K8: ='Прайс валюта'!K8 -> 30пар
A9: ='Прайс валюта'!A9 -> - | B9: ='Прайс валюта'!B9 -> 0046(N) | C9: ='Прайс валюта'!C9 -> Механізм підйому матраца Eksan (250-1800N), компл., (Турц)* | D9: грн. | E9: =ROUND(E35+E46*2,0) -> 698 | F9: =F35+F46*2 -> 627 | G9: ='Прайс валюта'!G9 -> 5пар | H9: =H35+H46*2 -> 593 | I9: ='Прайс валюта'!I9 -> 10пар | J9: =J35+J46*2 -> 523 | K9: ='Прайс валюта'!K9 -> 30пар
A10: - | B10: ='Прайс валюта'!B10 -> 00461(N) | C10: ='Прайс валюта'!C10 -> Механізм підйому матраца Gasan чорний (250-1800N), компл., (Турц)* | D10: грн. | E10: =ROUND(E36+E46*2,0) -> 638 | F10: =F36+F46*2 -> 574 | G10: ='Прайс валюта'!G10 -> 5пар | H10: =H36+H46*2 -> 542 | I10: ='Прайс валюта'!I10 -> 10пар | J10: =J36+J46*2 -> 479 | K10: ='Прайс валюта'!K10 -> 30пар
A11: - | B11: 00462(N) | C11: ='Прайс валюта'!C11 -> Механізм підйому матраца Gasan білий (250-1800N), компл., (Турц)* | D11: грн. | E11: =ROUND(E37+E46*2,0) -> 638 | F11: =F37+F46*2 -> 574 | G11: ='Прайс валюта'!G11 -> 5пар | H11: =H37+H46*2 -> 542 | I11: ='Прайс валюта'!I11 -> 10пар | J11: =J37+J46*2 -> 479 | K11: ='Прайс валюта'!K11 -> 30пар
A12: ='Прайс валюта'!A12 -> - | B12: ='Прайс валюта'!B12 -> 0045(N) | C12: ='Прайс валюта'!C12 -> Механізм підйому матраца М45 чорний (250-1800N), компл., (Укр-Турц)* | D12: грн. | E12: =ROUND(E38+E46*2,0) -> 665 | F12: =F38+F46*2 -> 598 | G12: ='Прайс валюта'!G12 -> 5пар | H12: =H38+H46*2 -> 565 | I12: ='Прайс валюта'!I12 -> 10пар | J12: =J38+J46*2 -> 499 | K12: ='Прайс валюта'!K12 -> 30пар
A13: - | B13: ='Прайс валюта'!B13 -> 00452(N) | C13: ='Прайс валюта'!C13 -> Механізм підйому матраца М45 Титан (250-1800N), компл., (Укр-Турц)* | D13: грн. | E13: =E12 -> 665 | F13: =F12 -> 598 | G13: ='Прайс валюта'!G13 -> 5пар | H13: =H12 -> 565 | I13: ='Прайс валюта'!I13 -> 10пар | J13: =J12 -> 499 | K13: ='Прайс валюта'!K13 -> 30пар
A14: ='Прайс валюта'!A14 -> - | B14: ='Прайс валюта'!B14 -> 0047(N) | C14: ='Прайс валюта'!C14 -> Механізм підйому матраца Фокстер (250-1800N), компл., (Укр+Турц) | D14: грн. | E14: =E40+E46*2+E19 -> 939 | F14: =F40+F46*2+F19 -> 844.3 | G14: ='Прайс валюта'!G14 -> 5пар | H14: =H40+H46*2+H19 -> 796.45 | I14: ='Прайс валюта'!I14 -> 10пар | J14: =J40+J46*2+J19 -> 702.75 | K14: ='Прайс валюта'!K14 -> 30пар
A15: ='Прайс валюта'!A15 -> - | B15: ='Прайс валюта'!B15 -> 00451(N) | C15: ='Прайс валюта'!C15 -> Механізм підйому матраца М45 Long (250-1800N), компл., (Укр+Турц)* | D15: грн. | E15: =ROUND(E41+E46*2,0) -> 872 | F15: =F41+F46*2 -> 784 | G15: ='Прайс валюта'!G15 -> 5пар | H15: =H41+H46*2 -> 741 | I15: ='Прайс валюта'!I15 -> 10пар | J15: =J41+J46*2 -> 654 | K15: ='Прайс валюта'!K15 -> 30пар
A16: ='Прайс валюта'!A16 -> - | B16: ='Прайс валюта'!B16 -> 0044(N) | C16: ='Прайс валюта'!C16 -> Механізм підйому матраца Himars чорний (150-1500N), компл., (Укр+Турц) | D16: грн. | E16: =ROUND(E42+E48*2,0) -> 1194 | F16: =F42+F48*2 -> 1075 | G16: ='Прайс валюта'!G16 -> 5пар | H16: =H42+H48*2 -> 1015 | I16: ='Прайс валюта'!I16 -> 10пар | J16: =J42+J48*2 -> 934 | K16: ='Прайс валюта'!K16 -> 30пар
A17: - | B17: 00442(N) | C17: ='Прайс валюта'!C17 -> Механізм підйому матраца Himars титан (150-1500N), компл., (Укр+Турц) | D17: грн. | E17: =ROUND(E43+E48*2,0) -> 1194 | F17: =F43+F48*2 -> 1075 | G17: ='Прайс валюта'!G17 -> 5пар | H17: =H43+H48*2 -> 1015 | I17: ='Прайс валюта'!I17 -> 10пар | J17: =J43+J48*2 -> 934 | K17: ='Прайс валюта'!K17 -> 30пар
A18: - | B18: ='Прайс валюта'!B18 -> 0048(N) | C18: ='Прайс валюта'!C18 -> Механізм підйому матраца Samson (150-1500N), компл., (Укр+Турц) | D18: грн. | E18: =ROUND(E44+E49*2,0) -> 1806 | F18: =F44+F49*2 -> 1625 | G18: ='Прайс валюта'!G18 -> 5пар | H18: =H44+H49*2 -> 1536 | I18: ='Прайс валюта'!I18 -> 10пар | J18: =J44+J49*2 -> 1416 | K18: ='Прайс валюта'!K18 -> 30пар
A19: ='Прайс валюта'!A19 -> 350 | B19: ='Прайс валюта'!B19 -> 0100 | C19: ='Прайс валюта'!C19 -> Обмежувач ходу амортизатора для механізму підйому ліжка | D19: грн. | E19: =ROUND('Прайс валюта'!E19,0) -> 30 | F19: =ROUND('Прайс валюта'!F19,0) -> 27 | G19: ='Прайс валюта'!G19 -> 10шт | H19: =ROUND('Прайс валюта'!H19,0) -> 24 | I19: ='Прайс валюта'!I19 -> 50шт | J19: =ROUND('Прайс валюта'!J19,0) -> 21 | K19: ='Прайс валюта'!K19 -> 100шт
A20: ='Прайс валюта'!A20 -> 60 | B20: ='Прайс валюта'!B20 -> 0020 | C20: ='Прайс валюта'!C20 -> Обмежувач матрацу Твіст | D20: грн. | E20: =ROUND('Прайс валюта'!E20,0) -> 79 | F20: =ROUND('Прайс валюта'!F20,0) -> 67 | G20: 10шт | H20: =ROUND('Прайс валюта'!H20,0) -> 63 | I20: 50шт | J20: =ROUND('Прайс валюта'!J20,0) -> 55 | K20: 100шт
A21: ='Прайс валюта'!A21 -> 161 | B21: ='Прайс валюта'!B21 -> 0025/0030 | C21: ='Прайс валюта'!C21 -> Обмежувач матрацу Флеш цинк 25мм, 30мм | D21: грн. | E21: =ROUND('Прайс валюта'!E21,0) -> 68 | F21: =ROUND('Прайс валюта'!F21,0) -> 58 | G21: 10шт | H21: =ROUND('Прайс валюта'!H21,0) -> 54 | I21: 50шт | J21: =ROUND('Прайс валюта'!J21,0) -> 48 | K21: 100шт
A22: ='Прайс валюта'!A22 -> 161 | B22: ='Прайс валюта'!B22 -> 00251/00301 | C22: ='Прайс валюта'!C22 -> Обмежувач матрацу Флеш хром 25мм, 30мм | D22: грн. | E22: =ROUND('Прайс валюта'!E22,0) -> 120 | F22: =ROUND('Прайс валюта'!F22,0) -> 102 | G22: 10шт | H22: =ROUND('Прайс валюта'!H22,0) -> 96 | I22: 50шт | J22: =ROUND('Прайс валюта'!J22,0) -> 90 | K22: 100шт
A23: ='Прайс валюта'!A23 -> 0 | B23: ='Прайс валюта'!B23 -> 003205 | C23: Обмежувач матрацу Блек | D23: грн. | E23: =ROUND('Прайс валюта'!E23,0) -> 50 | F23: =ROUND('Прайс валюта'!F23,0) -> 45 | G23: 10шт | H23: =ROUND('Прайс валюта'!H23,0) -> 43 | I23: 50шт | J23: =ROUND('Прайс валюта'!J23,0) -> 40 | K23: 100шт
A24: ='Прайс валюта'!A24 -> 200 | B24: ='Прайс валюта'!B24 -> 01000б | C24: ='Прайс валюта'!C24 -> Ремінь для підйому каркасу чорна | D24: грн. | E24: =ROUND('Прайс валюта'!E24,0) -> 50 | F24: =ROUND('Прайс валюта'!F24,0) -> 43 | G24: 10шт | H24: =ROUND('Прайс валюта'!H24,0) -> 35 | I24: ='Прайс валюта'!I24 -> 30шт | J24: =ROUND('Прайс валюта'!J24,0) -> 33 | K24: ='Прайс валюта'!K24 -> 50шт
A25: 200 | B25: ='Прайс валюта'!B25 -> 01000ч | C25: ='Прайс валюта'!C25 -> Ремінь для підйому каркасу біла | D25: грн. | E25: =ROUND('Прайс валюта'!E25,0) -> 50 | F25: =ROUND('Прайс валюта'!F25,0) -> 43 | G25: 10шт | H25: =ROUND('Прайс валюта'!H25,0) -> 35 | I25: ='Прайс валюта'!I25 -> 30шт | J25: =ROUND('Прайс валюта'!J25,0) -> 33 | K25: ='Прайс валюта'!K25 -> 50шт
A26: ='Прайс валюта'!A26 -> 60 | B26: ='Прайс валюта'!B26 -> 7070 | C26: ='Прайс валюта'!C26 -> Кутник ліжка опорний оцинкований 7*7см | D26: грн. | E26: =ROUND('Прайс валюта'!E26,0) -> 14 | F26: ='Прайс валюта'!F26 -> 12.15 | G26: 10шт | H26: ='Прайс валюта'!H26 -> 11.475 | I26: 50шт | J26: ='Прайс валюта'!J26 -> 10.8 | K26: 100шт
A27: ='Прайс валюта'!A27 -> 60 | B27: ='Прайс валюта'!B27 -> 13513525 | C27: ='Прайс валюта'!C27 -> Кутник ліжка опорний сірий 13,5*13,5см | D27: грн. | E27: =ROUND('Прайс валюта'!E27,0) -> 78 | F27: =ROUND('Прайс валюта'!F27,0) -> 70 | G27: 10шт | H27: =ROUND('Прайс валюта'!H27,0) -> 66 | I27: 50шт | J27: ='Прайс валюта'!J27 -> 62.4 | K27: 100шт
A28: ='Прайс валюта'!A28 -> 55 | B28: ='Прайс валюта'!B28 -> 14014025 | C28: ='Прайс валюта'!C28 -> Кутник ліжка опорний сірий 14*14см | D28: грн. | E28: =ROUND('Прайс валюта'!E28,0) -> 78 | F28: =ROUND('Прайс валюта'!F28,0) -> 70 | G28: 10шт | H28: =ROUND('Прайс валюта'!H28,0) -> 66 | I28: 50шт | J28: =ROUND('Прайс валюта'!J28,0) -> 62 | K28: 100шт
A29: ='Прайс валюта'!A29 -> 60 | B29: ='Прайс валюта'!B29 -> 1601601 | C29: ='Прайс валюта'!C29 -> Кутник ліжка опорний чорний 16*16см | D29: грн. | E29: =ROUND('Прайс валюта'!E29,0) -> 90 | F29: =ROUND('Прайс валюта'!F29,0) -> 81 | G29: 10шт | H29: ='Прайс валюта'!H29 -> 76.5 | I29: 50шт | J29: ='Прайс валюта'!J29 -> 72 | K29: 100шт
A30: ='Прайс валюта'!A30 -> 60 | B30: ='Прайс валюта'!B30 -> 160160 | C30: ='Прайс валюта'!C30 -> Кутник ліжка опорний оцинкований 16*16см | D30: грн. | E30: =ROUND('Прайс валюта'!E30,0) -> 90 | F30: ='Прайс валюта'!F30 -> 81 | G30: 10шт | H30: ='Прайс валюта'!H30 -> 76.5 | I30: 50шт | J30: ='Прайс валюта'!J30 -> 72 | K30: 100шт
A31: ='Прайс валюта'!A31 -> 100 | B31: ='Прайс валюта'!B31 -> 4317 | C31: ='Прайс валюта'!C31 -> Демпфер гумовий, відбійник для металевого кутника | D31: грн. | E31: =ROUND('Прайс валюта'!E31,0) -> 8 | F31: ='Прайс валюта'!F31 -> 7.2 | G31: 10шт | H31: ='Прайс валюта'!H31 -> 6.48 | I31: 50шт | J31: ='Прайс валюта'!J31 -> 6 | K31: 100шт
A32: ='Прайс валюта'!A32 -> 70 | B32: ='Прайс валюта'!B32 -> 12034 | C32: ='Прайс валюта'!C32 -> Зачіп монтажний універсальний оцинкований | D32: грн. | E32: =ROUND('Прайс валюта'!E32,0) -> 32 | F32: ='Прайс валюта'!F32 -> 27.2 | G32: 10шт | H32: ='Прайс валюта'!H32 -> 25.6 | I32: 50шт | J32: ='Прайс валюта'!J32 -> 22.4 | K32: 100шт
A33: ='Прайс валюта'!A33 -> 46 | B33: ='Прайс валюта'!B33 -> 0043 | C33: ='Прайс валюта'!C33 -> Механізм підйому матраца М43 графіт (без амортизаторів), пара, (Укр) | D33: грн. | E33: =ROUND('Прайс валюта'!E33,0) -> 460 | F33: =ROUND('Прайс валюта'!F33,0) -> 414 | G33: ='Прайс валюта'!G33 -> 5пар | H33: =ROUND('Прайс валюта'!H33,0) -> 391 | I33: ='Прайс валюта'!I33 -> 10пар | J33: =ROUND('Прайс валюта'!J33,0) -> 368 | K33: ='Прайс валюта'!K33 -> 30пар
A34: ='Прайс валюта'!A34 -> 46 | B34: ='Прайс валюта'!B34 -> 00431 | C34: ='Прайс валюта'!C34 -> Механізм підйому матраца М43 білий (без амортизаторів), пара, (Укр) | D34: грн. | E34: =ROUND('Прайс валюта'!E34,0) -> 460 | F34: =ROUND('Прайс валюта'!F34,0) -> 414 | G34: ='Прайс валюта'!G34 -> 5пар | H34: =ROUND('Прайс валюта'!H34,0) -> 391 | I34: ='Прайс валюта'!I34 -> 10пар | J34: =ROUND('Прайс валюта'!J34,0) -> 368 | K34: ='Прайс валюта'!K34 -> 30пар
A35: ='Прайс валюта'!A35 -> 50 | B35: ='Прайс валюта'!B35 -> 0046 | C35: ='Прайс валюта'!C35 -> Механізм підйому матраца Eksan (без амортиз), пара, (Укр) | D35: грн. | E35: =ROUND('Прайс валюта'!E35*E2,0) -> 446 | F35: =ROUND('Прайс валюта'!F35*E2,0) -> 401 | G35: ='Прайс валюта'!G35 -> 5пар | H35: =ROUND('Прайс валюта'!H35*E2,0) -> 379 | I35: ='Прайс валюта'!I35 -> 10пар | J35: =ROUND('Прайс валюта'!J35*E2,0) -> 334 | K35: ='Прайс валюта'!K35 -> 30пар
A36: ='Прайс валюта'!A36 -> 55 | B36: ='Прайс валюта'!B36 -> 00461 | C36: ='Прайс валюта'!C36 -> Механізм підйому матраца Gasan чорний (без амортиз), пара, (Турц) | D36: грн. | E36: =ROUND('Прайс валюта'!E36*E3,0) -> 386 | F36: =ROUND('Прайс валюта'!F36*E3,0) -> 348 | G36: ='Прайс валюта'!G36 -> 5пар | H36: =ROUND('Прайс валюта'!H36*E3,0) -> 328 | I36: ='Прайс валюта'!I36 -> 10пар | J36: =ROUND('Прайс валюта'!J36*E3,0) -> 290 | K36: ='Прайс валюта'!K36 -> 30пар
A37: ='Прайс валюта'!A37 -> 55 | B37: ='Прайс валюта'!B37 -> 00462 | C37: ='Прайс валюта'!C37 -> Механізм підйому матраца Gasan білий (без амортиз), пара, (Турц) | D37: грн. | E37: =E36 -> 386 | F37: =ROUND('Прайс валюта'!F37*E3,0) -> 348 | G37: ='Прайс валюта'!G37 -> 5пар | H37: =ROUND('Прайс валюта'!H37*E3,0) -> 328 | I37: ='Прайс валюта'!I37 -> 10пар | J37: =ROUND('Прайс валюта'!J37*E3,0) -> 290 | K37: ='Прайс валюта'!K37 -> 30пар
A38: ='Прайс валюта'!A38 -> 50 | B38: ='Прайс валюта'!B38 -> 0045 | C38: ='Прайс валюта'!C38 -> Механізм підйому матраца М45 чорний (без амортизаторів) | D38: грн. | E38: =ROUND('Прайс валюта'!E38,0) -> 413 | F38: =ROUND('Прайс валюта'!F38,0) -> 372 | G38: ='Прайс валюта'!G38 -> 5пар | H38: =ROUND('Прайс валюта'!H38,0) -> 351 | I38: ='Прайс валюта'!I38 -> 10пар | J38: =ROUND('Прайс валюта'!J38,0) -> 310 | K38: ='Прайс валюта'!K38 -> 30пар
A39: ='Прайс валюта'!A39 -> 50 | B39: ='Прайс валюта'!B39 -> 00452 | C39: ='Прайс валюта'!C39 -> Механізм підйому матраца М45 Титан (без амортизаторів) | D39: грн. | E39: =ROUND('Прайс валюта'!E39,0) -> 413 | F39: =ROUND('Прайс валюта'!F39,0) -> 372 | G39: ='Прайс валюта'!G39 -> 5пар | H39: =ROUND('Прайс валюта'!H39,0) -> 351 | I39: ='Прайс валюта'!I39 -> 10пар | J39: =ROUND('Прайс валюта'!J39,0) -> 310 | K39: ='Прайс валюта'!K39 -> 30пар
B40: ='Прайс валюта'!B40 -> 0047 | C40: ='Прайс валюта'!C40 -> Механізм підйому матраца Фокстер (без амортизаторів) | D40: грн. | E40: 657 | F40: =E40*0.9 -> 591.3 | G40: ='Прайс валюта'!G40 -> 5пар | H40: =E40*0.85 -> 558.45 | I40: ='Прайс валюта'!I40 -> 10пар | J40: =E40*0.75 -> 492.75 | K40: ='Прайс валюта'!K40 -> 30пар
A41: ='Прайс валюта'!A41 -> 55 | B41: ='Прайс валюта'!B41 -> 00451 | C41: ='Прайс валюта'!C41 -> Механізм підйому матраца М45 Long (без амортизаторів), пара, (Укр) | D41: грн. | E41: =ROUND('Прайс валюта'!E41,0) -> 620 | F41: =ROUND('Прайс валюта'!F41,0) -> 558 | G41: ='Прайс валюта'!G41 -> 5пар | H41: =ROUND('Прайс валюта'!H41,0) -> 527 | I41: ='Прайс валюта'!I41 -> 10пар | J41: =ROUND('Прайс валюта'!J41,0) -> 465 | K41: ='Прайс валюта'!K41 -> 30пар
A42: ='Прайс валюта'!A42 -> 45 | B42: ='Прайс валюта'!B42 -> 0044 | C42: ='Прайс валюта'!C42 -> Механізм підйому матраца Himars чорний (без амортиз), пара, (Укр) | D42: грн. | E42: =ROUND('Прайс валюта'!E42,0) -> 770 | F42: =ROUND(E42*0.9,0) -> 693 | G42: ='Прайс валюта'!G42 -> 5пар | H42: =ROUND(E42*0.85,0) -> 655 | I42: ='Прайс валюта'!I42 -> 10пар | J42: =ROUND('Прайс валюта'!J42,0) -> 616 | K42: ='Прайс валюта'!K42 -> 30пар
B43: ='Прайс валюта'!B43 -> 00442 | C43: ='Прайс валюта'!C43 -> Механізм підйому матраца Himars титан (без амортиз), пара, (Укр) | D43: грн. | E43: =ROUND('Прайс валюта'!E43,0) -> 770 | F43: =ROUND(E43*0.9,0) -> 693 | G43: ='Прайс валюта'!G43 -> 5пар | H43: =ROUND(E43*0.85,0) -> 655 | I43: ='Прайс валюта'!I43 -> 10пар | J43: =ROUND('Прайс валюта'!J43,0) -> 616 | K43: ='Прайс валюта'!K43 -> 30пар
A44: ='Прайс валюта'!A44 -> 45 | B44: ='Прайс валюта'!B44 -> 0048 | C44: ='Прайс валюта'!C44 -> Механізм підйому матраца Samson (без амортиз), пара, (Укр) | D44: грн. | E44: =ROUND('Прайс валюта'!E44,0) -> 1230 | F44: =ROUND(E44*0.9,0) -> 1107 | G44: ='Прайс валюта'!G44 -> 5пар | H44: =ROUND(E44*0.85,0) -> 1046 | I44: ='Прайс валюта'!I44 -> 10пар | J44: =ROUND('Прайс валюта'!J44,0) -> 984 | K44: ='Прайс валюта'!K44 -> 30пар
A45: ='Прайс валюта'!A45 -> 60 | B45: ='Прайс валюта'!B45 -> 285(N) | C45: ='Прайс валюта'!C45 -> Газовий амортизатор L285мм (250,500,750,1000,1200,1500N), шт, (Турц) | D45: грн. | E45: =ROUND('Прайс валюта'!E45*'Прайс валюта'!E2,0) -> 216 | F45: =ROUND(E45*0.9,0) -> 194 | G45: ='Прайс валюта'!G45 -> 10шт | H45: =ROUND(E45*0.85,0) -> 184 | I45: ='Прайс валюта'!I45 -> 50шт | J45: =ROUND(E45*0.75,1) -> 162 | K45: ='Прайс валюта'!K45 -> 100шт
A46: ='Прайс валюта'!A46 -> 60 | B46: ='Прайс валюта'!B46 -> 365(N) | C46: ='Прайс валюта'!C46 -> Газовий амортизатор L360мм (350,450,750,1000,1000, 1200N), шт, (Турц) | D46: грн. | E46: =ROUND('Прайс валюта'!E46*'Прайс валюта'!E2,0) -> 126 | F46: =ROUND(E46*0.9,0) -> 113 | G46: ='Прайс валюта'!G46 -> 10шт | H46: =ROUND(E46*0.85,0) -> 107 | I46: ='Прайс валюта'!I46 -> 50шт | J46: =ROUND(E46*0.75,1) -> 94.5 | K46: ='Прайс валюта'!K46 -> 100шт
A47: ='Прайс валюта'!A47 -> 69 | B47: ='Прайс валюта'!B47 -> 3651500 | C47: ='Прайс валюта'!C47 -> Газовий амортизатор L360мм (250, 1500, 1800N), шт, (Турц) | D47: грн. | E47: =ROUND('Прайс валюта'!E47*'Прайс валюта'!E2,0) -> 137 | F47: =ROUND(E47*0.9,0) -> 123 | G47: ='Прайс валюта'!G47 -> 10шт | H47: =ROUND(E47*0.85,0) -> 116 | I47: ='Прайс валюта'!I47 -> 50шт | J47: =ROUND(E47*0.75,1) -> 102.8 | K47: ='Прайс валюта'!K47 -> 100шт
A48: ='Прайс валюта'!A48 -> 60 | B48: ='Прайс валюта'!B48 -> 405(N) | C48: ='Прайс валюта'!C48 -> Газовий амортизатор L405мм (250,500,600,800,1000,1200,1500N), шт, (Турц) | D48: грн. | E48: =ROUND('Прайс валюта'!E48*'Прайс валюта'!E2,0) -> 212 | F48: =ROUND(E48*0.9,0) -> 191 | G48: ='Прайс валюта'!G48 -> 10шт | H48: =ROUND(E48*0.85,0) -> 180 | I48: ='Прайс валюта'!I48 -> 50шт | J48: =ROUND(E48*0.75,1) -> 159 | K48: ='Прайс валюта'!K48 -> 100шт
A49: ='Прайс валюта'!A49 -> 50 | B49: ='Прайс валюта'!B49 -> 585(N) | C49: ='Прайс валюта'!C49 -> Газовий амортизатор L585мм (150,250;500,600,800,1000,1200,1500N), шт, (Турц) | D49: грн. | E49: =ROUND('Прайс валюта'!E49*'Прайс валюта'!E2,0) -> 288 | F49: =ROUND(E49*0.9,0) -> 259 | G49: 10шт | H49: =ROUND(E49*0.85,0) -> 245 | I49: 50шт | J49: =ROUND(E49*0.75,1) -> 216 | K49: 100шт
A50: ='Прайс валюта'!A50 -> 250 | B50: ='Прайс валюта'!B50 -> 00081 | C50: ='Прайс валюта'!C50 -> Кріплення амортизатора кутове | D50: грн. | E50: =ROUND('Прайс валюта'!E50,0) -> 50 | F50: =ROUND('Прайс валюта'!F50,0) -> 45 | G50: 10шт | H50: =ROUND('Прайс валюта'!H50,0) -> 40 | I50: 50шт | J50: =ROUND('Прайс валюта'!J50,0) -> 35 | K50: 100шт
A51: ='Прайс валюта'!A51 -> 250 | B51: ='Прайс валюта'!B51 -> 0008 | C51: ='Прайс валюта'!C51 -> Кріплення амортизатора пряме | D51: грн. | E51: =ROUND('Прайс валюта'!E51,0) -> 50 | F51: =ROUND('Прайс валюта'!F51,0) -> 45 | G51: 10шт | H51: =ROUND('Прайс валюта'!H50,0) -> 40 | I51: 50шт | J51: =ROUND('Прайс валюта'!J51,0) -> 35 | K51: 100шт
A52: ='Прайс валюта'!A52 -> 0 | B52: ='Прайс валюта'!B52 -> 0
F53: прайс-лист, гривня | I53: =I5 -> 15.10.2026р.
C54: Найменування | D54: =D6 -> Валюта | E54: =E6 -> Роздріб | F54: =F6 -> Опт 1 | G54: =G6 -> кількість | H54: =H6 -> Опт 2 | I54: =I6 -> кількість | J54: =J6 -> Опт 3 | K54: =K6 -> кількість
A55: ='Прайс валюта'!A55 -> 50 | B55: ='Прайс валюта'!B55 -> 0010 | C55: ='Прайс валюта'!C55 -> Механізм ліжка трансформера односп МТ10 б/а пара,компл. (Укр) | D55: грн. | E55: =ROUND('Прайс валюта'!E55,0) -> 1330 | F55: ='Прайс валюта'!F55 -> 1197 | G55: ='Прайс валюта'!G55 -> 3пар | H55: ='Прайс валюта'!H55 -> 1130.5 | I55: ='Прайс валюта'!I55 -> 5шт | J55: ='Прайс валюта'!J55 -> 1064 | K55: ='Прайс валюта'!K55 -> 20шт
A56: ='Прайс валюта'!A56 -> 50 | B56: ='Прайс валюта'!B56 -> 0010(N) | C56: ='Прайс валюта'!C56 -> Механізм ліжка трансформера односп МТ10 (250-1500N) пара,компл. (Укр) | D56: грн. | E56: ='Прайс валюта'!E56 -> 1582 | F56: ='Прайс валюта'!F56 -> 1423 | G56: ='Прайс валюта'!G56 -> 3пар | H56: ='Прайс валюта'!H56 -> 1344.5 | I56: ='Прайс валюта'!I56 -> 5шт | J56: ='Прайс валюта'!J56 -> 1254 | K56: ='Прайс валюта'!K56 -> 20шт
A57: ='Прайс валюта'!A57 -> 30 | B57: ='Прайс валюта'!B57 -> 0209 | C57: ='Прайс валюта'!C57 -> Механізм ліжка трансформера односп MLА209, пара, (Італ) | D57: грн. | E57: =ROUND('Прайс валюта'!E57*'Прайс валюта'!E3,0) -> 9940 | F57: =ROUND(E57*0.9,0) -> 8946 | G57: ='Прайс валюта'!G57 -> 3пар | H57: =ROUND(E57*0.85,0) -> 8449 | I57: ='Прайс валюта'!I57 -> 10пар | J57: х | K57: ='Прайс валюта'!K57 -> х
A58: ='Прайс валюта'!A58 -> 30 | B58: ='Прайс валюта'!B58 -> 1081 | C58: ='Прайс валюта'!C58 -> Механізм ліжка трансформера односп MLА108,1, пара, (Італ) | D58: грн. | E58: =ROUND('Прайс валюта'!E58*'Прайс валюта'!E3,0) -> 9940 | F58: =ROUND(E58*0.9,0) -> 8946 | G58: ='Прайс валюта'!G58 -> 3пар | H58: =ROUND(E58*0.85,0) -> 8449 | I58: ='Прайс валюта'!I58 -> 10пар | J58: х | K58: ='Прайс валюта'!K58 -> х
A59: ='Прайс валюта'!A59 -> 30 | B59: ='Прайс валюта'!B59 -> 1082 | C59: ='Прайс валюта'!C59 -> Механізм ліжка трансформера півторасп MLА108,2, пара, (Італ) | D59: грн. | E59: =ROUND('Прайс валюта'!E59*'Прайс валюта'!E3,0) -> 11433 | F59: =ROUND(E59*0.9,0) -> 10290 | G59: ='Прайс валюта'!G59 -> 3пар | H59: =ROUND(E59*0.85,0) -> 9718 | I59: ='Прайс валюта'!I59 -> 10пар | J59: х | K59: ='Прайс валюта'!K59 -> х
A60: ='Прайс валюта'!A60 -> 32 | B60: ='Прайс валюта'!B60 -> 1084 | C60: ='Прайс валюта'!C60 -> Механізм ліжка трансформера двосп MLА108,4, пара, (Італ) | D60: грн. | E60: =ROUND('Прайс валюта'!E60*'Прайс валюта'!E3,0) -> 12463 | F60: =ROUND(E60*0.9,0) -> 11217 | G60: ='Прайс валюта'!G60 -> 3пар | H60: =ROUND(E60*0.85,0) -> 10594 | I60: ='Прайс валюта'!I60 -> 10пар | J60: х | K60: ='Прайс валюта'!K60 -> х
A61: ='Прайс валюта'!A61 -> 0 | B61: ='Прайс валюта'!B61 -> 1086 | C61: ='Прайс валюта'!C61 -> Механізм ліжка трансформера двосп MLА108,6, пара, (Італ) | D61: грн. | E61: =ROUND('Прайс валюта'!E61*'Прайс валюта'!E3,0) -> 0 | F61: =ROUND(E61*0.95,0) -> 0 | G61: 3пар | H61: =ROUND(E61*0.9,0) -> 0 | I61: 10пар | J61: х | K61: х
A62: ='Прайс валюта'!A62 -> 35 | B62: ='Прайс валюта'!B62 -> 0107 | C62: ='Прайс валюта'!C62 -> Механізм ліжка трансформера двосп "Крафт", пара, (Укр) | D62: грн. | E62: =ROUND('Прайс валюта'!E62,0) -> 7390 | F62: =ROUND(E62*0.9,0) -> 6651 | G62: ='Прайс валюта'!G62 -> 3пар | H62: =ROUND(E62*0.85,0) -> 6282 | I62: ='Прайс валюта'!I62 -> 10пар | J62: х | K62: ='Прайс валюта'!K62 -> х
A63: ='Прайс валюта'!A63 -> 35 | B63: ='Прайс валюта'!B63 -> 0109 | C63: ='Прайс валюта'!C63 -> Механізм ліжка трансформера двосп "Крафт плюс", пара, (Укр) | D63: грн. | E63: ='Прайс валюта'!E63 -> 7990 | F63: =ROUND(E63*0.9,0) -> 7191 | G63: 3пар | H63: =ROUND(E63*0.85,0) -> 6792 | I63: 10пар | J63: х | K63: х
A64: ='Прайс валюта'!A64 -> 50 | B64: ='Прайс валюта'!B64 -> 49500 | C64: ='Прайс валюта'!C64 -> Механізм трансформації дивану єврокнижки "Тік Так" (крок 495) | D64: грн. | E64: =ROUND('Прайс валюта'!E64,0) -> 430 | F64: =ROUND(E64*0.9,0) -> 387 | G64: ='Прайс валюта'!G64 -> 5пар | H64: =ROUND(E64*0.85,0) -> 366 | I64: ='Прайс валюта'!I64 -> 10пар | J64: =ROUND(E64*0.8,0) -> 344 | K64: ='Прайс валюта'!K64 -> 30пар
A65: ='Прайс валюта'!A65 -> 50 | B65: ='Прайс валюта'!B65 -> 60000 | C65: ='Прайс валюта'!C65 -> Механізм трансформації дивану єврокнижки "Тік Так" (крок 600) | D65: грн. | E65: =ROUND('Прайс валюта'!E65,0) -> 440 | F65: =ROUND(E65*0.9,0) -> 396 | G65: ='Прайс валюта'!G65 -> 5пар | H65: =ROUND(E65*0.85,0) -> 374 | I65: ='Прайс валюта'!I65 -> 10пар | J65: =ROUND(E65*0.8,0) -> 352 | K65: ='Прайс валюта'!K65 -> 30пар
A66: ='Прайс валюта'!A66 -> 50 | B66: ='Прайс валюта'!B66 -> 10001 | C66: ='Прайс валюта'!C66 -> Штанга телеск. для механізму трансформації дивану єврокнижка "Тік Так" | D66: грн. | E66: =ROUND('Прайс валюта'!E66,0) -> 285 | F66: =ROUND(E66*0.9,0) -> 257 | G66: ='Прайс валюта'!G66 -> 5шт | H66: =ROUND(E66*0.85,0) -> 242 | I66: ='Прайс валюта'!I66 -> 10шт | J66: =ROUND(E66*0.8,0) -> 228 | K66: ='Прайс валюта'!K66 -> 30шт
A67: ='Прайс валюта'!A67 -> 55 | B67: 00780 | C67: Механізм дивану "Дельфін" 780мм | D67: грн. | E67: ='Прайс валюта'!E67 -> 595 | F67: ='Прайс валюта'!F67 -> 535.5 | G67: ='Прайс валюта'!G67 -> 5шт | H67: ='Прайс валюта'!H67 -> 505.75 | I67: ='Прайс валюта'!I67 -> 10шт | J67: ='Прайс валюта'!J67 -> 476 | K67: ='Прайс валюта'!K67 -> 30шт
A68: ='Прайс валюта'!A68 -> 60 | B68: ='Прайс валюта'!B68 -> 0255 | C68: ='Прайс валюта'!C68 -> Нога поворотно-відкидна нікель, вис. 255мм, пара, (Укр) | D68: грн. | E68: ='Прайс валюта'!E68 -> 1190 | F68: =ROUND(E68*0.9,0) -> 1071 | G68: ='Прайс валюта'!G68 -> 3пар | H68: =ROUND(E68*0.85,0) -> 1012 | I68: ='Прайс валюта'!I68 -> 10пар | J68: =ROUND(E68*0.75,0) -> 893 | K68: ='Прайс валюта'!K68 -> 20пар
A69: ='Прайс валюта'!A69 -> 60 | B69: ='Прайс валюта'!B69 -> 0450 | C69: ='Прайс валюта'!C69 -> Нога поворотно-відкидна нікель, вис. 450мм, пара, (Укр) | D69: грн. | E69: ='Прайс валюта'!E69 -> 1390 | F69: =ROUND(E69*0.9,0) -> 1251 | G69: ='Прайс валюта'!G69 -> 3пар | H69: =ROUND(E69*0.85,0) -> 1182 | I69: ='Прайс валюта'!I69 -> 10пар | J69: =ROUND(E69*0.75,0) -> 1043 | K69: ='Прайс валюта'!K69 -> 20пар
A70: ='Прайс валюта'!A70 -> 0 | B70: ='Прайс валюта'!B70 -> 0 | C70: ='Прайс валюта'!C70 -> Нога ліжка трансформера "Дует", вис. | D70: грн. | E70: =ROUND('Прайс валюта'!E70,0) -> 0 | F70: =ROUND(E70*0.95,0) -> 0 | G70: ='Прайс валюта'!G70 -> 3пар | H70: =ROUND(E70*0.85,0) -> 0 | I70: ='Прайс валюта'!I70 -> 10пар | J70: х | K70: х
A71: ='Прайс валюта'!A71 -> 0 | B71: ='Прайс валюта'!B71 -> 0 | C71: ='Прайс валюта'!C71 -> Нога ліжка трансформера "Дует", вис. | D71: грн. | E71: =ROUND('Прайс валюта'!E71,0) -> 0 | F71: =ROUND(E71*0.95,0) -> 0 | G71: ='Прайс валюта'!G71 -> 3пар | H71: =ROUND(E71*0.85,0) -> 0 | I71: ='Прайс валюта'!I71 -> 10пар | J71: х | K71: х
A72: ='Прайс валюта'!A72 -> 0 | B72: ='Прайс валюта'!B72 -> 0 | C72: ='Прайс валюта'!C72 -> Штанга з'єднювач ноги "Дует" | D72: грн. | E72: =ROUND('Прайс валюта'!E72,0) -> 0 | F72: =ROUND(E72*0.95,0) -> 0 | G72: ='Прайс валюта'!G72 -> 3шт | H72: =ROUND(E72*0.85,0) -> 0 | I72: ='Прайс валюта'!I72 -> 10шт | J72: х | K72: х
A73: ='Прайс валюта'!A73 -> 70 | B73: ='Прайс валюта'!B73 -> 0090 | C73: ='Прайс валюта'!C73 -> Ремінь ліжка односпального, пара | D73: грн. | E73: =ROUND('Прайс валюта'!E73,0) -> 90 | F73: =ROUND(E73*0.9,0) -> 81 | G73: ='Прайс валюта'!G73 -> 5пар | H73: =ROUND(E73*0.8,0) -> 72 | I73: ='Прайс валюта'!I73 -> 10пар | J73: =ROUND(E73*0.7,0) -> 63 | K73: ='Прайс валюта'!K73 -> 20пар
A74: ='Прайс валюта'!A74 -> 80 | B74: ='Прайс валюта'!B74 -> 0(довж,см) | C74: ='Прайс валюта'!C74 -> Ремінь ліжка двохспального, пара | D74: грн. | E74: =ROUND('Прайс валюта'!E74,0) -> 120 | F74: =ROUND(E74*0.9,0) -> 108 | G74: ='Прайс валюта'!G74 -> 5пар | H74: =ROUND(E74*0.8,0) -> 96 | I74: ='Прайс валюта'!I74 -> 10пар | J74: =ROUND(E74*0.7,0) -> 84 | K74: ='Прайс валюта'!K74 -> 20пар
B75: ='Прайс валюта'!B75 -> 0
A76: ='Прайс валюта'!A76 -> 30 | B76: ='Прайс валюта'!B76 -> 1620 | C76: ='Прайс валюта'!C76 -> Механізм журнал-обідн стола трансформера "Сігма",пара (Укр) | D76: грн. | E76: =ROUND('Прайс валюта'!E76,0) -> 2150 | F76: =ROUND('Прайс валюта'!F76,0) -> 2043 | G76: ='Прайс валюта'!G76 -> 5пар | H76: =ROUND('Прайс валюта'!H76,0) -> 1935 | I76: ='Прайс валюта'!I76 -> 10пар | J76: =ROUND('Прайс валюта'!J76,0) -> 1828 | K76: ='Прайс валюта'!K76 -> 20пар
A77: ='Прайс валюта'!A77 -> 40 | B77: ='Прайс валюта'!B77 -> 1630 | C77: ='Прайс валюта'!C77 -> Механізм журнально обіднього столу трансформера X-Fly (Укр) | D77: грн. | E77: =ROUND('Прайс валюта'!E77,0) -> 1200 | F77: =ROUND('Прайс валюта'!F77,0) -> 1080 | G77: 5шт | H77: =ROUND('Прайс валюта'!H77,0) -> 1020 | I77: 10шт | J77: =ROUND('Прайс валюта'!J77,0) -> 960 | K77: 20шт
A78: ='Прайс валюта'!A78 -> 40 | B78: ='Прайс валюта'!B78 -> 1640 | C78: ='Прайс валюта'!C78 -> Механізм для відкидного столу трансформера "Рембо"білий (Укр) | D78: грн. | E78: =ROUND('Прайс валюта'!E78,0) -> 2400 | F78: =ROUND('Прайс валюта'!F78,0) -> 2160 | G78: 5шт | H78: =ROUND('Прайс валюта'!H78,0) -> 2040 | I78: 10шт | J78: =ROUND('Прайс валюта'!J78,0) -> 1920 | K78: 20шт
B79: ='Прайс валюта'!B79 -> 1641 | C79: ='Прайс валюта'!C79 -> Механізм для відкидного столу трансформера "Рембо"сірий (Укр) | D79: грн. | E79: =ROUND('Прайс валюта'!E79,0) -> 2400 | F79: =ROUND('Прайс валюта'!F79,0) -> 2160 | G79: 5шт | H79: =ROUND('Прайс валюта'!H79,0) -> 2040 | I79: 10шт | J79: =ROUND('Прайс валюта'!J79,0) -> 1920 | K79: 20шт
B80: ='Прайс валюта'!B80 -> 1642 | C80: ='Прайс валюта'!C80 -> Механізм для відкидного столу трансформера "Рембо"чорний (Укр) | D80: грн. | E80: =ROUND('Прайс валюта'!E80,0) -> 2400 | F80: =ROUND('Прайс валюта'!F80,0) -> 2160 | G80: 5шт | H80: =ROUND('Прайс валюта'!H80,0) -> 2040 | I80: 10шт | J80: =ROUND('Прайс валюта'!J80,0) -> 1920 | K80: 20шт
A81: ='Прайс валюта'!A81 -> - | B81: ='Прайс валюта'!B81 -> 0040К | C81: ='Прайс валюта'!C81 -> Комплект коліс для стола трансформера Сігма (4шт.) | D81: грн. | E81: =ROUND('Прайс валюта'!E81,0) -> 398 | F81: =ROUND('Прайс валюта'!F81,0) -> 358 | G81: ='Прайс валюта'!G81 -> 5комп. | H81: =ROUND('Прайс валюта'!H81,0) -> 338 | I81: ='Прайс валюта'!I81 -> 10ком. | J81: =ROUND('Прайс валюта'!J81,0) -> 318 | K81: ='Прайс валюта'!K81 -> 50ком.
A82: ='Прайс валюта'!A82 -> 50+1 | B82: ='Прайс валюта'!B82 -> 0040 | C82: ='Прайс валюта'!$C$82 -> Колесо зі стопором d40мм М8, шт. | D82: грн. | E82: =ROUND('Прайс валюта'!E82,0) -> 86 | F82: =ROUND('Прайс валюта'!F82,0) -> 77 | G82: ='Прайс валюта'!G82 -> 20шт | H82: =ROUND('Прайс валюта'!H82,1) -> 73.1 | I82: ='Прайс валюта'!I82 -> 50шт | J82: =ROUND('Прайс валюта'!J82,1) -> 68.8 | K82: ='Прайс валюта'!K82 -> 100шт
A83: ='Прайс валюта'!A83 -> 44 | B83: ='Прайс валюта'!B83 -> 0041 | C83: ='Прайс валюта'!C83 -> Колесо на платформі зі стопором d40мм Альфа, шт | D83: грн. | E83: ='Прайс валюта'!E83 -> 15 | F83: ='Прайс валюта'!F83 -> 13.5 | G83: ='Прайс валюта'!G83 -> 20шт | H83: ='Прайс валюта'!H83 -> 12.75 | I83: ='Прайс валюта'!I83 -> 50шт | J83: ='Прайс валюта'!J83 -> 12 | K83: ='Прайс валюта'!K83 -> 100шт
A84: ='Прайс валюта'!A84 -> 100 | B84: ='Прайс валюта'!B84 -> 0050 | C84: ='Прайс валюта'!C84 -> Колесо на платформі з стопором силіконове d50 мм GTV | D84: грн. | E84: =ROUND('Прайс валюта'!E84*'Прайс валюта'!E2,0) -> 86 | F84: =ROUND(E84*0.9,0) -> 77 | G84: ='Прайс валюта'!G84 -> 20шт | H84: =ROUND(E84*0.85,1) -> 73.1 | I84: ='Прайс валюта'!I84 -> 50шт | J84: =ROUND(E84*0.8,1) -> 68.8 | K84: ='Прайс валюта'!K84 -> 100шт
A85: ='Прайс валюта'!A85 -> 60 | B85: ='Прайс валюта'!B85 -> 0500 | C85: ='Прайс валюта'!C85 -> Механізм журнальн стола-трансформера "Focus",пара,(Укр) | D85: грн. | E85: =ROUND('Прайс валюта'!E85,0) -> 520 | F85: =ROUND(E85*0.9,0) -> 468 | G85: ='Прайс валюта'!G85 -> 5пар | H85: =ROUND(E85*0.85,0) -> 442 | I85: ='Прайс валюта'!I85 -> 10пар | J85: =ROUND(E85*0.8,0) -> 416 | K85: ='Прайс валюта'!K85 -> 30пар
A86: ='Прайс валюта'!A86 -> 70 | B86: ='Прайс валюта'!B86 -> 0501 | C86: ='Прайс валюта'!C86 -> Механізм журнального стола-трансформера "Koper",пара,(Тур) | D86: грн. | E86: =ROUND('Прайс валюта'!E86*'Прайс валюта'!E2,0) -> 459 | F86: =ROUND(E86*0.9,0) -> 413 | G86: ='Прайс валюта'!G86 -> 5пар | H86: =ROUND(E86*0.85,0) -> 390 | I86: ='Прайс валюта'!I86 -> 10пар | J86: =ROUND(E86*0.8,0) -> 367 | K86: ='Прайс валюта'!K86 -> 30пар
A87: ='Прайс валюта'!A87 -> 50 | B87: ='Прайс валюта'!B87 -> 0502 | C87: ='Прайс валюта'!C87 -> Механізм журнального стола-трансформера "Shrek",пара,(Тур) | D87: грн. | E87: =ROUND('Прайс валюта'!E87*'Прайс валюта'!E2,0) -> 657 | F87: =ROUND(E87*0.9,0) -> 591 | G87: ='Прайс валюта'!G87 -> 5пар | H87: =ROUND(E87*0.85,0) -> 558 | I87: ='Прайс валюта'!I87 -> 10пар | J87: =ROUND(E87*0.8,0) -> 526 | K87: ='Прайс валюта'!K87 -> 30пар
A88: ='Прайс валюта'!A88 -> 40 | B88: ='Прайс валюта'!B88 -> 00102 | C88: ='Прайс валюта'!C88 -> Завіс циліндричний D10мм, DC,шт, (Китай) | D88: грн. | E88: =ROUND('Прайс валюта'!E88*'Прайс валюта'!E2,0) -> 77 | F88: =ROUND(E88*0.9,0) -> 69 | G88: ='Прайс валюта'!G88 -> 20шт | H88: =ROUND(E88*0.85,1) -> 65.5 | I88: ='Прайс валюта'!I88 -> 50шт | J88: =ROUND(E88*0.8,1) -> 61.6 | K88: ='Прайс валюта'!K88 -> 100шт
A89: ='Прайс валюта'!A89 -> 40 | B89: ='Прайс валюта'!B89 -> 0012 | C89: ='Прайс валюта'!C89 -> Завіс циліндричний D12мм, DC,шт, (Китай) | D89: грн. | E89: =ROUND('Прайс валюта'!E89*'Прайс валюта'!E2,0) -> 77 | F89: =ROUND(E89*0.9,0) -> 69 | G89: ='Прайс валюта'!G89 -> 20шт | H89: =ROUND(E89*0.85,1) -> 65.5 | I89: ='Прайс валюта'!I89 -> 50шт | J89: =ROUND(E89*0.8,1) -> 61.6 | K89: ='Прайс валюта'!K89 -> 100шт
A90: ='Прайс валюта'!A90 -> 40 | B90: ='Прайс валюта'!B90 -> 0014 | C90: ='Прайс валюта'!C90 -> Завіс циліндричний D14мм, DC,шт, (Китай) | D90: грн. | E90: =ROUND('Прайс валюта'!E90*'Прайс валюта'!E2,0) -> 79 | F90: =ROUND(E90*0.9,0) -> 71 | G90: ='Прайс валюта'!G90 -> 20шт | H90: =ROUND(E90*0.85,1) -> 67.2 | I90: ='Прайс валюта'!I90 -> 50шт | J90: =ROUND(E90*0.8,1) -> 63.2 | K90: ='Прайс валюта'!K90 -> 100шт
A91: ='Прайс валюта'!A91 -> 0 | B91: ='Прайс валюта'!B91 -> 00101 | C91: ='Прайс валюта'!C91 -> Завіс циліндричний D10мм, Siso,шт, (Данія) | D91: грн. | E91: =ROUND('Прайс валюта'!E91*'Прайс валюта'!E3,0) -> 0 | F91: =ROUND(E91*0.9,0) -> 0 | G91: ='Прайс валюта'!G91 -> 20шт | H91: =ROUND(E91*0.85,1) -> 0 | I91: ='Прайс валюта'!I91 -> 50шт | J91: =ROUND(E91*0.8,1) -> 0 | K91: ='Прайс валюта'!K91 -> 100шт
A92: ='Прайс валюта'!A92 -> 0 | B92: ='Прайс валюта'!B92 -> 00121 | C92: ='Прайс валюта'!C92 -> Завіс циліндричний D12мм, Siso,шт, (Данія) | D92: грн. | E92: =ROUND('Прайс валюта'!E92*'Прайс валюта'!E3,0) -> 0 | F92: =ROUND(E92*0.9,0) -> 0 | G92: ='Прайс валюта'!G92 -> 20шт | H92: =ROUND(E92*0.85,1) -> 0 | I92: ='Прайс валюта'!I92 -> 50шт | J92: =ROUND(E92*0.8,1) -> 0 | K92: ='Прайс валюта'!K92 -> 100шт
A93: ='Прайс валюта'!A93 -> 40 | B93: ='Прайс валюта'!B93 -> 00141 | C93: ='Прайс валюта'!C93 -> Завіс циліндричний D14мм, Siso,шт, (Данія) | D93: грн. | E93: =ROUND('Прайс валюта'!E93*'Прайс валюта'!E3,0) -> 117 | F93: =ROUND(E93*0.9,0) -> 105 | G93: ='Прайс валюта'!G93 -> 20шт | H93: =ROUND(E93*0.85,1) -> 99.5 | I93: ='Прайс валюта'!I93 -> 50шт | J93: =ROUND(E93*0.8,1) -> 93.6 | K93: ='Прайс валюта'!K93 -> 100шт
A94: ='Прайс валюта'!A94 -> 0 | B94: 00161 | C94: ='Прайс валюта'!C94 -> Завіс циліндричний D16мм, Siso,шт, (Данія) | D94: грн. | E94: =ROUND('Прайс валюта'!E94*'Прайс валюта'!E4,0) -> 0 | F94: =ROUND(E94*0.9,0) -> 0 | G94: 20шт | H94: =ROUND(E94*0.85,0) -> 0 | I94: 50шт | J94: =ROUND(E94*0.8,0) -> 0 | K94: 100шт
A95: ='Прайс валюта'!A95 -> 40 | B95: ='Прайс валюта'!B95 -> 00300 | C95: ='Прайс валюта'!C95 -> Завіс врізний шарнірний BM, шт, (Китай) | D95: грн. | E95: =ROUND('Прайс валюта'!E95*'Прайс валюта'!E2,0) -> 47 | F95: =ROUND(E95*0.9,0) -> 42 | G95: 20шт | H95: =ROUND(E95*0.85,0) -> 40 | I95: 50шт | J95: =ROUND(E95*0.8,0) -> 38 | K95: 100шт
A96: ='Прайс валюта'!A96 -> 50 | B96: ='Прайс валюта'!B96 -> 00302 | C96: ='Прайс валюта'!C96 -> Завіс врізний шарнірний MMP (сатин), шт. | D96: грн. | E96: =ROUND('Прайс валюта'!E96*'Прайс валюта'!E3,0) -> 103 | F96: =ROUND(E96*0.9,0) -> 93 | G96: ='Прайс валюта'!G96 -> 20шт | H96: =ROUND(E96*0.85,0) -> 88 | I96: ='Прайс валюта'!I96 -> 50шт | J96: =ROUND(E96*0.8,0) -> 82 | K96: ='Прайс валюта'!K96 -> 100шт
A97: ='Прайс валюта'!A97 -> 40 | B97: ='Прайс валюта'!B97 -> 00303 | C97: ='Прайс валюта'!C97 -> Завіс врізний шарнірний MMP (золото), шт. | D97: грн. | E97: =ROUND('Прайс валюта'!E97*'Прайс валюта'!E3,0) -> 108 | F97: =ROUND(E97*0.9,0) -> 97 | G97: ='Прайс валюта'!G97 -> 20шт | H97: =ROUND(E97*0.85,0) -> 92 | I97: ='Прайс валюта'!I97 -> 50шт | J97: =ROUND(E97*0.8,0) -> 86 | K97: ='Прайс валюта'!K97 -> 100шт
B98: ='Прайс валюта'!B98 -> 00304 | C98: ='Прайс валюта'!C98 -> Завіс врізний шарнірний MMP (темно коричн), шт. | D98: грн. | E98: =ROUND('Прайс валюта'!E98*'Прайс валюта'!E3,0) -> 108 | F98: =ROUND(E98*0.9,0) -> 97 | G98: ='Прайс валюта'!G98 -> 20шт | H98: =ROUND(E98*0.85,0) -> 92 | I98: ='Прайс валюта'!I98 -> 50шт | J98: =ROUND(E98*0.8,0) -> 86 | K98: ='Прайс валюта'!K98 -> 100шт
B99: ='Прайс валюта'!B99 -> 00305 | C99: ='Прайс валюта'!C99 -> Завіс врізний шарнірний Siso (золото), шт, (Данія) | D99: грн. | E99: =ROUND('Прайс валюта'!E99*'Прайс валюта'!E3,0) -> 252 | F99: =ROUND(E99*0.9,0) -> 227 | G99: 20шт | H99: =ROUND(E99*0.85,0) -> 214 | I99: 50шт | J99: =ROUND(E99*0.8,0) -> 202 | K99: 100шт
B100: ='Прайс валюта'!B100 -> 11301 | C100: Накладна металева петля 40*90 | D100: грн. | E100: ='Прайс валюта'!E100 -> 22 | F100: ='Прайс валюта'!F100 -> 19.8 | G100: 20шт | H100: ='Прайс валюта'!H100 -> 18.7 | I100: 50шт | J100: ='Прайс валюта'!J100 -> 17.6 | K100: 100шт
...

Sheet Імпорт
A1: Код товару | B1: Назва товару | C1: Ціна роздріб | D1: Опт 1 | E1: К-ть | F1: Опт 2 | G1: К-ть | H1: Опт 3 | I1: К-ть | J1: Епіцентр | K1: К-ть | L1: Пром ID | M1: Збіг кодів з АБ
A2: 285250 | B2: Газовий амортизатор 300мм 250N | C2: ='Прайс гривня'!$E$45 -> 216 | D2: ='Прайс гривня'!$F$45 -> 194 | E2: 10 | F2: ='Прайс гривня'!$H$45 -> 184 | G2: 50 | H2: ='Прайс гривня'!$J$45 -> 162 | I2: 100 | J2: =ROUND(C2*1.15,0) -> 248 | K2: 1 | L2: 904595652 | M2: +
A3: 285500 | B3: Газовий амортизатор 300мм 500N | C3: ='Прайс гривня'!$E$45 -> 216 | D3: ='Прайс гривня'!$F$45 -> 194 | E3: 10 | F3: ='Прайс гривня'!$H$45 -> 184 | G3: 50 | H3: ='Прайс гривня'!$J$45 -> 162 | I3: 100 | J3: =ROUND(C3*1.15,0) -> 248 | K3: 1 | L3: 1171546647 | M3: +
A4: 285750 | B4: Газовий амортизатор 300мм 750N | C4: ='Прайс гривня'!$E$45 -> 216 | D4: ='Прайс гривня'!$F$45 -> 194 | E4: 10 | F4: ='Прайс гривня'!$H$45 -> 184 | G4: 50 | H4: ='Прайс гривня'!$J$45 -> 162 | I4: 100 | J4: =ROUND(C4*1.15,0) -> 248 | K4: 1 | L4: 1171546648 | M4: +
A5: 2851000 | B5: Газовий амортизатор 300мм 1000N | C5: ='Прайс гривня'!$E$45 -> 216 | D5: ='Прайс гривня'!$F$45 -> 194 | E5: 10 | F5: ='Прайс гривня'!$H$45 -> 184 | G5: 50 | H5: ='Прайс гривня'!$J$45 -> 162 | I5: 100 | J5: =ROUND(C5*1.15,0) -> 248 | K5: 1 | L5: 1171546649 | M5: +
A6: 2851200 | B6: Газовий амортизатор 300мм 1200N | C6: ='Прайс гривня'!$E$45 -> 216 | D6: ='Прайс гривня'!$F$45 -> 194 | E6: 10 | F6: ='Прайс гривня'!$H$45 -> 184 | G6: 50 | H6: ='Прайс гривня'!$J$45 -> 162 | I6: 100 | J6: =ROUND(C6*1.15,0) -> 248 | K6: 1 | L6: 1171546650 | M6: +
A7: 2851500 | B7: Газовий амортизатор 300мм 1500N | C7: ='Прайс гривня'!$E$45 -> 216 | D7: ='Прайс гривня'!$F$45 -> 194 | E7: 10 | F7: ='Прайс гривня'!$H$45 -> 184 | G7: 50 | H7: ='Прайс гривня'!$J$45 -> 162 | I7: 100 | J7: =ROUND(C7*1.15,0) -> 248 | K7: 1 | L7: 1171546651 | M7: +
A8: 285250008 | B8: Комплект газового амортизатор 285-300мм з кріпленнями М8, 250N | C8: ='Прайс гривня'!E45+'Прайс гривня'!E50+'Прайс гривня'!E$51 -> 316 | D8: ='Прайс гривня'!F45+'Прайс гривня'!F50+'Прайс гривня'!F51 -> 284 | E8: 5 | F8: ='Прайс гривня'!H45+'Прайс гривня'!H50+'Прайс гривня'!H51 -> 264 | G8: 10 | H8: ='Прайс гривня'!J45+'Прайс гривня'!J50+'Прайс гривня'!J51 -> 232 | I8: 30 | J8: =ROUND(C8*1.15,0) -> 363 | K8: 1 | L8: 2899145154 | M8: +
A9: 285500008 | B9: Комплект газового амортизатор 285-300мм з кріпленнями М8, 500N | C9: ='Прайс гривня'!E45+'Прайс гривня'!E50+'Прайс гривня'!E$51 -> 316 | D9: ='Прайс гривня'!F45+'Прайс гривня'!F50+'Прайс гривня'!F51 -> 284 | E9: 5 | F9: ='Прайс гривня'!H45+'Прайс гривня'!H50+'Прайс гривня'!H51 -> 264 | G9: 10 | H9: ='Прайс гривня'!J45+'Прайс гривня'!J50+'Прайс гривня'!J51 -> 232 | I9: 30 | J9: =ROUND(C9*1.15,0) -> 363 | K9: 1 | L9: 2899145155 | M9: +
A10: 285750008 | B10: Комплект газового амортизатор 285-300мм з кріпленнями М8, 750N | C10: ='Прайс гривня'!E45+'Прайс гривня'!E50+'Прайс гривня'!E$51 -> 316 | D10: ='Прайс гривня'!F45+'Прайс гривня'!F50+'Прайс гривня'!F51 -> 284 | E10: 5 | F10: ='Прайс гривня'!H45+'Прайс гривня'!H50+'Прайс гривня'!H51 -> 264 | G10: 10 | H10: ='Прайс гривня'!J45+'Прайс гривня'!J50+'Прайс гривня'!J51 -> 232 | I10: 30 | J10: =ROUND(C10*1.15,0) -> 363 | K10: 1 | L10: 2899145157 | M10: +
A11: 2851000008 | B11: Комплект газового амортизатор 285-300мм з кріпленнями М8, 1000N | C11: ='Прайс гривня'!E45+'Прайс гривня'!E50+'Прайс гривня'!E$51 -> 316 | D11: ='Прайс гривня'!F45+'Прайс гривня'!F50+'Прайс гривня'!F51 -> 284 | E11: 5 | F11: ='Прайс гривня'!H45+'Прайс гривня'!H50+'Прайс гривня'!H51 -> 264 | G11: 10 | H11: ='Прайс гривня'!J45+'Прайс гривня'!J50+'Прайс гривня'!J51 -> 232 | I11: 30 | J11: =ROUND(C11*1.15,0) -> 363 | K11: 1 | L11: 2899145158 | M11: +
A12: 2851200008 | B12: Комплект газового амортизатор 285-300мм з кріпленнями М8, 1200N | C12: ='Прайс гривня'!E45+'Прайс гривня'!E50+'Прайс гривня'!E$51 -> 316 | D12: ='Прайс гривня'!F45+'Прайс гривня'!F50+'Прайс гривня'!F51 -> 284 | E12: 5 | F12: ='Прайс гривня'!H45+'Прайс гривня'!H50+'Прайс гривня'!H51 -> 264 | G12: 10 | H12: ='Прайс гривня'!J45+'Прайс гривня'!J50+'Прайс гривня'!J51 -> 232 | I12: 30 | J12: =ROUND(C12*1.15,0) -> 363 | K12: 1 | L12: 2899145159 | M12: +
A13: 2851500008 | B13: Комплект газового амортизатор 285-300мм з кріпленнями М8, 1500N | C13: ='Прайс гривня'!E45+'Прайс гривня'!E50+'Прайс гривня'!E$51 -> 316 | D13: ='Прайс гривня'!F45+'Прайс гривня'!F50+'Прайс гривня'!F51 -> 284 | E13: 5 | F13: ='Прайс гривня'!H45+'Прайс гривня'!H50+'Прайс гривня'!H51 -> 264 | G13: 10 | H13: ='Прайс гривня'!J45+'Прайс гривня'!J50+'Прайс гривня'!J51 -> 232 | I13: 30 | J13: =ROUND(C13*1.15,0) -> 363 | K13: 1 | L13: 2899145160 | M13: +
A14: 365250 | B14: Газовий амортизатор 380мм 250N | C14: ='Прайс гривня'!$E$47 -> 137 | D14: ='Прайс гривня'!$F$47 -> 123 | E14: 10 | F14: ='Прайс гривня'!$H$47 -> 116 | G14: 50 | H14: ='Прайс гривня'!$J$47 -> 102.8 | I14: 100 | J14: =ROUND(C14*1.15,0) -> 158 | K14: 1 | L14: 1171518449 | M14: +
A15: 365350 | B15: Газовий амортизатор 380мм 350N | C15: ='Прайс гривня'!$E$46 -> 126 | D15: ='Прайс гривня'!$F$46 -> 113 | E15: 10 | F15: ='Прайс гривня'!$H$46 -> 107 | G15: 50 | H15: ='Прайс гривня'!$J$46 -> 94.5 | I15: 100 | J15: =ROUND(C15*1.15,0) -> 145 | K15: 1 | L15: 55962645 | M15: +
A16: 365450 | B16: Газовий амортизатор 380мм 450N | C16: ='Прайс гривня'!$E$46 -> 126 | D16: ='Прайс гривня'!$F$46 -> 113 | E16: 10 | F16: ='Прайс гривня'!$H$46 -> 107 | G16: 50 | H16: ='Прайс гривня'!$J$46 -> 94.5 | I16: 100 | J16: =ROUND(C16*1.15,0) -> 145 | K16: 1 | L16: 1171518451 | M16: +
A17: 365750 | B17: Газовий амортизатор 380мм 750N | C17: ='Прайс гривня'!$E$46 -> 126 | D17: ='Прайс гривня'!$F$46 -> 113 | E17: 10 | F17: ='Прайс гривня'!$H$46 -> 107 | G17: 50 | H17: ='Прайс гривня'!$J$46 -> 94.5 | I17: 100 | J17: =ROUND(C17*1.15,0) -> 145 | K17: 1 | L17: 1171518452 | M17: +
A18: 3651000 | B18: Газовий амортизатор 380мм 1000N | C18: ='Прайс гривня'!$E$46 -> 126 | D18: ='Прайс гривня'!$F$46 -> 113 | E18: 10 | F18: ='Прайс гривня'!$H$46 -> 107 | G18: 50 | H18: ='Прайс гривня'!$J$46 -> 94.5 | I18: 100 | J18: =ROUND(C18*1.15,0) -> 145 | K18: 1 | L18: 1171518453 | M18: +
A19: 3651200 | B19: Газовий амортизатор 380мм 1200N | C19: ='Прайс гривня'!$E$46 -> 126 | D19: =D18 -> 113 | E19: 10 | F19: =F18 -> 107 | G19: 50 | H19: =H18 -> 94.5 | I19: 100 | J19: =ROUND(C19*1.15,0) -> 145 | K19: 1 | L19: 1171518454 | M19: +
A20: 3651500 | B20: Газовий амортизатор 380мм 1500N | C20: ='Прайс гривня'!E47 -> 137 | D20: ='Прайс гривня'!F47 -> 123 | E20: 10 | F20: ='Прайс гривня'!H47 -> 116 | G20: 50 | H20: ='Прайс гривня'!J47 -> 102.8 | I20: 100 | J20: =ROUND(C20*1.15,0) -> 158 | K20: 1 | L20: 1171518455 | M20: +
A21: 3651800 | B21: Газовий амортизатор 380мм 1800N | C21: ='Прайс гривня'!E47 -> 137 | D21: ='Прайс гривня'!F47 -> 123 | E21: 10 | F21: ='Прайс гривня'!H47 -> 116 | G21: 50 | H21: ='Прайс гривня'!J47 -> 102.8 | I21: 100 | J21: =ROUND(C21*1.15,0) -> 158 | K21: 1 | L21: 2571013296 | M21: +
A22: 365250008 | B22: Комплект газового амортизатор 365-380мм з кріпленнями М8, 250N | C22: ='Прайс гривня'!E47+'Прайс гривня'!E50+'Прайс гривня'!E51 -> 237 | D22: ='Прайс гривня'!F47+'Прайс гривня'!F50+'Прайс гривня'!F51 -> 213 | E22: 5 | F22: ='Прайс гривня'!H47+'Прайс гривня'!H50+'Прайс гривня'!H51 -> 196 | G22: 10 | H22: ='Прайс гривня'!J47+'Прайс гривня'!J50+'Прайс гривня'!J51 -> 172.8 | I22: 30 | J22: =ROUND(C22*1.15,0) -> 273 | K22: 1 | L22: 1754258548 | M22: +
A23: 365350008 | B23: Комплект газового амортизатор 365-380мм з кріпленнями М8, 350N | C23: ='Прайс гривня'!E46+'Прайс гривня'!E50+'Прайс гривня'!E51 -> 226 | D23: ='Прайс гривня'!F46+'Прайс гривня'!F50+'Прайс гривня'!F51 -> 203 | E23: 5 | F23: ='Прайс гривня'!H46+'Прайс гривня'!H50+'Прайс гривня'!H51 -> 187 | G23: 10 | H23: ='Прайс гривня'!J46+'Прайс гривня'!J50+'Прайс гривня'!J51 -> 164.5 | I23: 30 | J23: =ROUND(C23*1.15,0) -> 260 | K23: 1 | L23: 2930777551 | M23: +
A24: 365450008 | B24: Комплект газового амортизатор 365-380мм з кріпленнями М8, 450N | C24: ='Прайс гривня'!E46+'Прайс гривня'!E50+'Прайс гривня'!E51 -> 226 | D24: ='Прайс гривня'!F46+'Прайс гривня'!F50+'Прайс гривня'!F51 -> 203 | E24: 5 | F24: ='Прайс гривня'!H46+'Прайс гривня'!H50+'Прайс гривня'!H51 -> 187 | G24: 10 | H24: ='Прайс гривня'!J46+'Прайс гривня'!J50+'Прайс гривня'!J51 -> 164.5 | I24: 30 | J24: =ROUND(C24*1.15,0) -> 260 | K24: 1 | L24: 2930777552 | M24: +
A25: 365750008 | B25: Комплект газового амортизатор 365-380мм з кріпленнями М8, 750N | C25: ='Прайс гривня'!E46+'Прайс гривня'!E50+'Прайс гривня'!E51 -> 226 | D25: ='Прайс гривня'!F46+'Прайс гривня'!F50+'Прайс гривня'!F51 -> 203 | E25: 5 | F25: ='Прайс гривня'!H46+'Прайс гривня'!H50+'Прайс гривня'!H51 -> 187 | G25: 10 | H25: ='Прайс гривня'!J46+'Прайс гривня'!J50+'Прайс гривня'!J51 -> 164.5 | I25: 30 | J25: =ROUND(C25*1.15,0) -> 260 | K25: 1 | L25: 2930777553 | M25: +
A26: 3651000008 | B26: Комплект газового амортизатор 365-380мм з кріпленнями М8, 1000N | C26: ='Прайс гривня'!E46+'Прайс гривня'!E50+'Прайс гривня'!E51 -> 226 | D26: ='Прайс гривня'!F46+'Прайс гривня'!F50+'Прайс гривня'!F51 -> 203 | E26: 5 | F26: ='Прайс гривня'!H46+'Прайс гривня'!H50+'Прайс гривня'!H51 -> 187 | G26: 10 | H26: ='Прайс гривня'!J46+'Прайс гривня'!J50+'Прайс гривня'!J51 -> 164.5 | I26: 30 | J26: =ROUND(C26*1.15,0) -> 260 | K26: 1 | L26: 2930777554 | M26: +
A27: 3651200008 | B27: Комплект газового амортизатор 365-380мм з кріпленнями М8, 1200N | C27: ='Прайс гривня'!E46+'Прайс гривня'!E50+'Прайс гривня'!E51 -> 226 | D27: ='Прайс гривня'!F46+'Прайс гривня'!F50+'Прайс гривня'!F51 -> 203 | E27: 5 | F27: ='Прайс гривня'!H46+'Прайс гривня'!H50+'Прайс гривня'!H51 -> 187 | G27: 10 | H27: ='Прайс гривня'!J46+'Прайс гривня'!J50+'Прайс гривня'!J51 -> 164.5 | I27: 30 | J27: =ROUND(C27*1.15,0) -> 260 | K27: 1 | L27: 2930777555 | M27: +
A28: 3651500008 | B28: Комплект газового амортизатор 365-380мм з кріпленнями М8, 1500N | C28: ='Прайс гривня'!E47+'Прайс гривня'!E50+'Прайс гривня'!E51 -> 237 | D28: ='Прайс гривня'!F47+'Прайс гривня'!F50+'Прайс гривня'!F51 -> 213 | E28: 5 | F28: ='Прайс гривня'!H47+'Прайс гривня'!H50+'Прайс гривня'!H51 -> 196 | G28: 10 | H28: ='Прайс гривня'!J47+'Прайс гривня'!J50+'Прайс гривня'!J51 -> 172.8 | I28: 30 | J28: =ROUND(C28*1.15,0) -> 273 | K28: 1 | L28: 2930777556 | M28: +
A29: 3651800008 | B29: Комплект газового амортизатор 365-380мм з кріпленнями М8, 1800N | C29: ='Прайс гривня'!E47+'Прайс гривня'!E50+'Прайс гривня'!E51 -> 237 | D29: ='Прайс гривня'!F47+'Прайс гривня'!F50+'Прайс гривня'!F51 -> 213 | E29: 5 | F29: ='Прайс гривня'!H47+'Прайс гривня'!H50+'Прайс гривня'!H51 -> 196 | G29: 10 | H29: ='Прайс гривня'!J47+'Прайс гривня'!J50+'Прайс гривня'!J51 -> 172.8 | I29: 30 | J29: =ROUND(C29*1.15,0) -> 273 | K29: 1 | L29: 2930777557 | M29: +
A30: 405250 | B30: Газовий амортизатор 420мм 250N | C30: ='Прайс гривня'!$E$48 -> 212 | D30: ='Прайс гривня'!$F$48 -> 191 | E30: 10 | F30: ='Прайс гривня'!$H$48 -> 180 | G30: 50 | H30: ='Прайс гривня'!$J$48 -> 159 | I30: 100 | J30: =ROUND(C30*1.15,0) -> 244 | K30: 1 | L30: 67467370 | M30: +
A31: 405500 | B31: Газовий амортизатор 420мм 500N | C31: ='Прайс гривня'!$E$48 -> 212 | D31: ='Прайс гривня'!$F$48 -> 191 | E31: 10 | F31: ='Прайс гривня'!$H$48 -> 180 | G31: 50 | H31: ='Прайс гривня'!$J$48 -> 159 | I31: 100 | J31: =ROUND(C31*1.15,0) -> 244 | K31: 1 | L31: 1185094277 | M31: +
A32: 405600 | B32: Газовий амортизатор 420мм 600N | C32: ='Прайс гривня'!$E$48 -> 212 | D32: ='Прайс гривня'!$F$48 -> 191 | E32: 10 | F32: ='Прайс гривня'!$H$48 -> 180 | G32: 50 | H32: ='Прайс гривня'!$J$48 -> 159 | I32: 100 | J32: =ROUND(C32*1.15,0) -> 244 | K32: 1 | L32: 1185094278 | M32: +
A33: 405800 | B33: Газовий амортизатор 420мм 800N | C33: ='Прайс гривня'!$E$48 -> 212 | D33: ='Прайс гривня'!$F$48 -> 191 | E33: 10 | F33: ='Прайс гривня'!$H$48 -> 180 | G33: 50 | H33: ='Прайс гривня'!$J$48 -> 159 | I33: 100 | J33: =ROUND(C33*1.15,0) -> 244 | K33: 1 | L33: 1185094279 | M33: +
A34: 4051000 | B34: Газовий амортизатор 420мм 1000N | C34: ='Прайс гривня'!$E$48 -> 212 | D34: ='Прайс гривня'!$F$48 -> 191 | E34: 10 | F34: ='Прайс гривня'!$H$48 -> 180 | G34: 50 | H34: ='Прайс гривня'!$J$48 -> 159 | I34: 100 | J34: =ROUND(C34*1.15,0) -> 244 | K34: 1 | L34: 1185094280 | M34: +
A35: 4051200 | B35: Газовий амортизатор 420мм 1200N | C35: ='Прайс гривня'!$E$48 -> 212 | D35: ='Прайс гривня'!$F$48 -> 191 | E35: 10 | F35: ='Прайс гривня'!$H$48 -> 180 | G35: 50 | H35: ='Прайс гривня'!$J$48 -> 159 | I35: 100 | J35: =ROUND(C35*1.15,0) -> 244 | K35: 1 | L35: 1185094281 | M35: +
A36: 4051500 | B36: Газовий амортизатор 420мм 1500N | C36: ='Прайс гривня'!$E$48 -> 212 | D36: ='Прайс гривня'!$F$48 -> 191 | E36: 10 | F36: ='Прайс гривня'!$H$48 -> 180 | G36: 50 | H36: ='Прайс гривня'!$J$48 -> 159 | I36: 100 | J36: =ROUND(C36*1.15,0) -> 244 | K36: 1 | L36: 1185094282 | M36: +
A37: 405250008 | B37: Комплект газового амортизатор 405-420мм з кріпленнями М8, 250N | C37: ='Прайс гривня'!E48+'Прайс гривня'!E50+'Прайс гривня'!E51 -> 312 | D37: ='Прайс гривня'!F48+'Прайс гривня'!F50+'Прайс гривня'!F51 -> 281 | E37: 5 | F37: ='Прайс гривня'!H48+'Прайс гривня'!H50+'Прайс гривня'!H51 -> 260 | G37: 10 | H37: ='Прайс гривня'!J48+'Прайс гривня'!J50+'Прайс гривня'!J51 -> 229 | I37: 30 | J37: =ROUND(C37*1.15,0) -> 359 | K37: 1 | L37: 2815711064 | M37: +
A38: 405500008 | B38: Комплект газового амортизатор 405-420мм з кріпленнями М8, 500N | C38: ='Прайс гривня'!E48+'Прайс гривня'!E50+'Прайс гривня'!E51 -> 312 | D38: ='Прайс гривня'!F48+'Прайс гривня'!F50+'Прайс гривня'!F51 -> 281 | E38: 5 | F38: ='Прайс гривня'!H48+'Прайс гривня'!H50+'Прайс гривня'!H51 -> 260 | G38: 10 | H38: ='Прайс гривня'!J48+'Прайс гривня'!J50+'Прайс гривня'!J51 -> 229 | I38: 30 | J38: =ROUND(C38*1.15,0) -> 359 | K38: 1 | L38: 2815711066 | M38: +
A39: 405600008 | B39: Комплект газового амортизатор 405-420мм з кріпленнями М8, 600N | C39: ='Прайс гривня'!E48+'Прайс гривня'!E50+'Прайс гривня'!E51 -> 312 | D39: ='Прайс гривня'!F48+'Прайс гривня'!F50+'Прайс гривня'!F51 -> 281 | E39: 5 | F39: ='Прайс гривня'!H48+'Прайс гривня'!H50+'Прайс гривня'!H51 -> 260 | G39: 10 | H39: ='Прайс гривня'!J48+'Прайс гривня'!J50+'Прайс гривня'!J51 -> 229 | I39: 30 | J39: =ROUND(C39*1.15,0) -> 359 | K39: 1 | L39: 2815711067 | M39: +
A40: 405800008 | B40: Комплект газового амортизатор 405-420мм з кріпленнями М8, 800N | C40: ='Прайс гривня'!E48+'Прайс гривня'!E50+'Прайс гривня'!E51 -> 312 | D40: ='Прайс гривня'!F48+'Прайс гривня'!F50+'Прайс гривня'!F51 -> 281 | E40: 5 | F40: ='Прайс гривня'!H48+'Прайс гривня'!H50+'Прайс гривня'!H51 -> 260 | G40: 10 | H40: ='Прайс гривня'!J48+'Прайс гривня'!J50+'Прайс гривня'!J51 -> 229 | I40: 30 | J40: =ROUND(C40*1.15,0) -> 359 | K40: 1 | L40: 2815711068 | M40: +
A41: 4051000008 | B41: Комплект газового амортизатор 405-420мм з кріпленнями М8, 1000N | C41: ='Прайс гривня'!E48+'Прайс гривня'!E50+'Прайс гривня'!E51 -> 312 | D41: ='Прайс гривня'!F48+'Прайс гривня'!F50+'Прайс гривня'!F51 -> 281 | E41: 5 | F41: ='Прайс гривня'!H48+'Прайс гривня'!H50+'Прайс гривня'!H51 -> 260 | G41: 10 | H41: ='Прайс гривня'!J48+'Прайс гривня'!J50+'Прайс гривня'!J51 -> 229 | I41: 30 | J41: =ROUND(C41*1.15,0) -> 359 | K41: 1 | L41: 2815711069 | M41: +
A42: 4051200008 | B42: Комплект газового амортизатор 405-420мм з кріпленнями М8, 1200N | C42: ='Прайс гривня'!E48+'Прайс гривня'!E50+'Прайс гривня'!E51 -> 312 | D42: ='Прайс гривня'!F48+'Прайс гривня'!F50+'Прайс гривня'!F51 -> 281 | E42: 5 | F42: ='Прайс гривня'!H48+'Прайс гривня'!H50+'Прайс гривня'!H51 -> 260 | G42: 10 | H42: ='Прайс гривня'!J48+'Прайс гривня'!J50+'Прайс гривня'!J51 -> 229 | I42: 30 | J42: =ROUND(C42*1.15,0) -> 359 | K42: 1 | L42: 2815711070 | M42: +
A43: 4051500008 | B43: Комплект газового амортизатор 405-420мм з кріпленнями М8, 1500N | C43: ='Прайс гривня'!E48+'Прайс гривня'!E50+'Прайс гривня'!E51 -> 312 | D43: ='Прайс гривня'!F48+'Прайс гривня'!F50+'Прайс гривня'!F51 -> 281 | E43: 5 | F43: ='Прайс гривня'!H48+'Прайс гривня'!H50+'Прайс гривня'!H51 -> 260 | G43: 10 | H43: ='Прайс гривня'!J48+'Прайс гривня'!J50+'Прайс гривня'!J51 -> 229 | I43: 30 | J43: =ROUND(C43*1.15,0) -> 359 | K43: 1 | L43: 2815711071 | M43: +
A44: 585150 | B44: Газовий амортизатор 600мм 150N | C44: ='Прайс гривня'!$E$49 -> 288 | D44: ='Прайс гривня'!$F$49 -> 259 | E44: 10 | F44: ='Прайс гривня'!$H$49 -> 245 | G44: 50 | H44: ='Прайс гривня'!$J$49 -> 216 | I44: 100 | J44: =ROUND(C44*1.15,0) -> 331 | K44: 1 | L44: 479255862 | M44: +
A45: 585250 | B45: Газовий амортизатор 600мм 250N | C45: ='Прайс гривня'!$E$49 -> 288 | D45: ='Прайс гривня'!$F$49 -> 259 | E45: 10 | F45: ='Прайс гривня'!$H$49 -> 245 | G45: 50 | H45: ='Прайс гривня'!$J$49 -> 216 | I45: 100 | J45: =ROUND(C45*1.15,0) -> 331 | K45: 1 | L45: 1185092686 | M45: +
A46: 585500 | B46: Газовий амортизатор 600мм 500N | C46: ='Прайс гривня'!$E$49 -> 288 | D46: ='Прайс гривня'!$F$49 -> 259 | E46: 10 | F46: ='Прайс гривня'!$H$49 -> 245 | G46: 50 | H46: ='Прайс гривня'!$J$49 -> 216 | I46: 100 | J46: =ROUND(C46*1.15,0) -> 331 | K46: 1 | L46: 1185092687 | M46: +
A47: 585600 | B47: Газовий амортизатор 600мм 600N | C47: ='Прайс гривня'!$E$49 -> 288 | D47: ='Прайс гривня'!$F$49 -> 259 | E47: 10 | F47: ='Прайс гривня'!$H$49 -> 245 | G47: 50 | H47: ='Прайс гривня'!$J$49 -> 216 | I47: 100 | J47: =ROUND(C47*1.15,0) -> 331 | K47: 1 | L47: 1185092688 | M47: +
A48: 585800 | B48: Газовий амортизатор 600мм 800N | C48: ='Прайс гривня'!$E$49 -> 288 | D48: ='Прайс гривня'!$F$49 -> 259 | E48: 10 | F48: ='Прайс гривня'!$H$49 -> 245 | G48: 50 | H48: ='Прайс гривня'!$J$49 -> 216 | I48: 100 | J48: =ROUND(C48*1.15,0) -> 331 | K48: 1 | L48: 1185092689 | M48: +
A49: 5851000 | B49: Газовий амортизатор 600мм 1000N | C49: ='Прайс гривня'!$E$49 -> 288 | D49: ='Прайс гривня'!$F$49 -> 259 | E49: 10 | F49: ='Прайс гривня'!$H$49 -> 245 | G49: 50 | H49: ='Прайс гривня'!$J$49 -> 216 | I49: 100 | J49: =ROUND(C49*1.15,0) -> 331 | K49: 1 | L49: 1185092690 | M49: +
A50: 5851200 | B50: Газовий амортизатор 600мм 1200N | C50: ='Прайс гривня'!$E$49 -> 288 | D50: ='Прайс гривня'!$F$49 -> 259 | E50: 10 | F50: ='Прайс гривня'!$H$49 -> 245 | G50: 50 | H50: ='Прайс гривня'!$J$49 -> 216 | I50: 100 | J50: =ROUND(C50*1.15,0) -> 331 | K50: 1 | L50: 1185092691 | M50: +
A51: 5851500 | B51: Газовий амортизатор 600мм 1500N | C51: ='Прайс гривня'!$E$49 -> 288 | D51: ='Прайс гривня'!$F$49 -> 259 | E51: 10 | F51: ='Прайс гривня'!$H$49 -> 245 | G51: 50 | H51: ='Прайс гривня'!$J$49 -> 216 | I51: 100 | J51: =ROUND(C51*1.15,0) -> 331 | K51: 1 | L51: 1185092692 | M51: +
A52: 585150008 | B52: Комплект газового амортизатор 585-600мм з кріпленнями М8, 150N | C52: ='Прайс гривня'!E49+'Прайс гривня'!E50+'Прайс гривня'!E51 -> 388 | D52: ='Прайс гривня'!F49+'Прайс гривня'!F50+'Прайс гривня'!F51 -> 349 | E52: 5 | F52: ='Прайс гривня'!H49+'Прайс гривня'!H50+'Прайс гривня'!H51 -> 325 | G52: 10 | H52: ='Прайс гривня'!J49+'Прайс гривня'!J50+'Прайс гривня'!J51 -> 286 | I52: 30 | J52: =ROUND(C52*1.15,0) -> 446 | K52: 1 | L52: 2662134328 | M52: +
A53: 585250008 | B53: Комплект газового амортизатор 585-600мм з кріпленнями М8, 250N | C53: ='Прайс гривня'!E49+'Прайс гривня'!E50+'Прайс гривня'!E51 -> 388 | D53: ='Прайс гривня'!F49+'Прайс гривня'!F50+'Прайс гривня'!F51 -> 349 | E53: 5 | F53: ='Прайс гривня'!H49+'Прайс гривня'!H50+'Прайс гривня'!H51 -> 325 | G53: 10 | H53: ='Прайс гривня'!J49+'Прайс гривня'!J50+'Прайс гривня'!J51 -> 286 | I53: 30 | J53: =ROUND(C53*1.15,0) -> 446 | K53: 1 | L53: 2662190209 | M53: +
A54: 585500008 | B54: Комплект газового амортизатор 585-600мм з кріпленнями М8, 500N | C54: ='Прайс гривня'!E49+'Прайс гривня'!E50+'Прайс гривня'!E51 -> 388 | D54: ='Прайс гривня'!F49+'Прайс гривня'!F50+'Прайс гривня'!F51 -> 349 | E54: 5 | F54: ='Прайс гривня'!H49+'Прайс гривня'!H50+'Прайс гривня'!H51 -> 325 | G54: 10 | H54: ='Прайс гривня'!J49+'Прайс гривня'!J50+'Прайс гривня'!J51 -> 286 | I54: 30 | J54: =ROUND(C54*1.15,0) -> 446 | K54: 1 | L54: 2662190210 | M54: +
A55: 585600008 | B55: Комплект газового амортизатор 585-600мм з кріпленнями М8, 600N | C55: ='Прайс гривня'!E49+'Прайс гривня'!E50+'Прайс гривня'!E51 -> 388 | D55: ='Прайс гривня'!F49+'Прайс гривня'!F50+'Прайс гривня'!F51 -> 349 | E55: 5 | F55: ='Прайс гривня'!H49+'Прайс гривня'!H50+'Прайс гривня'!H51 -> 325 | G55: 10 | H55: ='Прайс гривня'!J49+'Прайс гривня'!J50+'Прайс гривня'!J51 -> 286 | I55: 30 | J55: =ROUND(C55*1.15,0) -> 446 | K55: 1 | L55: 2662190211 | M55: +
A56: 585800008 | B56: Комплект газового амортизатор 585-600мм з кріпленнями М8, 800N | C56: ='Прайс гривня'!E49+'Прайс гривня'!E50+'Прайс гривня'!E51 -> 388 | D56: ='Прайс гривня'!F49+'Прайс гривня'!F50+'Прайс гривня'!F51 -> 349 | E56: 5 | F56: ='Прайс гривня'!H49+'Прайс гривня'!H50+'Прайс гривня'!H51 -> 325 | G56: 10 | H56: ='Прайс гривня'!J49+'Прайс гривня'!J50+'Прайс гривня'!J51 -> 286 | I56: 30 | J56: =ROUND(C56*1.15,0) -> 446 | K56: 1 | L56: 2662190212 | M56: +
A57: 5851000008 | B57: Комплект газового амортизатор 585-600мм з кріпленнями М8, 1000N | C57: ='Прайс гривня'!E49+'Прайс гривня'!E50+'Прайс гривня'!E51 -> 388 | D57: ='Прайс гривня'!F49+'Прайс гривня'!F50+'Прайс гривня'!F51 -> 349 | E57: 5 | F57: ='Прайс гривня'!H49+'Прайс гривня'!H50+'Прайс гривня'!H51 -> 325 | G57: 10 | H57: ='Прайс гривня'!J49+'Прайс гривня'!J50+'Прайс гривня'!J51 -> 286 | I57: 30 | J57: =ROUND(C57*1.15,0) -> 446 | K57: 1 | L57: 2662190213 | M57: +
A58: 5851200008 | B58: Комплект газового амортизатор 585-600мм з кріпленнями М8, 1200N | C58: ='Прайс гривня'!E49+'Прайс гривня'!E50+'Прайс гривня'!E51 -> 388 | D58: ='Прайс гривня'!F49+'Прайс гривня'!F50+'Прайс гривня'!F51 -> 349 | E58: 5 | F58: ='Прайс гривня'!H49+'Прайс гривня'!H50+'Прайс гривня'!H51 -> 325 | G58: 10 | H58: ='Прайс гривня'!J49+'Прайс гривня'!J50+'Прайс гривня'!J51 -> 286 | I58: 30 | J58: =ROUND(C58*1.15,0) -> 446 | K58: 1 | L58: 2662190214 | M58: +
A59: 5851500008 | B59: Комплект газового амортизатор 585-600мм з кріпленнями М8, 1500N | C59: ='Прайс гривня'!E49+'Прайс гривня'!E50+'Прайс гривня'!E51 -> 388 | D59: ='Прайс гривня'!F49+'Прайс гривня'!F50+'Прайс гривня'!F51 -> 349 | E59: 5 | F59: ='Прайс гривня'!H49+'Прайс гривня'!H50+'Прайс гривня'!H51 -> 325 | G59: 10 | H59: ='Прайс гривня'!J49+'Прайс гривня'!J50+'Прайс гривня'!J51 -> 286 | I59: 30 | J59: =ROUND(C59*1.15,0) -> 446 | K59: 1 | L59: 2662190215 | M59: +
A60: ='Прайс гривня'!B19 -> 0100 | B60: ='Прайс гривня'!C19 -> Обмежувач ходу амортизатора для механізму підйому ліжка | C60: ='Прайс гривня'!E19 -> 30 | D60: ='Прайс гривня'!F19 -> 27 | E60: 10 | F60: ='Прайс гривня'!H19 -> 24 | G60: 50 | H60: ='Прайс гривня'!J19 -> 21 | I60: 100 | J60: =ROUND(C60*1.15,0) -> 35 | K60: 1 | L60: 1015723476 | M60: +
A61: ='Прайс гривня'!B20 -> 0020 | B61: ='Прайс гривня'!C20 -> Обмежувач матрацу Твіст | C61: ='Прайс гривня'!E20 -> 79 | D61: ='Прайс гривня'!F20 -> 67 | E61: 10 | F61: ='Прайс гривня'!H20 -> 63 | G61: 50 | H61: ='Прайс гривня'!J20 -> 55 | I61: 100 | J61: =ROUND(C61*1.15,0) -> 91 | K61: 1 | L61: 1011794594 | M61: +
A62: 0025 | B62: Обмежувач матрацу Флеш цинк 25мм | C62: ='Прайс гривня'!E21 -> 68 | D62: ='Прайс гривня'!F21 -> 58 | E62: 10 | F62: ='Прайс гривня'!H21 -> 54 | G62: 50 | H62: ='Прайс гривня'!J21 -> 48 | I62: 100 | J62: =ROUND(C62*1.15,0) -> 78 | K62: 1 | L62: 1011300173 | M62: +
A63: 0030 | B63: Обмежувач матрацу Флеш цинк 30мм | C63: ='Прайс гривня'!E21 -> 68 | D63: ='Прайс гривня'!F21 -> 58 | E63: 10 | F63: ='Прайс гривня'!H21 -> 54 | G63: 50 | H63: ='Прайс гривня'!J21 -> 48 | I63: 100 | J63: =ROUND(C63*1.15,0) -> 78 | K63: 1 | L63: 1592018152 | M63: +
A64: 00251 | B64: Обмежувач матрацу Флеш хром 25мм | C64: ='Прайс гривня'!E22 -> 120 | D64: ='Прайс гривня'!F22 -> 102 | E64: 10 | F64: ='Прайс гривня'!H22 -> 96 | G64: 50 | H64: ='Прайс гривня'!J22 -> 90 | I64: 100 | J64: =ROUND(C64*1.15,0) -> 138 | K64: 1 | L64: 1650712451 | M64: +
A65: 00301 | B65: Обмежувач матрацу Флеш хром 30мм | C65: ='Прайс гривня'!E22 -> 120 | D65: ='Прайс гривня'!F22 -> 102 | E65: 10 | F65: ='Прайс гривня'!H22 -> 96 | G65: 50 | H65: ='Прайс гривня'!J22 -> 90 | I65: 100 | J65: =ROUND(C65*1.15,0) -> 138 | K65: 1 | L65: 1650706181 | M65: +
A66: ='Прайс гривня'!B23 -> 003205 | B66: ='Прайс гривня'!C23 -> Обмежувач матрацу Блек | C66: ='Прайс гривня'!E23 -> 50 | D66: ='Прайс гривня'!F23 -> 45 | E66: 10 | F66: ='Прайс гривня'!H23 -> 43 | G66: 50 | H66: ='Прайс гривня'!J23 -> 40 | I66: 100 | J66: =ROUND(C66*1.15,0) -> 58 | K66: 1 | M66: +
A67: ='Прайс гривня'!B24 -> 01000б | B67: ='Прайс гривня'!C24 -> Ремінь для підйому каркасу чорна | C67: ='Прайс гривня'!E24 -> 50 | D67: ='Прайс гривня'!F24 -> 43 | E67: 10 | F67: ='Прайс гривня'!H24 -> 35 | G67: 30 | H67: ='Прайс гривня'!J24 -> 33 | I67: 50 | J67: =ROUND(C67*1.15,0) -> 58 | K67: 1 | L67: 1747060264 | M67: +
A68: ='Прайс гривня'!B25 -> 01000ч | B68: ='Прайс гривня'!C25 -> Ремінь для підйому каркасу біла | C68: ='Прайс гривня'!E25 -> 50 | D68: ='Прайс гривня'!F25 -> 43 | E68: 10 | F68: ='Прайс гривня'!H25 -> 35 | G68: 30 | H68: ='Прайс гривня'!J25 -> 33 | I68: 50 | J68: =ROUND(C68*1.15,0) -> 58 | K68: 1 | L68: 1983290870 | M68: +
A69: ='Прайс гривня'!B26 -> 7070 | B69: ='Прайс гривня'!C26 -> Кутник ліжка опорний оцинкований 7*7см | C69: ='Прайс гривня'!E26 -> 14 | D69: ='Прайс гривня'!F26 -> 12.15 | E69: 10 | F69: ='Прайс гривня'!H26 -> 11.475 | G69: 50 | H69: ='Прайс гривня'!J26 -> 10.8 | I69: 100 | J69: =ROUND(C69*1.15,0) -> 16 | K69: 1 | L69: 1422515406 | M69: +
A70: ='Прайс гривня'!B27 -> 13513525 | B70: ='Прайс гривня'!C27 -> Кутник ліжка опорний сірий 13,5*13,5см | C70: ='Прайс гривня'!E27 -> 78 | D70: ='Прайс гривня'!F27 -> 70 | E70: 10 | F70: ='Прайс гривня'!H27 -> 66 | G70: 50 | H70: ='Прайс гривня'!J27 -> 62.4 | I70: 100 | J70: =ROUND(C70*1.15,0) -> 90 | K70: 1 | L70: 2123183059 | M70: +
A71: 13513525Д | B71: Кутник ліжка опорний сірий 13,5*13,5см з демферами | C71: ='Прайс гривня'!E27+'Прайс гривня'!E31*2 -> 94 | D71: ='Прайс гривня'!F27+'Прайс гривня'!F31*2 -> 84.4 | E71: 10 | F71: ='Прайс гривня'!H27+'Прайс гривня'!H31*2 -> 78.96 | G71: 50 | H71: ='Прайс гривня'!J27+'Прайс гривня'!J31*2 -> 74.4 | I71: 100 | J71: =ROUND(C71*1.15,0) -> 108 | K71: 1 | L71: 2270608418 | M71: +
A72: ='Прайс гривня'!B28 -> 14014025 | B72: ='Прайс гривня'!C28 -> Кутник ліжка опорний сірий 14*14см | C72: ='Прайс гривня'!E28 -> 78 | D72: ='Прайс гривня'!F28 -> 70 | E72: 10 | F72: ='Прайс гривня'!H28 -> 66 | G72: 50 | H72: ='Прайс гривня'!J28 -> 62 | I72: 100 | J72: =ROUND(C72*1.15,0) -> 90 | K72: 1 | L72: 2123154530 | M72: +
A73: 14014025Д | B73: Кутник ліжка опорний сірий 14*14см з демпферами | C73: ='Прайс гривня'!E28+'Прайс гривня'!E31*2 -> 94 | D73: ='Прайс гривня'!F28+'Прайс гривня'!F31*2 -> 84.4 | E73: 10 | F73: ='Прайс гривня'!H28+'Прайс гривня'!H31*2 -> 78.96 | G73: 50 | H73: ='Прайс гривня'!J28+'Прайс гривня'!J31*2 -> 74 | I73: 100 | J73: =ROUND(C73*1.15,0) -> 108 | K73: 1 | L73: 2270619855 | M73: +
A74: ='Прайс гривня'!B29 -> 1601601 | B74: ='Прайс гривня'!C29 -> Кутник ліжка опорний чорний 16*16см | C74: ='Прайс гривня'!E29 -> 90 | D74: ='Прайс гривня'!F29 -> 81 | E74: 10 | F74: ='Прайс гривня'!H29 -> 76.5 | G74: 50 | H74: ='Прайс гривня'!J29 -> 72 | I74: 100 | J74: =ROUND(C74*1.15,0) -> 104 | K74: 1 | L74: 2101655187 | M74: +
A75: ='Прайс гривня'!B30 -> 160160 | B75: ='Прайс гривня'!C30 -> Кутник ліжка опорний оцинкований 16*16см | C75: ='Прайс гривня'!E30 -> 90 | D75: ='Прайс гривня'!F30 -> 81 | E75: 10 | F75: ='Прайс гривня'!H30 -> 76.5 | G75: 50 | H75: ='Прайс гривня'!J30 -> 72 | I75: 100 | J75: =ROUND(C75*1.15,0) -> 104 | K75: 1 | L75: 1567433211 | M75: +
A76: ='Прайс гривня'!B31 -> 4317 | B76: ='Прайс гривня'!C31 -> Демпфер гумовий, відбійник для металевого кутника | C76: ='Прайс гривня'!E31 -> 8 | D76: ='Прайс гривня'!F31 -> 7.2 | E76: 10 | F76: ='Прайс гривня'!H31 -> 6.48 | G76: 50 | H76: ='Прайс гривня'!J31 -> 6 | I76: 100 | J76: =ROUND(C76*1.15,0) -> 9 | K76: 1 | L76: 2254804923 | M76: +
A77: ='Прайс гривня'!B32 -> 12034 | B77: ='Прайс гривня'!C32 -> Зачіп монтажний універсальний оцинкований | C77: ='Прайс гривня'!E32 -> 32 | D77: ='Прайс гривня'!F32 -> 27.2 | E77: 10 | F77: ='Прайс гривня'!H32 -> 25.6 | G77: 50 | H77: ='Прайс гривня'!J32 -> 22.4 | I77: 100 | J77: =ROUND(C77*1.15,0) -> 37 | K77: 1 | L77: 2096059859 | M77: +
A78: ='Прайс гривня'!B33 -> 0043 | B78: ='Прайс гривня'!C33 -> Механізм підйому матраца М43 графіт (без амортизаторів), пара, (Укр) | C78: ='Прайс гривня'!E33 -> 460 | D78: ='Прайс гривня'!F33 -> 414 | E78: 5 | F78: ='Прайс гривня'!H33 -> 391 | G78: 10 | H78: ='Прайс гривня'!J33 -> 368 | I78: 30 | J78: =ROUND(C78*1.15,0) -> 529 | K78: 1 | L78: 86271975 | M78: +
A79: 0043250 | B79: Механізм підйому матраца М43 графіт з амортизатором 250N | C79: =ROUND('Прайс гривня'!E33+'Прайс гривня'!E47*2,0) -> 734 | D79: =ROUND('Прайс гривня'!F33+'Прайс гривня'!F47*2,0) -> 660 | E79: 5 | F79: =ROUND('Прайс гривня'!H33+'Прайс гривня'!H47*2,0) -> 623 | G79: 10 | H79: =ROUND('Прайс гривня'!J33+'Прайс гривня'!J47*2,0) -> 574 | I79: 30 | J79: =ROUND(C79*1.15,0) -> 844 | K79: 1 | L79: 1591371145 | M79: +
A80: 0043350 | B80: Механізм підйому матраца М43 графіт з амортизатором 350N | C80: ='Прайс гривня'!E7 -> 712 | D80: ='Прайс гривня'!F7 -> 640 | E80: 5 | F80: ='Прайс гривня'!H7 -> 605 | G80: 10 | H80: ='Прайс гривня'!J7 -> 557 | I80: 30 | J80: =ROUND(C80*1.15,0) -> 819 | K80: 1 | L80: 86271569 | M80: +
A81: 0043450 | B81: Механізм підйому матраца М43 графіт з амортизатором 450N | C81: ='Прайс гривня'!E7 -> 712 | D81: ='Прайс гривня'!F7 -> 640 | E81: 5 | F81: ='Прайс гривня'!H7 -> 605 | G81: 10 | H81: ='Прайс гривня'!J7 -> 557 | I81: 30 | J81: =ROUND(C81*1.15,0) -> 819 | K81: 1 | L81: 1591371146 | M81: +
A82: 0043750 | B82: Механізм підйому матраца М43 графіт з амортизатором 750N | C82: ='Прайс гривня'!E7 -> 712 | D82: ='Прайс гривня'!F7 -> 640 | E82: 5 | F82: ='Прайс гривня'!H7 -> 605 | G82: 10 | H82: ='Прайс гривня'!J7 -> 557 | I82: 30 | J82: =ROUND(C82*1.15,0) -> 819 | K82: 1 | L82: 1591371147 | M82: +
A83: 00431000 | B83: Механізм підйому матраца М43 графіт з амортизатором 1000N | C83: ='Прайс гривня'!E7 -> 712 | D83: ='Прайс гривня'!F7 -> 640 | E83: 5 | F83: ='Прайс гривня'!H7 -> 605 | G83: 10 | H83: ='Прайс гривня'!J7 -> 557 | I83: 30 | J83: =ROUND(C83*1.15,0) -> 819 | K83: 1 | L83: 1591371148 | M83: +
A84: 00431200 | B84: Механізм підйому матраца М43 графіт з амортизатором 1200N | C84: ='Прайс гривня'!E7 -> 712 | D84: ='Прайс гривня'!F7 -> 640 | E84: 5 | F84: ='Прайс гривня'!H7 -> 605 | G84: 10 | H84: ='Прайс гривня'!J7 -> 557 | I84: 30 | J84: =ROUND(C84*1.15,0) -> 819 | K84: 1 | L84: 1591371149 | M84: +
A85: 00431500 | B85: Механізм підйому матраца М43 графіт з амортизатором 1500N | C85: =ROUND('Прайс гривня'!E33+'Прайс гривня'!E47*2,0) -> 734 | D85: =ROUND('Прайс гривня'!F33+'Прайс гривня'!F47*2,0) -> 660 | E85: 5 | F85: =ROUND('Прайс гривня'!H33+'Прайс гривня'!H47*2,0) -> 623 | G85: 10 | H85: =ROUND('Прайс гривня'!J33+'Прайс гривня'!J47*2,0) -> 574 | I85: 30 | J85: =ROUND(C85*1.15,0) -> 844 | K85: 1 | L85: 1591371150 | M85: +
A86: ='Прайс гривня'!B34 -> 00431 | B86: ='Прайс гривня'!C34 -> Механізм підйому матраца М43 білий (без амортизаторів), пара, (Укр) | C86: ='Прайс гривня'!E34 -> 460 | D86: ='Прайс гривня'!F34 -> 414 | E86: 5 | F86: ='Прайс гривня'!H34 -> 391 | G86: 10 | H86: ='Прайс гривня'!J34 -> 368 | I86: 30 | J86: =ROUND(C86*1.15,0) -> 529 | K86: 1 | L86: 1703346489 | M86: +
A87: 00431250 | B87: Механізм підйому матраца М43 білий з амортизатором 250N | C87: =ROUND('Прайс гривня'!E34+'Прайс гривня'!E47*2,0) -> 734 | D87: =ROUND('Прайс гривня'!F34+'Прайс гривня'!F47*2,0) -> 660 | E87: 5 | F87: =ROUND('Прайс гривня'!H34+'Прайс гривня'!H47*2,0) -> 623 | G87: 10 | H87: =ROUND('Прайс гривня'!J34+'Прайс гривня'!J47*2,0) -> 574 | I87: 30 | J87: =ROUND(C87*1.15,0) -> 844 | K87: 1 | L87: 1703349988 | M87: +
A88: 00431350 | B88: Механізм підйому матраца М43 білий з амортизатором 350N | C88: ='Прайс гривня'!E8 -> 712 | D88: ='Прайс гривня'!F8 -> 640 | E88: 5 | F88: ='Прайс гривня'!$H$8 -> 605 | G88: 10 | H88: ='Прайс гривня'!$J$8 -> 557 | I88: 30 | J88: =ROUND(C88*1.15,0) -> 819 | K88: 1 | L88: 1703349987 | M88: +
A89: 00431450 | B89: Механізм підйому матраца М43 білий з амортизатором 450N | C89: ='Прайс гривня'!E8 -> 712 | D89: ='Прайс гривня'!F8 -> 640 | E89: 5 | F89: ='Прайс гривня'!$H$8 -> 605 | G89: 10 | H89: ='Прайс гривня'!$J$8 -> 557 | I89: 30 | J89: =ROUND(C89*1.15,0) -> 819 | K89: 1 | L89: 1703349989 | M89: +
A90: 00431750 | B90: Механізм підйому матраца М43 білий з амортизатором 750N | C90: ='Прайс гривня'!E8 -> 712 | D90: ='Прайс гривня'!F8 -> 640 | E90: 5 | F90: ='Прайс гривня'!$H$8 -> 605 | G90: 10 | H90: ='Прайс гривня'!$J$8 -> 557 | I90: 30 | J90: =ROUND(C90*1.15,0) -> 819 | K90: 1 | L90: 1703349990 | M90: +
A91: 004311000 | B91: Механізм підйому матраца М43 білий з амортизатором 1000N | C91: ='Прайс гривня'!E8 -> 712 | D91: ='Прайс гривня'!F8 -> 640 | E91: 5 | F91: ='Прайс гривня'!$H$8 -> 605 | G91: 10 | H91: ='Прайс гривня'!$J$8 -> 557 | I91: 30 | J91: =ROUND(C91*1.15,0) -> 819 | K91: 1 | L91: 1703349991 | M91: +
A92: 004311200 | B92: Механізм підйому матраца М43 білий з амортизатором 1200N | C92: ='Прайс гривня'!E8 -> 712 | D92: ='Прайс гривня'!F8 -> 640 | E92: 5 | F92: ='Прайс гривня'!$H$8 -> 605 | G92: 10 | H92: ='Прайс гривня'!$J$8 -> 557 | I92: 30 | J92: =ROUND(C92*1.15,0) -> 819 | K92: 1 | L92: 1703349992 | M92: +
A93: 004311500 | B93: Механізм підйому матраца М43 білий з амортизатором 1500N | C93: =ROUND('Прайс гривня'!E34+'Прайс гривня'!E47*2,0) -> 734 | D93: =ROUND('Прайс гривня'!F34+'Прайс гривня'!F47*2,0) -> 660 | E93: 5 | F93: =ROUND('Прайс гривня'!H34+'Прайс гривня'!H47*2,0) -> 623 | G93: 10 | H93: =ROUND('Прайс гривня'!J34+'Прайс гривня'!J47*2,0) -> 574 | I93: 30 | J93: =ROUND(C93*1.15,0) -> 844 | K93: 1 | L93: 1703349993 | M93: +
A94: ='Прайс гривня'!B35 -> 0046 | B94: ='Прайс гривня'!C35 -> Механізм підйому матраца Eksan (без амортиз), пара, (Укр) | C94: ='Прайс гривня'!E35 -> 446 | D94: ='Прайс гривня'!F35 -> 401 | E94: 5 | F94: ='Прайс гривня'!H35 -> 379 | G94: 10 | H94: ='Прайс гривня'!J35 -> 334 | I94: 30 | J94: =ROUND(C94*1.15,0) -> 513 | K94: 1 | L94: 43277820 | M94: +
A95: 0046250 | B95: Механізм підйому матраца Eksan з амортизаром 250N | C95: =ROUND('Прайс гривня'!E35+'Прайс гривня'!E47*2,0) -> 720 | D95: =ROUND('Прайс гривня'!F35+'Прайс гривня'!F47*2,0) -> 647 | E95: 5 | F95: =ROUND('Прайс гривня'!H35+'Прайс гривня'!H47*2,0) -> 611 | G95: 10 | H95: =ROUND('Прайс гривня'!J35+'Прайс гривня'!J47*2,0) -> 540 | I95: 30 | J95: =ROUND(C95*1.15,0) -> 828 | K95: 1 | L95: 1185095275 | M95: +
A96: 0046350 | B96: Механізм підйому матраца Eksan з амортизаром 350N | C96: ='Прайс гривня'!$E$9 -> 698 | D96: ='Прайс гривня'!$F$9 -> 627 | E96: 5 | F96: ='Прайс гривня'!$H$9 -> 593 | G96: 10 | H96: ='Прайс гривня'!$J$9 -> 523 | I96: 30 | J96: =ROUND(C96*1.15,0) -> 803 | K96: 1 | L96: 25233661 | M96: +
A97: 0046450 | B97: Механізм підйому матраца Eksan з амортизаром 450N | C97: ='Прайс гривня'!$E$9 -> 698 | D97: ='Прайс гривня'!$F$9 -> 627 | E97: 5 | F97: ='Прайс гривня'!$H$9 -> 593 | G97: 10 | H97: ='Прайс гривня'!$J$9 -> 523 | I97: 30 | J97: =ROUND(C97*1.15,0) -> 803 | K97: 1 | L97: 1185095276 | M97: +
A98: 0046750 | B98: Механізм підйому матраца Eksan з амортизаром 750N | C98: ='Прайс гривня'!$E$9 -> 698 | D98: ='Прайс гривня'!$F$9 -> 627 | E98: 5 | F98: ='Прайс гривня'!$H$9 -> 593 | G98: 10 | H98: ='Прайс гривня'!$J$9 -> 523 | I98: 30 | J98: =ROUND(C98*1.15,0) -> 803 | K98: 1 | L98: 1185095277 | M98: +
A99: 00461000 | B99: Механізм підйому матраца Eksan з амортизаром 1000N | C99: ='Прайс гривня'!$E$9 -> 698 | D99: ='Прайс гривня'!$F$9 -> 627 | E99: 5 | F99: ='Прайс гривня'!$H$9 -> 593 | G99: 10 | H99: ='Прайс гривня'!$J$9 -> 523 | I99: 30 | J99: =ROUND(C99*1.15,0) -> 803 | K99: 1 | L99: 1185095278 | M99: +
A100: 00461200 | B100: Механізм підйому матраца Eksan з амортизаром 1200N | C100: ='Прайс гривня'!$E$9 -> 698 | D100: ='Прайс гривня'!$F$9 -> 627 | E100: 5 | F100: ='Прайс гривня'!$H$9 -> 593 | G100: 10 | H100: ='Прайс гривня'!$J$9 -> 523 | I100: 30 | J100: =ROUND(C100*1.15,0) -> 803 | K100: 1 | L100: 1185095279 | M100: +
...
