Workbook

Sheet Прайс валюта
G1: brand-mebel.com
D2: Курс $ | E2: 45 | F2: * | G2: тел 096 0000 249, 066 0000 249
D3: Курс Є | E3: 51.5 | F3: * | G3: 093 0000 249
G4: м.Львів. вул.Личаківська 255
F5: прайс-лист, валюта | I5: 15.10.2026р.
B6: Артикул | C6: Найменування | D6: Валюта | E6: Роздріб | F6: Опт 1 | G6: кількість | H6: Опт2 | I6: кількість | J6: Опт3 | K6: кількість
A7: - | B7: 0043(N) | C7: Механізм підйому матраца М43 графіт (250-1500N), компл., (Укр+Турц)* | D7: грн. | E7: ='Прайс гривня'!E7 -> 712 | F7: ='Прайс гривня'!F7 -> 640 | G7: 5пар | H7: ='Прайс гривня'!H7 -> 605 | I7: 10пар | J7: ='Прайс гривня'!J7 -> 557 | K7: 30пар
A8: - | B8: 00431(N) | C8: Механізм підйому матраца М43 білий (250-1500N), компл., (Укр+Турц)* | D8: грн. | E8: ='Прайс гривня'!E8 -> 712 | F8: ='Прайс гривня'!F8 -> 640 | G8: 5пар | H8: ='Прайс гривня'!H8 -> 605 | I8: 10пар | J8: ='Прайс гривня'!J8 -> 557 | K8: 30пар
A9: - | B9: 0046(N) | C9: Механізм підйому матраца Eksan (250-1800N), компл., (Турц)* | D9: $, дол. | E9: =E35+E46*2 -> 15.5 | F9: =F35+F46*2 -> 13.95 | G9: 5пар | H9: =H35+H46*2 -> 13.175 | I9: 10пар | J9: =J35+J46*2 -> 11.625 | K9: 30пар
A10: - | B10: 00461(N) | C10: Механізм підйому матраца Gasan чорний (250-1800N), компл., (Турц)* | D10: $, дол. | E10: =E36+E46*2 -> 13.1 | F10: =F36+F46*2 -> 11.79 | G10: 5пар | H10: =H36+H46*2 -> 11.135 | I10: 10пар | J10: =J36+J46*2 -> 9.825 | K10: 30пар
A11: - | B11: 00462(N) | C11: Механізм підйому матраца Gasan білий (250-1800N), компл., (Турц)* | D11: $, дол. | E11: =E37+E46*2 -> 13.1 | F11: =F37+F46*2 -> 11.79 | G11: 5пар | H11: =H37+H46*2 -> 11.135 | I11: 10пар | J11: =J37+J46*2 -> 9.825 | K11: 30пар
A12: - | B12: 0045(N) | C12: Механізм підйому матраца М45 чорний (250-1800N), компл., (Укр-Турц)* | D12: грн. | E12: ='Прайс гривня'!E12 -> 665 | F12: ='Прайс гривня'!F12 -> 598 | G12: 5пар | H12: ='Прайс гривня'!H12 -> 565 | I12: 10пар | J12: ='Прайс гривня'!J12 -> 499 | K12: 30пар
A13: - | B13: 00452(N) | C13: Механізм підйому матраца М45 Титан (250-1800N), компл., (Укр-Турц)* | D13: грн. | E13: ='Прайс гривня'!E13 -> 665 | F13: ='Прайс гривня'!F13 -> 598 | G13: 5пар | H13: ='Прайс гривня'!H13 -> 565 | I13: 10пар | J13: ='Прайс гривня'!J13 -> 499 | K13: 30пар
A14: - | B14: 0047(N) | C14: Механізм підйому матраца Фокстер (250-1800N), компл., (Укр+Турц) | D14: грн. | E14: ='Прайс гривня'!E14 -> 939 | F14: ='Прайс гривня'!F14 -> 844.3 | G14: 5пар | H14: ='Прайс гривня'!H14 -> 796.45 | I14: 10пар | J14: ='Прайс гривня'!J14 -> 702.75 | K14: 30пар
A15: - | B15: 00451(N) | C15: Механізм підйому матраца М45 Long (250-1800N), компл., (Укр+Турц)* | D15: грн. | E15: ='Прайс гривня'!E15 -> 872 | F15: ='Прайс гривня'!F15 -> 784 | G15: 5пар | H15: ='Прайс гривня'!H15 -> 741 | I15: 10пар | J15: ='Прайс гривня'!J15 -> 654 | K15: 30пар
A16: - | B16: 0044(N) | C16: Механізм підйому матраца Himars чорний (150-1500N), компл., (Укр+Турц) | D16: грн. | E16: ='Прайс гривня'!E16 -> 1194 | F16: ='Прайс гривня'!F16 -> 1075 | G16: 5пар | H16: ='Прайс гривня'!H16 -> 1015 | I16: 10пар | J16: ='Прайс гривня'!J16 -> 934 | K16: 30пар
A17: - | B17: 00442(N) | C17: Механізм підйому матраца Himars титан (150-1500N), компл., (Укр+Турц) | D17: грн. | E17: ='Прайс гривня'!E17 -> 1194 | F17: ='Прайс гривня'!F17 -> 1075 | G17: 5пар | H17: ='Прайс гривня'!H17 -> 1015 | I17: 10пар | J17: ='Прайс гривня'!J17 -> 934 | K17: 30пар
A18: - | B18: 0048(N) | C18: Механізм підйому матраца Samson (150-1500N), компл., (Укр+Турц) | D18: грн. | E18: ='Прайс гривня'!E18 -> 1806 | F18: ='Прайс гривня'!F18 -> 1625 | G18: 5пар | H18: ='Прайс гривня'!H18 -> 1536 | I18: 10пар | J18: ='Прайс гривня'!J18 -> 1416 | K18: 30пар
A19: 350 | B19: 0100 | C19: Обмежувач ходу амортизатора для механізму підйому ліжка | D19: грн. | E19: 30 | F19: =E19*0.9 -> 27 | G19: 10шт | H19: =E19*0.8 -> 24 | I19: 50шт | J19: =E19*0.7 -> 21 | K19: 100шт
A20: 60 | B20: 0020 | C20: Обмежувач матрацу Твіст | D20: грн. | E20: 79 | F20: =E20*0.85 -> 67.15 | G20: 10шт | H20: =E20*0.8 -> 63.2 | I20: 50шт | J20: =E20*0.7 -> 55.3 | K20: 100шт
A21: 161 | B21: 0025/0030 | C21: Обмежувач матрацу Флеш цинк 25мм, 30мм | D21: грн. | E21: 68 | F21: =E21*0.85 -> 57.8 | G21: 10шт | H21: =E21*0.8 -> 54.4 | I21: 50шт | J21: =E21*0.7 -> 47.6 | K21: 100шт
A22: 161 | B22: 00251/00301 | C22: Обмежувач матрацу Флеш хром 25мм, 30мм | D22: грн. | E22: 120 | F22: =E22*0.85 -> 102 | G22: 10шт | H22: =E22*0.8 -> 96 | I22: 50шт | J22: =E22*0.75 -> 90 | K22: 100шт
B23: 003205 | C23: Обмежувач матрацу Блек | D23: грн. | E23: 50 | F23: =E23*0.9 -> 45 | G23: 10шт | H23: =E23*0.85 -> 42.5 | I23: 50шт | J23: =E23*0.8 -> 40 | K23: 100шт
A24: 200 | B24: 01000б | C24: Ремінь для підйому каркасу чорна | D24: грн. | E24: 50 | F24: =E24*0.85 -> 42.5 | G24: 10шт | H24: =E24*0.7 -> 35 | I24: 30шт | J24: =E24*0.65 -> 32.5 | K24: 50шт
A25: 200 | B25: 01000ч | C25: Ремінь для підйому каркасу біла | D25: грн. | E25: =E24 -> 50 | F25: =E25*0.85 -> 42.5 | G25: 10шт | H25: =E25*0.7 -> 35 | I25: 30шт | J25: =E25*0.65 -> 32.5 | K25: 50шт
A26: 60 | B26: 7070 | C26: Кутник ліжка опорний оцинкований 7*7см | D26: грн. | E26: 13.5 | F26: =E26*0.9 -> 12.15 | G26: 10шт | H26: =E26*0.85 -> 11.475 | I26: 50шт | J26: =E26*0.8 -> 10.8 | K26: 100шт
A27: 60 | B27: 13513525 | C27: Кутник ліжка опорний сірий 13,5*13,5см | D27: грн. | E27: 78 | F27: =E27*0.9 -> 70.2 | G27: 10шт | H27: =E27*0.85 -> 66.3 | I27: 50шт | J27: =E27*0.8 -> 62.4 | K27: 100шт
A28: 55 | B28: 14014025 | C28: Кутник ліжка опорний сірий 14*14см | D28: грн. | E28: 78 | F28: =E28*0.9 -> 70.2 | G28: 10шт | H28: =E28*0.85 -> 66.3 | I28: 50шт | J28: =E28*0.8 -> 62.4 | K28: 100шт
A29: 60 | B29: 1601601 | C29: Кутник ліжка опорний чорний 16*16см | D29: грн. | E29: 90 | F29: =E29*0.9 -> 81 | G29: 10шт | H29: =E29*0.85 -> 76.5 | I29: 50шт | J29: =E29*0.8 -> 72 | K29: 100шт
A30: 60 | B30: 160160 | C30: Кутник ліжка опорний оцинкований 16*16см | D30: грн. | E30: 90 | F30: =E30*0.9 -> 81 | G30: 10шт | H30: =E30*0.85 -> 76.5 | I30: 50шт | J30: =E30*0.8 -> 72 | K30: 100шт
A31: 100 | B31: 4317 | C31: Демпфер гумовий, відбійник для металевого кутника | D31: грн. | E31: 8 | F31: =E31*0.9 -> 7.2 | G31: 10шт | H31: =E31*0.81 -> 6.48 | I31: 50шт | J31: =E31*0.75 -> 6 | K31: 100шт
A32: 70 | B32: 12034 | C32: Зачіп монтажний універсальний оцинкований | D32: грн. | E32: 32 | F32: =E32*0.85 -> 27.2 | G32: 10шт | H32: =E32*0.8 -> 25.6 | I32: 50шт | J32: =E32*0.7 -> 22.4 | K32: 100шт
A33: 46 | B33: 0043 | C33: Механізм підйому матраца М43 графіт (без амортизаторів), пара, (Укр) | D33: грн. | E33: 460 | F33: =E33*0.9 -> 414 | G33: 5пар | H33: =E33*0.85 -> 391 | I33: 10пар | J33: =E33*0.8 -> 368 | K33: 30пар
A34: =A33 -> 46 | B34: 00431 | C34: Механізм підйому матраца М43 білий (без амортизаторів), пара, (Укр) | D34: грн. | E34: =E33 -> 460 | F34: =E34*0.9 -> 414 | G34: 5пар | H34: =E34*0.85 -> 391 | I34: 10пар | J34: =E34*0.8 -> 368 | K34: 30пар
A35: 50 | B35: 0046 | C35: Механізм підйому матраца Eksan (без амортиз), пара, (Укр) | D35: $, дол. | E35: 9.9 | F35: =E35*0.9 -> 8.91 | G35: 5пар | H35: =E35*0.85 -> 8.415 | I35: 10пар | J35: =E35*0.75 -> 7.425 | K35: 30пар
A36: 55 | B36: 00461 | C36: Механізм підйому матраца Gasan чорний (без амортиз), пара, (Турц) | D36: $, дол. | E36: 7.5 | F36: =E36*0.9 -> 6.75 | G36: 5пар | H36: =E36*0.85 -> 6.375 | I36: 10пар | J36: =E36*0.75 -> 5.625 | K36: 30пар
A37: =A36 -> 55 | B37: 00462 | C37: Механізм підйому матраца Gasan білий (без амортиз), пара, (Турц) | D37: $, дол. | E37: =E36 -> 7.5 | F37: =E37*0.9 -> 6.75 | G37: 5пар | H37: =E37*0.85 -> 6.375 | I37: 10пар | J37: =E37*0.75 -> 5.625 | K37: 30пар
A38: 50 | B38: 0045 | C38: Механізм підйому матраца М45 чорний (без амортизаторів) | D38: грн. | E38: 413 | F38: =E38*0.9 -> 371.7 | G38: 5пар | H38: =E38*0.85 -> 351.05 | I38: 10пар | J38: =E38*0.75 -> 309.75 | K38: 30пар
A39: 50 | B39: 00452 | C39: Механізм підйому матраца М45 Титан (без амортизаторів) | D39: грн. | E39: =E38 -> 413 | F39: =F38 -> 371.7 | G39: 5пар | H39: =H38 -> 351.05 | I39: 10пар | J39: =J38 -> 309.75 | K39: 30пар
A40: 170 | B40: 0047 | C40: Механізм підйому матраца Фокстер (без амортизаторів) | D40: грн. | E40: ='Прайс гривня'!E40 -> 657 | F40: ='Прайс гривня'!F40 -> 591.3 | G40: 5пар | H40: ='Прайс гривня'!H40 -> 558.45 | I40: 10пар | J40: ='Прайс гривня'!J40 -> 492.75 | K40: 30пар
...

Sheet Прайс гривня
G1: brand-mebel.com
D2: Курс $ | E2: ='Прайс валюта'!E2 -> 45 | F2: не змінювати | G2: ='Прайс валюта'!G2:K2 -> тел 096 0000 249, 066 0000 249
D3: Курс Є | E3: ='Прайс валюта'!E3 -> 51.5 | F3: не змінювати | G3: 093 0000 249
G4: м.Львів. вул.Личаківська 255
F5: прайс-лист, гривня | I5: ='Прайс валюта'!I5 -> 15.10.2026р.
C6: Найменування | D6: Валюта | E6: Роздріб | F6: Опт 1 | G6: кількість | H6: Опт 2 | I6: кількість | J6: Опт 3 | K6: кількість
A7: ='Прайс валюта'!A7 -> - | B7: ='Прайс валюта'!B7 -> 0043(N) | C7: ='Прайс валюта'!C7 -> Механізм підйому матраца М43 графіт (250-1500N), компл., (Укр+Турц)* | D7: грн. | E7: =ROUND(E33+E46*2,0) -> 712 | F7: =F33+F46*2 -> 640 | G7: ='Прайс валюта'!G7 -> 5пар | H7: =H33+H46*2 -> 605 | I7: ='Прайс валюта'!I7 -> 10пар | J7: =J33+J46*2 -> 557 | K7: ='Прайс валюта'!K7 -> 30пар
A8: - | B8: 00431(N) | C8: ='Прайс валюта'!C8 -> Механізм підйому матраца М43 білий (250-1500N), компл., (Укр+Турц)* | D8: грн. | E8: =ROUND(E34+E46*2,0) -> 712 | F8: =F34+F46*2 -> 640 | G8: ='Прайс валюта'!G8 -> 5пар | H8: =H34+H46*2 -> 605 | I8: ='Прайс валюта'!I8 -> 10пар | J8: =J34+J46*2 -> 557 | K8: ='Прайс валюта'!K8 -> 30пар
A9: ='Прайс валюта'!A9 -> - | B9: ='Прайс валюта'!B9 -> 0046(N) | C9: ='Прайс валюта'!C9 -> Механізм підйому матраца Eksan (250-1800N), компл., (Турц)* | D9: грн. | E9: =ROUND(E35+E46*2,0) -> 698 | F9: =F35+F46*2 -> 627 | G9: ='Прайс валюта'!G9 -> 5пар | H9: =H35+H46*2 -> 593 | I9: ='Прайс валюта'!I9 -> 10пар | J9: =J35+J46*2 -> 523 | K9: ='Прайс валюта'!K9 -> 30пар
A10: - | B10: ='Прайс валюта'!B10 -> 00461(N) | C10: ='Прайс валюта'!C10 -> Механізм підйому матраца Gasan чорний (250-1800N), компл., (Турц)* | D10: грн. | E10: =ROUND(E36+E46*2,0) -> 638 | F10: =F36+F46*2 -> 574 | G10: ='Прайс валюта'!G10 -> 5пар | H10: =H36+H46*2 -> 542 | I10: ='Прайс валюта'!I10 -> 10пар | J10: =J36+J46*2 -> 479 | K10: ='Прайс валюта'!K10 -> 30пар
A11: - | B11: 00462(N) | C11: ='Прайс валюта'!C11 -> Механізм підйому матраца Gasan білий (250-1800N), компл., (Турц)* | D11: грн. | E11: =ROUND(E37+E46*2,0) -> 638 | F11: =F37+F46*2 -> 574 | G11: ='Прайс валюта'!G11 -> 5пар | H11: =H37+H46*2 -> 542 | I11: ='Прайс валюта'!I11 -> 10пар | J11: =J37+J46*2 -> 479 | K11: ='Прайс валюта'!K11 -> 30пар
A12: ='Прайс валюта'!A12 -> - | B12: ='Прайс валюта'!B12 -> 0045(N) | C12: ='Прайс валюта'!C12 -> Механізм підйому матраца М45 чорний (250-1800N), компл., (Укр-Турц)* | D12: грн. | E12: =ROUND(E38+E46*2,0) -> 665 | F12: =F38+F46*2 -> 598 | G12: ='Прайс валюта'!G12 -> 5пар | H12: =H38+H46*2 -> 565 | I12: ='Прайс валюта'!I12 -> 10пар | J12: =J38+J46*2 -> 499 | K12: ='Прайс валюта'!K12 -> 30пар
A13: - | B13: ='Прайс валюта'!B13 -> 00452(N) | C13: ='Прайс валюта'!C13 -> Механізм підйому матраца М45 Титан (250-1800N), компл., (Укр-Турц)* | D13: грн. | E13: =E12 -> 665 | F13: =F12 -> 598 | G13: ='Прайс валюта'!G13 -> 5пар | H13: =H12 -> 565 | I13: ='Прайс валюта'!I13 -> 10пар | J13: =J12 -> 499 | K13: ='Прайс валюта'!K13 -> 30пар
A14: ='Прайс валюта'!A14 -> - | B14: ='Прайс валюта'!B14 -> 0047(N) | C14: ='Прайс валюта'!C14 -> Механізм підйому матраца Фокстер (250-1800N), компл., (Укр+Турц) | D14: грн. | E14: =E40+E46*2+E19 -> 939 | F14: =F40+F46*2+F19 -> 844.3 | G14: ='Прайс валюта'!G14 -> 5пар | H14: =H40+H46*2+H19 -> 796.45 | I14: ='Прайс валюта'!I14 -> 10пар | J14: =J40+J46*2+J19 -> 702.75 | K14: ='Прайс валюта'!K14 -> 30пар
A15: ='Прайс валюта'!A15 -> - | B15: ='Прайс валюта'!B15 -> 00451(N) | C15: ='Прайс валюта'!C15 -> Механізм підйому матраца М45 Long (250-1800N), компл., (Укр+Турц)* | D15: грн. | E15: =ROUND(E41+E46*2,0) -> 872 | F15: =F41+F46*2 -> 784 | G15: ='Прайс валюта'!G15 -> 5пар | H15: =H41+H46*2 -> 741 | I15: ='Прайс валюта'!I15 -> 10пар | J15: =J41+J46*2 -> 654 | K15: ='Прайс валюта'!K15 -> 30пар
A16: ='Прайс валюта'!A16 -> - | B16: ='Прайс валюта'!B16 -> 0044(N) | C16: ='Прайс валюта'!C16 -> Механізм підйому матраца Himars чорний (150-1500N), компл., (Укр+Турц) | D16: грн. | E16: =ROUND(E42+E48*2,0) -> 1194 | F16: =F42+F48*2 -> 1075 | G16: ='Прайс валюта'!G16 -> 5пар | H16: =H42+H48*2 -> 1015 | I16: ='Прайс валюта'!I16 -> 10пар | J16: =J42+J48*2 -> 934 | K16: ='Прайс валюта'!K16 -> 30пар
A17: - | B17: 00442(N) | C17: ='Прайс валюта'!C17 -> Механізм підйому матраца Himars титан (150-1500N), компл., (Укр+Турц) | D17: грн. | E17: =ROUND(E43+E48*2,0) -> 1194 | F17: =F43+F48*2 -> 1075 | G17: ='Прайс валюта'!G17 -> 5пар | H17: =H43+H48*2 -> 1015 | I17: ='Прайс валюта'!I17 -> 10пар | J17: =J43+J48*2 -> 934 | K17: ='Прайс валюта'!K17 -> 30пар
A18: - | B18: ='Прайс валюта'!B18 -> 0048(N) | C18: ='Прайс валюта'!C18 -> Механізм підйому матраца Samson (150-1500N), компл., (Укр+Турц) | D18: грн. | E18: =ROUND(E44+E49*2,0) -> 1806 | F18: =F44+F49*2 -> 1625 | G18: ='Прайс валюта'!G18 -> 5пар | H18: =H44+H49*2 -> 1536 | I18: ='Прайс валюта'!I18 -> 10пар | J18: =J44+J49*2 -> 1416 | K18: ='Прайс валюта'!K18 -> 30пар
A19: ='Прайс валюта'!A19 -> 350 | B19: ='Прайс валюта'!B19 -> 0100 | C19: ='Прайс валюта'!C19 -> Обмежувач ходу амортизатора для механізму підйому ліжка | D19: грн. | E19: =ROUND('Прайс валюта'!E19,0) -> 30 | F19: =ROUND('Прайс валюта'!F19,0) -> 27 | G19: ='Прайс валюта'!G19 -> 10шт | H19: =ROUND('Прайс валюта'!H19,0) -> 24 | I19: ='Прайс валюта'!I19 -> 50шт | J19: =ROUND('Прайс валюта'!J19,0) -> 21 | K19: ='Прайс валюта'!K19 -> 100шт
A20: ='Прайс валюта'!A20 -> 60 | B20: ='Прайс валюта'!B20 -> 0020 | C20: ='Прайс валюта'!C20 -> Обмежувач матрацу Твіст | D20: грн. | E20: =ROUND('Прайс валюта'!E20,0) -> 79 | F20: =ROUND('Прайс валюта'!F20,0) -> 67 | G20: 10шт | H20: =ROUND('Прайс валюта'!H20,0) -> 63 | I20: 50шт | J20: =ROUND('Прайс валюта'!J20,0) -> 55 | K20: 100шт
A21: ='Прайс валюта'!A21 -> 161 | B21: ='Прайс валюта'!B21 -> 0025/0030 | C21: ='Прайс валюта'!C21 -> Обмежувач матрацу Флеш цинк 25мм, 30мм | D21: грн. | E21: =ROUND('Прайс валюта'!E21,0) -> 68 | F21: =ROUND('Прайс валюта'!F21,0) -> 58 | G21: 10шт | H21: =ROUND('Прайс валюта'!H21,0) -> 54 | I21: 50шт | J21: =ROUND('Прайс валюта'!J21,0) -> 48 | K21: 100шт
A22: ='Прайс валюта'!A22 -> 161 | B22: ='Прайс валюта'!B22 -> 00251/00301 | C22: ='Прайс валюта'!C22 -> Обмежувач матрацу Флеш хром 25мм, 30мм | D22: грн. | E22: =ROUND('Прайс валюта'!E22,0) -> 120 | F22: =ROUND('Прайс валюта'!F22,0) -> 102 | G22: 10шт | H22: =ROUND('Прайс валюта'!H22,0) -> 96 | I22: 50шт | J22: =ROUND('Прайс валюта'!J22,0) -> 90 | K22: 100шт
A23: ='Прайс валюта'!A23 -> 0 | B23: ='Прайс валюта'!B23 -> 003205 | C23: Обмежувач матрацу Блек | D23: грн. | E23: =ROUND('Прайс валюта'!E23,0) -> 50 | F23: =ROUND('Прайс валюта'!F23,0) -> 45 | G23: 10шт | H23: =ROUND('Прайс валюта'!H23,0) -> 43 | I23: 50шт | J23: =ROUND('Прайс валюта'!J23,0) -> 40 | K23: 100шт
A24: ='Прайс валюта'!A24 -> 200 | B24: ='Прайс валюта'!B24 -> 01000б | C24: ='Прайс валюта'!C24 -> Ремінь для підйому каркасу чорна | D24: грн. | E24: =ROUND('Прайс валюта'!E24,0) -> 50 | F24: =ROUND('Прайс валюта'!F24,0) -> 43 | G24: 10шт | H24: =ROUND('Прайс валюта'!H24,0) -> 35 | I24: ='Прайс валюта'!I24 -> 30шт | J24: =ROUND('Прайс валюта'!J24,0) -> 33 | K24: ='Прайс валюта'!K24 -> 50шт
A25: 200 | B25: ='Прайс валюта'!B25 -> 01000ч | C25: ='Прайс валюта'!C25 -> Ремінь для підйому каркасу біла | D25: грн. | E25: =ROUND('Прайс валюта'!E25,0) -> 50 | F25: =ROUND('Прайс валюта'!F25,0) -> 43 | G25: 10шт | H25: =ROUND('Прайс валюта'!H25,0) -> 35 | I25: ='Прайс валюта'!I25 -> 30шт | J25: =ROUND('Прайс валюта'!J25,0) -> 33 | K25: ='Прайс валюта'!K25 -> 50шт
A26: ='Прайс валюта'!A26 -> 60 | B26: ='Прайс валюта'!B26 -> 7070 | C26: ='Прайс валюта'!C26 -> Кутник ліжка опорний оцинкований 7*7см | D26: грн. | E26: =ROUND('Прайс валюта'!E26,0) -> 14 | F26: ='Прайс валюта'!F26 -> 12.15 | G26: 10шт | H26: ='Прайс валюта'!H26 -> 11.475 | I26: 50шт | J26: ='Прайс валюта'!J26 -> 10.8 | K26: 100шт
A27: ='Прайс валюта'!A27 -> 60 | B27: ='Прайс валюта'!B27 -> 13513525 | C27: ='Прайс валюта'!C27 -> Кутник ліжка опорний сірий 13,5*13,5см | D27: грн. | E27: =ROUND('Прайс валюта'!E27,0) -> 78 | F27: =ROUND('Прайс валюта'!F27,0) -> 70 | G27: 10шт | H27: =ROUND('Прайс валюта'!H27,0) -> 66 | I27: 50шт | J27: ='Прайс валюта'!J27 -> 62.4 | K27: 100шт
A28: ='Прайс валюта'!A28 -> 55 | B28: ='Прайс валюта'!B28 -> 14014025 | C28: ='Прайс валюта'!C28 -> Кутник ліжка опорний сірий 14*14см | D28: грн. | E28: =ROUND('Прайс валюта'!E28,0) -> 78 | F28: =ROUND('Прайс валюта'!F28,0) -> 70 | G28: 10шт | H28: =ROUND('Прайс валюта'!H28,0) -> 66 | I28: 50шт | J28: =ROUND('Прайс валюта'!J28,0) -> 62 | K28: 100шт
A29: ='Прайс валюта'!A29 -> 60 | B29: ='Прайс валюта'!B29 -> 1601601 | C29: ='Прайс валюта'!C29 -> Кутник ліжка опорний чорний 16*16см | D29: грн. | E29: =ROUND('Прайс валюта'!E29,0) -> 90 | F29: =ROUND('Прайс валюта'!F29,0) -> 81 | G29: 10шт | H29: ='Прайс валюта'!H29 -> 76.5 | I29: 50шт | J29: ='Прайс валюта'!J29 -> 72 | K29: 100шт
A30: ='Прайс валюта'!A30 -> 60 | B30: ='Прайс валюта'!B30 -> 160160 | C30: ='Прайс валюта'!C30 -> Кутник ліжка опорний оцинкований 16*16см | D30: грн. | E30: =ROUND('Прайс валюта'!E30,0) -> 90 | F30: ='Прайс валюта'!F30 -> 81 | G30: 10шт | H30: ='Прайс валюта'!H30 -> 76.5 | I30: 50шт | J30: ='Прайс валюта'!J30 -> 72 | K30: 100шт
A31: ='Прайс валюта'!A31 -> 100 | B31: ='Прайс валюта'!B31 -> 4317 | C31: ='Прайс валюта'!C31 -> Демпфер гумовий, відбійник для металевого кутника | D31: грн. | E31: =ROUND('Прайс валюта'!E31,0) -> 8 | F31: ='Прайс валюта'!F31 -> 7.2 | G31: 10шт | H31: ='Прайс валюта'!H31 -> 6.48 | I31: 50шт | J31: ='Прайс валюта'!J31 -> 6 | K31: 100шт
A32: ='Прайс валюта'!A32 -> 70 | B32: ='Прайс валюта'!B32 -> 12034 | C32: ='Прайс валюта'!C32 -> Зачіп монтажний універсальний оцинкований | D32: грн. | E32: =ROUND('Прайс валюта'!E32,0) -> 32 | F32: ='Прайс валюта'!F32 -> 27.2 | G32: 10шт | H32: ='Прайс валюта'!H32 -> 25.6 | I32: 50шт | J32: ='Прайс валюта'!J32 -> 22.4 | K32: 100шт
A33: ='Прайс валюта'!A33 -> 46 | B33: ='Прайс валюта'!B33 -> 0043 | C33: ='Прайс валюта'!C33 -> Механізм підйому матраца М43 графіт (без амортизаторів), пара, (Укр) | D33: грн. | E33: =ROUND('Прайс валюта'!E33,0) -> 460 | F33: =ROUND('Прайс валюта'!F33,0) -> 414 | G33: ='Прайс валюта'!G33 -> 5пар | H33: =ROUND('Прайс валюта'!H33,0) -> 391 | I33: ='Прайс валюта'!I33 -> 10пар | J33: =ROUND('Прайс валюта'!J33,0) -> 368 | K33: ='Прайс валюта'!K33 -> 30пар
A34: ='Прайс валюта'!A34 -> 46 | B34: ='Прайс валюта'!B34 -> 00431 | C34: ='Прайс валюта'!C34 -> Механізм підйому матраца М43 білий (без амортизаторів), пара, (Укр) | D34: грн. | E34: =ROUND('Прайс валюта'!E34,0) -> 460 | F34: =ROUND('Прайс валюта'!F34,0) -> 414 | G34: ='Прайс валюта'!G34 -> 5пар | H34: =ROUND('Прайс валюта'!H34,0) -> 391 | I34: ='Прайс валюта'!I34 -> 10пар | J34: =ROUND('Прайс валюта'!J34,0) -> 368 | K34: ='Прайс валюта'!K34 -> 30пар
A35: ='Прайс валюта'!A35 -> 50 | B35: ='Прайс валюта'!B35 -> 0046 | C35: ='Прайс валюта'!C35 -> Механізм підйому матраца Eksan (без амортиз), пара, (Укр) | D35: грн. | E35: =ROUND('Прайс валюта'!E35*E2,0) -> 446 | F35: =ROUND('Прайс валюта'!F35*E2,0) -> 401 | G35: ='Прайс валюта'!G35 -> 5пар | H35: =ROUND('Прайс валюта'!H35*E2,0) -> 379 | I35: ='Прайс валюта'!I35 -> 10пар | J35: =ROUND('Прайс валюта'!J35*E2,0) -> 334 | K35: ='Прайс валюта'!K35 -> 30пар
A36: ='Прайс валюта'!A36 -> 55 | B36: ='Прайс валюта'!B36 -> 00461 | C36: ='Прайс валюта'!C36 -> Механізм підйому матраца Gasan чорний (без амортиз), пара, (Турц) | D36: грн. | E36: =ROUND('Прайс валюта'!E36*E3,0) -> 386 | F36: =ROUND('Прайс валюта'!F36*E3,0) -> 348 | G36: ='Прайс валюта'!G36 -> 5пар | H36: =ROUND('Прайс валюта'!H36*E3,0) -> 328 | I36: ='Прайс валюта'!I36 -> 10пар | J36: =ROUND('Прайс валюта'!J36*E3,0) -> 290 | K36: ='Прайс валюта'!K36 -> 30пар
A37: ='Прайс валюта'!A37 -> 55 | B37: ='Прайс валюта'!B37 -> 00462 | C37: ='Прайс валюта'!C37 -> Механізм підйому матраца Gasan білий (без амортиз), пара, (Турц) | D37: грн. | E37: =E36 -> 386 | F37: =ROUND('Прайс валюта'!F37*E3,0) -> 348 | G37: ='Прайс валюта'!G37 -> 5пар | H37: =ROUND('Прайс валюта'!H37*E3,0) -> 328 | I37: ='Прайс валюта'!I37 -> 10пар | J37: =ROUND('Прайс валюта'!J37*E3,0) -> 290 | K37: ='Прайс валюта'!K37 -> 30пар
A38: ='Прайс валюта'!A38 -> 50 | B38: ='Прайс валюта'!B38 -> 0045 | C38: ='Прайс валюта'!C38 -> Механізм підйому матраца М45 чорний (без амортизаторів) | D38: грн. | E38: =ROUND('Прайс валюта'!E38,0) -> 413 | F38: =ROUND('Прайс валюта'!F38,0) -> 372 | G38: ='Прайс валюта'!G38 -> 5пар | H38: =ROUND('Прайс валюта'!H38,0) -> 351 | I38: ='Прайс валюта'!I38 -> 10пар | J38: =ROUND('Прайс валюта'!J38,0) -> 310 | K38: ='Прайс валюта'!K38 -> 30пар
A39: ='Прайс валюта'!A39 -> 50 | B39: ='Прайс валюта'!B39 -> 00452 | C39: ='Прайс валюта'!C39 -> Механізм підйому матраца М45 Титан (без амортизаторів) | D39: грн. | E39: =ROUND('Прайс валюта'!E39,0) -> 413 | F39: =ROUND('Прайс валюта'!F39,0) -> 372 | G39: ='Прайс валюта'!G39 -> 5пар | H39: =ROUND('Прайс валюта'!H39,0) -> 351 | I39: ='Прайс валюта'!I39 -> 10пар | J39: =ROUND('Прайс валюта'!J39,0) -> 310 | K39: ='Прайс валюта'!K39 -> 30пар
B40: ='Прайс валюта'!B40 -> 0047 | C40: ='Прайс валюта'!C40 -> Механізм підйому матраца Фокстер (без амортизаторів) | D40: грн. | E40: 657 | F40: =E40*0.9 -> 591.3 | G40: ='Прайс валюта'!G40 -> 5пар | H40: =E40*0.85 -> 558.45 | I40: ='Прайс валюта'!I40 -> 10пар | J40: =E40*0.75 -> 492.75 | K40: ='Прайс валюта'!K40 -> 30пар
...

Sheet Імпорт
A1: Код товару | B1: Назва товару | C1: Ціна роздріб | D1: Опт 1 | E1: К-ть | F1: Опт 2 | G1: К-ть | H1: Опт 3 | I1: К-ть | J1: Епіцентр | K1: К-ть | L1: Пром ID | M1: Збіг кодів з АБ
A2: 285250 | B2: Газовий амортизатор 300мм 250N | C2: ='Прайс гривня'!$E$45 -> 216 | D2: ='Прайс гривня'!$F$45 -> 194 | E2: 10 | F2: ='Прайс гривня'!$H$45 -> 184 | G2: 50 | H2: ='Прайс гривня'!$J$45 -> 162 | I2: 100 | J2: =ROUND(C2*1.15,0) -> 248 | K2: 1 | L2: 904595652 | M2: +
A3: 285500 | B3: Газовий амортизатор 300мм 500N | C3: ='Прайс гривня'!$E$45 -> 216 | D3: ='Прайс гривня'!$F$45 -> 194 | E3: 10 | F3: ='Прайс гривня'!$H$45 -> 184 | G3: 50 | H3: ='Прайс гривня'!$J$45 -> 162 | I3: 100 | J3: =ROUND(C3*1.15,0) -> 248 | K3: 1 | L3: 1171546647 | M3: +
A4: 285750 | B4: Газовий амортизатор 300мм 750N | C4: ='Прайс гривня'!$E$45 -> 216 | D4: ='Прайс гривня'!$F$45 -> 194 | E4: 10 | F4: ='Прайс гривня'!$H$45 -> 184 | G4: 50 | H4: ='Прайс гривня'!$J$45 -> 162 | I4: 100 | J4: =ROUND(C4*1.15,0) -> 248 | K4: 1 | L4: 1171546648 | M4: +
A5: 2851000 | B5: Газовий амортизатор 300мм 1000N | C5: ='Прайс гривня'!$E$45 -> 216 | D5: ='Прайс гривня'!$F$45 -> 194 | E5: 10 | F5: ='Прайс гривня'!$H$45 -> 184 | G5: 50 | H5: ='Прайс гривня'!$J$45 -> 162 | I5: 100 | J5: =ROUND(C5*1.15,0) -> 248 | K5: 1 | L5: 1171546649 | M5: +
A6: 2851200 | B6: Газовий амортизатор 300мм 1200N | C6: ='Прайс гривня'!$E$45 -> 216 | D6: ='Прайс гривня'!$F$45 -> 194 | E6: 10 | F6: ='Прайс гривня'!$H$45 -> 184 | G6: 50 | H6: ='Прайс гривня'!$J$45 -> 162 | I6: 100 | J6: =ROUND(C6*1.15,0) -> 248 | K6: 1 | L6: 1171546650 | M6: +
A7: 2851500 | B7: Газовий амортизатор 300мм 1500N | C7: ='Прайс гривня'!$E$45 -> 216 | D7: ='Прайс гривня'!$F$45 -> 194 | E7: 10 | F7: ='Прайс гривня'!$H$45 -> 184 | G7: 50 | H7: ='Прайс гривня'!$J$45 -> 162 | I7: 100 | J7: =ROUND(C7*1.15,0) -> 248 | K7: 1 | L7: 1171546651 | M7: +
A8: 285250008 | B8: Комплект газового амортизатор 285-300мм з кріпленнями М8, 250N | C8: ='Прайс гривня'!E45+'Прайс гривня'!E50+'Прайс гривня'!E$51 -> 316 | D8: ='Прайс гривня'!F45+'Прайс гривня'!F50+'Прайс гривня'!F51 -> 284 | E8: 5 | F8: ='Прайс гривня'!H45+'Прайс гривня'!H50+'Прайс гривня'!H51 -> 264 | G8: 10 | H8: ='Прайс гривня'!J45+'Прайс гривня'!J50+'Прайс гривня'!J51 -> 232 | I8: 30 | J8: =ROUND(C8*1.15,0) -> 363 | K8: 1 | L8: 2899145154 | M8: +
A9: 285500008 | B9: Комплект газового амортизатор 285-300мм з кріпленнями М8, 500N | C9: ='Прайс гривня'!E45+'Прайс гривня'!E50+'Прайс гривня'!E$51 -> 316 | D9: ='Прайс гривня'!F45+'Прайс гривня'!F50+'Прайс гривня'!F51 -> 284 | E9: 5 | F9: ='Прайс гривня'!H45+'Прайс гривня'!H50+'Прайс гривня'!H51 -> 264 | G9: 10 | H9: ='Прайс гривня'!J45+'Прайс гривня'!J50+'Прайс гривня'!J51 -> 232 | I9: 30 | J9: =ROUND(C9*1.15,0) -> 363 | K9: 1 | L9: 2899145155 | M9: +
A10: 285750008 | B10: Комплект газового амортизатор 285-300мм з кріпленнями М8, 750N | C10: ='Прайс гривня'!E45+'Прайс гривня'!E50+'Прайс гривня'!E$51 -> 316 | D10: ='Прайс гривня'!F45+'Прайс гривня'!F50+'Прайс гривня'!F51 -> 284 | E10: 5 | F10: ='Прайс гривня'!H45+'Прайс гривня'!H50+'Прайс гривня'!H51 -> 264 | G10: 10 | H10: ='Прайс гривня'!J45+'Прайс гривня'!J50+'Прайс гривня'!J51 -> 232 | I10: 30 | J10: =ROUND(C10*1.15,0) -> 363 | K10: 1 | L10: 2899145157 | M10: +
A11: 2851000008 | B11: Комплект газового амортизатор 285-300мм з кріпленнями М8, 1000N | C11: ='Прайс гривня'!E45+'Прайс гривня'!E50+'Прайс гривня'!E$51 -> 316 | D11: ='Прайс гривня'!F45+'Прайс гривня'!F50+'Прайс гривня'!F51 -> 284 | E11: 5 | F11: ='Прайс гривня'!H45+'Прайс гривня'!H50+'Прайс гривня'!H51 -> 264 | G11: 10 | H11: ='Прайс гривня'!J45+'Прайс гривня'!J50+'Прайс гривня'!J51 -> 232 | I11: 30 | J11: =ROUND(C11*1.15,0) -> 363 | K11: 1 | L11: 2899145158 | M11: +
A12: 2851200008 | B12: Комплект газового амортизатор 285-300мм з кріпленнями М8, 1200N | C12: ='Прайс гривня'!E45+'Прайс гривня'!E50+'Прайс гривня'!E$51 -> 316 | D12: ='Прайс гривня'!F45+'Прайс гривня'!F50+'Прайс гривня'!F51 -> 284 | E12: 5 | F12: ='Прайс гривня'!H45+'Прайс гривня'!H50+'Прайс гривня'!H51 -> 264 | G12: 10 | H12: ='Прайс гривня'!J45+'Прайс гривня'!J50+'Прайс гривня'!J51 -> 232 | I12: 30 | J12: =ROUND(C12*1.15,0) -> 363 | K12: 1 | L12: 2899145159 | M12: +
A13: 2851500008 | B13: Комплект газового амортизатор 285-300мм з кріпленнями М8, 1500N | C13: ='Прайс гривня'!E45+'Прайс гривня'!E50+'Прайс гривня'!E$51 -> 316 | D13: ='Прайс гривня'!F45+'Прайс гривня'!F50+'Прайс гривня'!F51 -> 284 | E13: 5 | F13: ='Прайс гривня'!H45+'Прайс гривня'!H50+'Прайс гривня'!H51 -> 264 | G13: 10 | H13: ='Прайс гривня'!J45+'Прайс гривня'!J50+'Прайс гривня'!J51 -> 232 | I13: 30 | J13: =ROUND(C13*1.15,0) -> 363 | K13: 1 | L13: 2899145160 | M13: +
A14: 365250 | B14: Газовий амортизатор 380мм 250N | C14: ='Прайс гривня'!$E$47 -> 137 | D14: ='Прайс гривня'!$F$47 -> 123 | E14: 10 | F14: ='Прайс гривня'!$H$47 -> 116 | G14: 50 | H14: ='Прайс гривня'!$J$47 -> 102.8 | I14: 100 | J14: =ROUND(C14*1.15,0) -> 158 | K14: 1 | L14: 1171518449 | M14: +
A15: 365350 | B15: Газовий амортизатор 380мм 350N | C15: ='Прайс гривня'!$E$46 -> 126 | D15: ='Прайс гривня'!$F$46 -> 113 | E15: 10 | F15: ='Прайс гривня'!$H$46 -> 107 | G15: 50 | H15: ='Прайс гривня'!$J$46 -> 94.5 | I15: 100 | J15: =ROUND(C15*1.15,0) -> 145 | K15: 1 | L15: 55962645 | M15: +
A16: 365450 | B16: Газовий амортизатор 380мм 450N | C16: ='Прайс гривня'!$E$46 -> 126 | D16: ='Прайс гривня'!$F$46 -> 113 | E16: 10 | F16: ='Прайс гривня'!$H$46 -> 107 | G16: 50 | H16: ='Прайс гривня'!$J$46 -> 94.5 | I16: 100 | J16: =ROUND(C16*1.15,0) -> 145 | K16: 1 | L16: 1171518451 | M16: +
A17: 365750 | B17: Газовий амортизатор 380мм 750N | C17: ='Прайс гривня'!$E$46 -> 126 | D17: ='Прайс гривня'!$F$46 -> 113 | E17: 10 | F17: ='Прайс гривня'!$H$46 -> 107 | G17: 50 | H17: ='Прайс гривня'!$J$46 -> 94.5 | I17: 100 | J17: =ROUND(C17*1.15,0) -> 145 | K17: 1 | L17: 1171518452 | M17: +
A18: 3651000 | B18: Газовий амортизатор 380мм 1000N | C18: ='Прайс гривня'!$E$46 -> 126 | D18: ='Прайс гривня'!$F$46 -> 113 | E18: 10 | F18: ='Прайс гривня'!$H$46 -> 107 | G18: 50 | H18: ='Прайс гривня'!$J$46 -> 94.5 | I18: 100 | J18: =ROUND(C18*1.15,0) -> 145 | K18: 1 | L18: 1171518453 | M18: +
A19: 3651200 | B19: Газовий амортизатор 380мм 1200N | C19: ='Прайс гривня'!$E$46 -> 126 | D19: =D18 -> 113 | E19: 10 | F19: =F18 -> 107 | G19: 50 | H19: =H18 -> 94.5 | I19: 100 | J19: =ROUND(C19*1.15,0) -> 145 | K19: 1 | L19: 1171518454 | M19: +
A20: 3651500 | B20: Газовий амортизатор 380мм 1500N | C20: ='Прайс гривня'!E47 -> 137 | D20: ='Прайс гривня'!F47 -> 123 | E20: 10 | F20: ='Прайс гривня'!H47 -> 116 | G20: 50 | H20: ='Прайс гривня'!J47 -> 102.8 | I20: 100 | J20: =ROUND(C20*1.15,0) -> 158 | K20: 1 | L20: 1171518455 | M20: +
A21: 3651800 | B21: Газовий амортизатор 380мм 1800N | C21: ='Прайс гривня'!E47 -> 137 | D21: ='Прайс гривня'!F47 -> 123 | E21: 10 | F21: ='Прайс гривня'!H47 -> 116 | G21: 50 | H21: ='Прайс гривня'!J47 -> 102.8 | I21: 100 | J21: =ROUND(C21*1.15,0) -> 158 | K21: 1 | L21: 2571013296 | M21: +
A22: 365250008 | B22: Комплект газового амортизатор 365-380мм з кріпленнями М8, 250N | C22: ='Прайс гривня'!E47+'Прайс гривня'!E50+'Прайс гривня'!E51 -> 237 | D22: ='Прайс гривня'!F47+'Прайс гривня'!F50+'Прайс гривня'!F51 -> 213 | E22: 5 | F22: ='Прайс гривня'!H47+'Прайс гривня'!H50+'Прайс гривня'!H51 -> 196 | G22: 10 | H22: ='Прайс гривня'!J47+'Прайс гривня'!J50+'Прайс гривня'!J51 -> 172.8 | I22: 30 | J22: =ROUND(C22*1.15,0) -> 273 | K22: 1 | L22: 1754258548 | M22: +
A23: 365350008 | B23: Комплект газового амортизатор 365-380мм з кріпленнями М8, 350N | C23: ='Прайс гривня'!E46+'Прайс гривня'!E50+'Прайс гривня'!E51 -> 226 | D23: ='Прайс гривня'!F46+'Прайс гривня'!F50+'Прайс гривня'!F51 -> 203 | E23: 5 | F23: ='Прайс гривня'!H46+'Прайс гривня'!H50+'Прайс гривня'!H51 -> 187 | G23: 10 | H23: ='Прайс гривня'!J46+'Прайс гривня'!J50+'Прайс гривня'!J51 -> 164.5 | I23: 30 | J23: =ROUND(C23*1.15,0) -> 260 | K23: 1 | L23: 2930777551 | M23: +
A24: 365450008 | B24: Комплект газового амортизатор 365-380мм з кріпленнями М8, 450N | C24: ='Прайс гривня'!E46+'Прайс гривня'!E50+'Прайс гривня'!E51 -> 226 | D24: ='Прайс гривня'!F46+'Прайс гривня'!F50+'Прайс гривня'!F51 -> 203 | E24: 5 | F24: ='Прайс гривня'!H46+'Прайс гривня'!H50+'Прайс гривня'!H51 -> 187 | G24: 10 | H24: ='Прайс гривня'!J46+'Прайс гривня'!J50+'Прайс гривня'!J51 -> 164.5 | I24: 30 | J24: =ROUND(C24*1.15,0) -> 260 | K24: 1 | L24: 2930777552 | M24: +
A25: 365750008 | B25: Комплект газового амортизатор 365-380мм з кріпленнями М8, 750N | C25: ='Прайс гривня'!E46+'Прайс гривня'!E50+'Прайс гривня'!E51 -> 226 | D25: ='Прайс гривня'!F46+'Прайс гривня'!F50+'Прайс гривня'!F51 -> 203 | E25: 5 | F25: ='Прайс гривня'!H46+'Прайс гривня'!H50+'Прайс гривня'!H51 -> 187 | G25: 10 | H25: ='Прайс гривня'!J46+'Прайс гривня'!J50+'Прайс гривня'!J51 -> 164.5 | I25: 30 | J25: =ROUND(C25*1.15,0) -> 260 | K25: 1 | L25: 2930777553 | M25: +
A26: 3651000008 | B26: Комплект газового амортизатор 365-380мм з кріпленнями М8, 1000N | C26: ='Прайс гривня'!E46+'Прайс гривня'!E50+'Прайс гривня'!E51 -> 226 | D26: ='Прайс гривня'!F46+'Прайс гривня'!F50+'Прайс гривня'!F51 -> 203 | E26: 5 | F26: ='Прайс гривня'!H46+'Прайс гривня'!H50+'Прайс гривня'!H51 -> 187 | G26: 10 | H26: ='Прайс гривня'!J46+'Прайс гривня'!J50+'Прайс гривня'!J51 -> 164.5 | I26: 30 | J26: =ROUND(C26*1.15,0) -> 260 | K26: 1 | L26: 2930777554 | M26: +
A27: 3651200008 | B27: Комплект газового амортизатор 365-380мм з кріпленнями М8, 1200N | C27: ='Прайс гривня'!E46+'Прайс гривня'!E50+'Прайс гривня'!E51 -> 226 | D27: ='Прайс гривня'!F46+'Прайс гривня'!F50+'Прайс гривня'!F51 -> 203 | E27: 5 | F27: ='Прайс гривня'!H46+'Прайс гривня'!H50+'Прайс гривня'!H51 -> 187 | G27: 10 | H27: ='Прайс гривня'!J46+'Прайс гривня'!J50+'Прайс гривня'!J51 -> 164.5 | I27: 30 | J27: =ROUND(C27*1.15,0) -> 260 | K27: 1 | L27: 2930777555 | M27: +
A28: 3651500008 | B28: Комплект газового амортизатор 365-380мм з кріпленнями М8, 1500N | C28: ='Прайс гривня'!E47+'Прайс гривня'!E50+'Прайс гривня'!E51 -> 237 | D28: ='Прайс гривня'!F47+'Прайс гривня'!F50+'Прайс гривня'!F51 -> 213 | E28: 5 | F28: ='Прайс гривня'!H47+'Прайс гривня'!H50+'Прайс гривня'!H51 -> 196 | G28: 10 | H28: ='Прайс гривня'!J47+'Прайс гривня'!J50+'Прайс гривня'!J51 -> 172.8 | I28: 30 | J28: =ROUND(C28*1.15,0) -> 273 | K28: 1 | L28: 2930777556 | M28: +
A29: 3651800008 | B29: Комплект газового амортизатор 365-380мм з кріпленнями М8, 1800N | C29: ='Прайс гривня'!E47+'Прайс гривня'!E50+'Прайс гривня'!E51 -> 237 | D29: ='Прайс гривня'!F47+'Прайс гривня'!F50+'Прайс гривня'!F51 -> 213 | E29: 5 | F29: ='Прайс гривня'!H47+'Прайс гривня'!H50+'Прайс гривня'!H51 -> 196 | G29: 10 | H29: ='Прайс гривня'!J47+'Прайс гривня'!J50+'Прайс гривня'!J51 -> 172.8 | I29: 30 | J29: =ROUND(C29*1.15,0) -> 273 | K29: 1 | L29: 2930777557 | M29: +
A30: 405250 | B30: Газовий амортизатор 420мм 250N | C30: ='Прайс гривня'!$E$48 -> 212 | D30: ='Прайс гривня'!$F$48 -> 191 | E30: 10 | F30: ='Прайс гривня'!$H$48 -> 180 | G30: 50 | H30: ='Прайс гривня'!$J$48 -> 159 | I30: 100 | J30: =ROUND(C30*1.15,0) -> 244 | K30: 1 | L30: 67467370 | M30: +
A31: 405500 | B31: Газовий амортизатор 420мм 500N | C31: ='Прайс гривня'!$E$48 -> 212 | D31: ='Прайс гривня'!$F$48 -> 191 | E31: 10 | F31: ='Прайс гривня'!$H$48 -> 180 | G31: 50 | H31: ='Прайс гривня'!$J$48 -> 159 | I31: 100 | J31: =ROUND(C31*1.15,0) -> 244 | K31: 1 | L31: 1185094277 | M31: +
A32: 405600 | B32: Газовий амортизатор 420мм 600N | C32: ='Прайс гривня'!$E$48 -> 212 | D32: ='Прайс гривня'!$F$48 -> 191 | E32: 10 | F32: ='Прайс гривня'!$H$48 -> 180 | G32: 50 | H32: ='Прайс гривня'!$J$48 -> 159 | I32: 100 | J32: =ROUND(C32*1.15,0) -> 244 | K32: 1 | L32: 1185094278 | M32: +
A33: 405800 | B33: Газовий амортизатор 420мм 800N | C33: ='Прайс гривня'!$E$48 -> 212 | D33: ='Прайс гривня'!$F$48 -> 191 | E33: 10 | F33: ='Прайс гривня'!$H$48 -> 180 | G33: 50 | H33: ='Прайс гривня'!$J$48 -> 159 | I33: 100 | J33: =ROUND(C33*1.15,0) -> 244 | K33: 1 | L33: 1185094279 | M33: +
A34: 4051000 | B34: Газовий амортизатор 420мм 1000N | C34: ='Прайс гривня'!$E$48 -> 212 | D34: ='Прайс гривня'!$F$48 -> 191 | E34: 10 | F34: ='Прайс гривня'!$H$48 -> 180 | G34: 50 | H34: ='Прайс гривня'!$J$48 -> 159 | I34: 100 | J34: =ROUND(C34*1.15,0) -> 244 | K34: 1 | L34: 1185094280 | M34: +
A35: 4051200 | B35: Газовий амортизатор 420мм 1200N | C35: ='Прайс гривня'!$E$48 -> 212 | D35: ='Прайс гривня'!$F$48 -> 191 | E35: 10 | F35: ='Прайс гривня'!$H$48 -> 180 | G35: 50 | H35: ='Прайс гривня'!$J$48 -> 159 | I35: 100 | J35: =ROUND(C35*1.15,0) -> 244 | K35: 1 | L35: 1185094281 | M35: +
A36: 4051500 | B36: Газовий амортизатор 420мм 1500N | C36: ='Прайс гривня'!$E$48 -> 212 | D36: ='Прайс гривня'!$F$48 -> 191 | E36: 10 | F36: ='Прайс гривня'!$H$48 -> 180 | G36: 50 | H36: ='Прайс гривня'!$J$48 -> 159 | I36: 100 | J36: =ROUND(C36*1.15,0) -> 244 | K36: 1 | L36: 1185094282 | M36: +
A37: 405250008 | B37: Комплект газового амортизатор 405-420мм з кріпленнями М8, 250N | C37: ='Прайс гривня'!E48+'Прайс гривня'!E50+'Прайс гривня'!E51 -> 312 | D37: ='Прайс гривня'!F48+'Прайс гривня'!F50+'Прайс гривня'!F51 -> 281 | E37: 5 | F37: ='Прайс гривня'!H48+'Прайс гривня'!H50+'Прайс гривня'!H51 -> 260 | G37: 10 | H37: ='Прайс гривня'!J48+'Прайс гривня'!J50+'Прайс гривня'!J51 -> 229 | I37: 30 | J37: =ROUND(C37*1.15,0) -> 359 | K37: 1 | L37: 2815711064 | M37: +
A38: 405500008 | B38: Комплект газового амортизатор 405-420мм з кріпленнями М8, 500N | C38: ='Прайс гривня'!E48+'Прайс гривня'!E50+'Прайс гривня'!E51 -> 312 | D38: ='Прайс гривня'!F48+'Прайс гривня'!F50+'Прайс гривня'!F51 -> 281 | E38: 5 | F38: ='Прайс гривня'!H48+'Прайс гривня'!H50+'Прайс гривня'!H51 -> 260 | G38: 10 | H38: ='Прайс гривня'!J48+'Прайс гривня'!J50+'Прайс гривня'!J51 -> 229 | I38: 30 | J38: =ROUND(C38*1.15,0) -> 359 | K38: 1 | L38: 2815711066 | M38: +
A39: 405600008 | B39: Комплект газового амортизатор 405-420мм з кріпленнями М8, 600N | C39: ='Прайс гривня'!E48+'Прайс гривня'!E50+'Прайс гривня'!E51 -> 312 | D39: ='Прайс гривня'!F48+'Прайс гривня'!F50+'Прайс гривня'!F51 -> 281 | E39: 5 | F39: ='Прайс гривня'!H48+'Прайс гривня'!H50+'Прайс гривня'!H51 -> 260 | G39: 10 | H39: ='Прайс гривня'!J48+'Прайс гривня'!J50+'Прайс гривня'!J51 -> 229 | I39: 30 | J39: =ROUND(C39*1.15,0) -> 359 | K39: 1 | L39: 2815711067 | M39: +
A40: 405800008 | B40: Комплект газового амортизатор 405-420мм з кріпленнями М8, 800N | C40: ='Прайс гривня'!E48+'Прайс гривня'!E50+'Прайс гривня'!E51 -> 312 | D40: ='Прайс гривня'!F48+'Прайс гривня'!F50+'Прайс гривня'!F51 -> 281 | E40: 5 | F40: ='Прайс гривня'!H48+'Прайс гривня'!H50+'Прайс гривня'!H51 -> 260 | G40: 10 | H40: ='Прайс гривня'!J48+'Прайс гривня'!J50+'Прайс гривня'!J51 -> 229 | I40: 30 | J40: =ROUND(C40*1.15,0) -> 359 | K40: 1 | L40: 2815711068 | M40: +
...
