Workbook

Sheet Опис  Ворота
F2: Гаражні секційні ворота
D3: Виробник гаражних воріт європейської якості та української стійкості
B4: Особливості конструкції: Товщина направляючих - 1,5 мм Товщина панелі - 40 мм Вбудований нижній профіль - Так Торсіонні пружини покриті порошковим фарбуванням, що покращує тертя між витками при роботі пружин (не стріляють, не скриплять), а токож збільшується ресурс пружини Верхній профіль наближений до кольору панелі (RAL 8014, 7016, 9006) Переваги: Міцність: ворота виготовляють з міцних матеріалів, що робить їх міцними і здатними витримувати негоду. Ворота доступні в різних стилях та кольорах, тому Ви можете вибрати той, який відповідає естетиці вашого будинку. Теплоізоляція: панель секційних воріт товщиною 40 мм, яка заповненена у середині пінополіуретаном заміняє товщину цегляної стіни. По периметру встановлені ущільнювачі, що не дає холоду проникати в приміщення. Безпека: ворота можна укомплектувати ригильними замками та засовами, а також автоматикою, що блокує відкриття ззовні і забезпечує додаткову безпеку для вашого будинку та майна. Секційні гаражні ворота ЗБК, розраховані на встановлення у проєми не великих або середніх розмірів. Їх можна облаштувати панорамними секціями, вікнами або хвірткою. Торсіонні механізми цієї моделі секційних воріт розраховані на 25 000 циклів. Довговічність конструкції забезпечує відкривання та закривання полотна воріт без зусиль.
B5: Типи панелей
B38: Доступні кольори панелей для виготовлення воріт

Sheet Тип монтажу
F2: Гаражні секційні ВОРОТА SK
B3: ВоротаSК із пружинами розтягу
B4: Подвійні пружини розтягування розташовуються всередині кутових стійок, забезпечуючи захист від затискання та відскоку.
B5: Ресурс пружин: 25 000 циклів
B6: Доступні для замовлення з 07.2023
B7: Параметр | E7: ЗБК з пружинами розтягу
B8: Перемичка (H), мм
B9: Ручне керування | E9: min = 100
B10: Автоматичне керування | E10: min = 130
B11: Висота проїзду у світлі, мм
B12: Висота проїзду у світлі | E12: Висота отвору - 170
B13: Автоматичне керування | E13: Висота отвору - 100
B14: Бічний простір, мм | E14: min=90
B15: Ширина проїзду у світлі, мм | E15: Ширина отвору - 40
B17: Ворота SК з торсійними пружинами
B18: Типи монтажу для воріт серії NOVA: низький, стандартний, високий. Пофарбовані торсійні пружини.
B19: Ресурс пружин: 25 000 циклів
B20: Доступні для замовлення з 07.2023
B31: Стандартний монтаж | H31: Низький монтаж | M31: Високий монтаж
C35: Тип монтажу | E35: Вид керування воротами | H35: Висота проїзду у світлі | J35: Мін. висота перемички, мм | L35: Мін. бічний простір, мм | N35: Ширина проїзду у світлі, мм
C36: низький | E36: ручне | H36: висота отвору-200 | J36: 120 | L36: 90 | N36: LDB-30
E37: за допомогою електроприводу | H37: висота отвору-110 | J37: 130
C38: стандартний | E38: ручне | H38: висота отвору-200 | J38: 210 | L38: 75 | N38: LDB-40
E39: за допомогою електроприводу | H39: висота отвору | J39: 210
C40: високий без хвіртки/з хвірткою | E40: ручне | H40: висота отвору | J40: 500/900 | L40: 95 | N40: LDB-40
E41: за допомогою електроприводу

Sheet Пружини 
B4: Комплект воріт секційних з панелей (підйомного типу) серії SK
B5: ПРУЖИНИ РОЗТЯГУ
D6: ШИРИНА
C7: ВИСОТА | E7: 2000 | F7: 2100 | G7: 2200 | H7: 2300 | I7: 2400 | J7: 2500 | K7: 2600 | L7: 2700 | M7: 2800 | N7: 2900 | O7: 3000 | P7: 3100 | Q7: 3200
D8: 1800 | E8: =(('[1]Пружини розтягу'!E8*'[1]Пружини розтягу'!$T$1)+'[1]Пружини розтягу'!E8)*(100%+25%) -> 550 | F8: =435*(100%+25%) -> 543.75 | G8: =440*(100%+25%) -> 550 | H8: =450*(100%+25%) -> 562.5 | I8: =455*(100%+25%) -> 568.75 | J8: =465*(100%+25%) -> 581.25 | K8: =(('[1]Пружини розтягу'!K8*'[1]Пружини розтягу'!$T$1)+'[1]Пружини розтягу'!K8)*(100%+25%) -> 594 | L8: =485*(100%+25%) -> 606.25 | M8: =495*(100%+25%) -> 618.75 | N8: =505*(100%+25%) -> 631.25 | O8: =510*(100%+25%) -> 637.5 | P8: =525*(100%+25%) -> 656.25 | Q8: =(('[1]Пружини розтягу'!Q8*'[1]Пружини розтягу'!$T$1)+'[1]Пружини розтягу'!Q8)*(100%+25%) -> 662.75
D9: 1900 | E9: =465*(100%+25%) -> 581.25 | F9: =465*(100%+25%) -> 581.25 | G9: =475*(100%+25%) -> 593.75 | H9: =485*(100%+25%) -> 606.25 | I9: =460*(100%+25%) -> 575 | J9: =(('[1]Пружини розтягу'!J9*'[1]Пружини розтягу'!$T$1)+'[1]Пружини розтягу'!J9)*(100%+25%) -> 631.125 | K9: =505*(100%+25%) -> 631.25 | L9: =525*(100%+25%) -> 656.25 | M9: =535*(100%+25%) -> 668.75 | N9: =530*(100%+25%) -> 662.5 | O9: =555*(100%+25%) -> 693.75 | P9: =570*(100%+25%) -> 712.5 | Q9: =585*(100%+25%) -> 731.25
D10: 2000 | E10: =475*(100%+25%) -> 593.75 | F10: =480*(100%+25%) -> 600 | G10: =500*(100%+25%) -> 625 | H10: =500*(100%+25%) -> 625 | I10: =(('[1]Пружини розтягу'!I10*'[1]Пружини розтягу'!$T$1)+'[1]Пружини розтягу'!I10)*(100%+25%) -> 618.75 | J10: =525*(100%+25%) -> 656.25 | K10: =535*(100%+25%) -> 668.75 | L10: =540*(100%+25%) -> 675 | M10: =555*(100%+25%) -> 693.75 | N10: =560*(100%+25%) -> 700 | O10: =585*(100%+25%) -> 731.25 | P10: =600*(100%+25%) -> 750 | Q10: =610*(100%+25%) -> 762.5
D11: 2100 | E11: =495*(100%+25%) -> 618.75 | F11: =510*(100%+25%) -> 637.5 | G11: =525*(100%+25%) -> 656.25 | H11: =535*(100%+25%) -> 668.75 | I11: =545*(100%+25%) -> 681.25 | J11: =555*(100%+25%) -> 693.75 | K11: =(('[1]Пружини розтягу'!K11*'[1]Пружини розтягу'!$T$1)+'[1]Пружини розтягу'!K11)*(100%+25%) -> 706.75 | L11: =575*(100%+25%) -> 718.75 | M11: =590*(100%+25%) -> 737.5 | N11: =600*(100%+25%) -> 750 | O11: =615*(100%+25%) -> 768.75 | P11: =(('[1]Пружини розтягу'!P11*'[1]Пружини розтягу'!$T$1)+'[1]Пружини розтягу'!P11)*(100%+25%) -> 781 | Q11: =645*(100%+25%) -> 806.25
D12: 2200 | E12: =500*(100%+25%) -> 625 | F12: =515*(100%+25%) -> 643.75 | G12: =530*(100%+25%) -> 662.5 | H12: =540*(100%+25%) -> 675 | I12: =550*(100%+25%) -> 687.5 | J12: =560*(100%+25%) -> 700 | K12: =575*(100%+25%) -> 718.75 | L12: =580*(100%+25%) -> 725 | M12: =595*(100%+25%) -> 743.75 | N12: =605*(100%+25%) -> 756.25 | O12: =625*(100%+25%) -> 781.25 | P12: =635*(100%+25%) -> 793.75 | Q12: =650*(100%+25%) -> 812.5
D13: 2300 | E13: =510*(100%+25%) -> 637.5 | F13: =520*(100%+25%) -> 650 | G13: =535*(100%+25%) -> 668.75 | H13: =545*(100%+25%) -> 681.25 | I13: =555*(100%+25%) -> 693.75 | J13: =(('[1]Пружини розтягу'!J13*'[1]Пружини розтягу'!$T$1)+'[1]Пружини розтягу'!J13)*(100%+25%) -> 706.75 | K13: =585*(100%+25%) -> 731.25 | L13: =595*(100%+25%) -> 743.75 | M13: =605*(100%+25%) -> 756.25 | N13: =615*(100%+25%) -> 768.75 | O13: =635*(100%+25%) -> 793.75 | P13: =650*(100%+25%) -> 812.5 | Q13: =665*(100%+25%) -> 831.25
D14: 2400 | E14: =520*(100%+25%) -> 650 | F14: =530*(100%+25%) -> 662.5 | G14: =540*(100%+25%) -> 675 | H14: =545*(100%+25%) -> 681.25 | I14: =565*(100%+25%) -> 706.25 | J14: =(('[1]Пружини розтягу'!J14*'[1]Пружини розтягу'!$T$1)+'[1]Пружини розтягу'!J14)*(100%+25%) -> 719.125 | K14: =595*(100%+25%) -> 743.75 | L14: =605*(100%+25%) -> 756.25 | M14: =615*(100%+25%) -> 768.75 | N14: =625*(100%+25%) -> 781.25 | O14: =640*(100%+25%) -> 800 | P14: =660*(100%+25%) -> 825 | Q14: =680*(100%+25%) -> 850
D15: 2500 | E15: =540*(100%+25%) -> 675 | F15: =545*(100%+25%) -> 681.25 | G15: =555*(100%+25%) -> 693.75 | H15: =575*(100%+25%) -> 718.75 | I15: =590*(100%+25%) -> 737.5 | J15: =610*(100%+25%) -> 762.5 | K15: =615*(100%+25%) -> 768.75 | L15: =(('[1]Пружини розтягу'!L15*'[1]Пружини розтягу'!$T$1)+'[1]Пружини розтягу'!L15)*(100%+25%) -> 787.875 | M15: =640*(100%+25%) -> 800 | N15: =(('[1]Пружини розтягу'!N15*'[1]Пружини розтягу'!$T$1)+'[1]Пружини розтягу'!N15)*(100%+25%) -> 818.125 | O15: =670*(100%+25%) -> 837.5 | P15: =695*(100%+25%) -> 868.75 | Q15: =710*(100%+25%) -> 887.5
D16: 2600 | E16: =560*(100%+25%) -> 700 | F16: =570*(100%+25%) -> 712.5 | G16: =575*(100%+25%) -> 718.75 | H16: =595*(100%+25%) -> 743.75 | I16: =610*(100%+25%) -> 762.5 | J16: =630*(100%+25%) -> 787.5 | K16: =630*(100%+25%) -> 787.5 | L16: =640*(100%+25%) -> 800 | M16: =655*(100%+25%) -> 818.75 | N16: =670*(100%+25%) -> 837.5 | O16: =695*(100%+25%) -> 868.75 | P16: =710*(100%+25%) -> 887.5 | Q16: =725*(100%+25%) -> 906.25
D17: 2700 | E17: =585*(100%+25%) -> 731.25 | F17: =590*(100%+25%) -> 737.5 | G17: =600*(100%+25%) -> 750 | H17: =615*(100%+25%) -> 768.75 | I17: =645*(100%+25%) -> 806.25 | J17: =655*(100%+25%) -> 818.75 | K17: =660*(100%+25%) -> 825 | L17: =685*(100%+25%) -> 856.25 | M17: =700*(100%+25%) -> 875 | N17: =(('[1]Пружини розтягу'!N17*'[1]Пружини розтягу'!$T$1)+'[1]Пружини розтягу'!N17)*(100%+25%) -> 886.875 | O17: =730*(100%+25%) -> 912.5 | P17: =740*(100%+25%) -> 925 | Q17: =770*(100%+25%) -> 962.5
D18: 2800 | E18: =600*(100%+25%) -> 750 | F18: =610*(100%+25%) -> 762.5 | G18: =615*(100%+25%) -> 768.75 | H18: =630*(100%+25%) -> 787.5 | I18: =650*(100%+25%) -> 812.5 | J18: =670*(100%+25%) -> 837.5 | K18: =675*(100%+25%) -> 843.75 | L18: =700*(100%+25%) -> 875 | M18: =715*(100%+25%) -> 893.75 | N18: =735*(100%+25%) -> 918.75 | O18: =750*(100%+25%) -> 937.5 | P18: =775*(100%+25%) -> 968.75 | Q18: =805*(100%+25%) -> 1006.25
D19: 2900 | E19: =615*(100%+25%) -> 768.75 | F19: =625*(100%+25%) -> 781.25 | G19: =635*(100%+25%) -> 793.75 | H19: =550*(100%+25%) -> 687.5 | I19: =670*(100%+25%) -> 837.5 | J19: =690*(100%+25%) -> 862.5 | K19: =705*(100%+25%) -> 881.25 | L19: =720*(100%+25%) -> 900 | M19: =740*(100%+25%) -> 925 | N19: =775*(100%+25%) -> 968.75 | O19: =795*(100%+25%) -> 993.75 | P19: =815*(100%+25%) -> 1018.75 | Q19: =830*(100%+25%) -> 1037.5
B21: Варіанти кольорів
B22: НАЙМЕНУВАННЯ | N22: ОД. | P22: ЦІНА
B23: Націнка за колір WENGE (Венге) з одного боку | N23: шт | P23: 0.1
B24: Націнка за колір GOLDEN OAK (Золотий дуб) з одного боку | N24: шт | P24: 0.1
B25: Націнка за колір DARK OAK (Темний дуб) з одного боку | N25: шт | P25: 0.1
B27: Автоматика
B28: НАЙМЕНУВАННЯ | N28: ОД. | P28: ЦІНА (евро)
B29: Автоматика Італія висота воріт до 2600 мм і площа воріт 9 м2 | N29: шт | P29: =175*(100%+25%) -> 218.75 | Q29: =0*(100%+25%) -> 0 | R29: =0*(100%+25%) -> 0
B30: Автоматика до гаражних Воріт Китай цепна висотою воріт до 2700 мм | N30: шт | P30: =120*(100%+25%) -> 150 | Q30: =0*(100%+25%) -> 0 | R30: =0*(100%+25%) -> 0
B31: Автоматика до гаражних Воріт Китай цепна висотою воріт до 3000 мм | N31: шт | P31: =130*(100%+25%) -> 162.5 | Q31: =0*(100%+25%) -> 0 | R31: =0*(100%+25%) -> 0
B32: Автоматика до гаражних Воріт Китай цепна висотою воріт до 3400 мм | N32: шт | P32: =140*(100%+25%) -> 175 | Q32: =0*(100%+25%) -> 0 | R32: =0*(100%+25%) -> 0
B33: Автоматика до гаражних Воріт Китай ременна висотою воріт до 2700 мм | N33: шт | P33: =140*(100%+25%) -> 175 | Q33: =0*(100%+25%) -> 0 | R33: =0*(100%+25%) -> 0
B34: Автоматика до гаражних Воріт Китай ременна висотою воріт до 3000 мм | N34: шт | P34: =150*(100%+25%) -> 187.5 | Q34: =0*(100%+25%) -> 0 | R34: =0*(100%+25%) -> 0
B35: Автоматика АКЦІЯ | N35: шт | P35: =110*(100%+25%) -> 137.5 | Q35: =0*(100%+25%) -> 0 | R35: =0*(100%+25%) -> 0
B36: Замок та засув
B37: НАЙМЕНУВАННЯ | N37: ОД. | P37: ЦІНА (евро)
B38: Комплект замка для секційних воріт | N38: шт | P38: =45*(100%+25%) -> 56.25 | Q38: =0*(100%+25%) -> 0 | R38: =0*(100%+25%) -> 0
B39: Засов | N39: шт | P39: =10*(100%+25%) -> 12.5 | Q39: =0*(100%+25%) -> 0 | R39: =0*(100%+25%) -> 0
B40: Замок розблоковування | N40: шт | P40: =25*(100%+25%) -> 31.25 | Q40: =0*(100%+25%) -> 0 | R40: =0*(100%+25%) -> 0
B41: Замок для розблокування для Італійської автоматики | N41: шт | P41: =30*(100%+25%) -> 37.5 | Q41: =0*(100%+25%) -> 0 | R41: =0*(100%+25%) -> 0
B42: Акумулятор | N42: шт | P42: =50*(100%+25%) -> 62.5 | Q42: =0*(100%+25%) -> 0 | R42: =0*(100%+25%) -> 0
B43: Вайфай модуль | N43: шт | P43: =40*(100%+25%) -> 50 | Q43: =0*(100%+25%) -> 0 | R43: =0*(100%+25%) -> 0
B44: ДЖСМ Модуль | N44: шт | P44: =40*(100%+25%) -> 50 | Q44: =0*(100%+25%) -> 0 | R44: =0*(100%+25%) -> 0
B45: Перфорований профіль (32х32х2 мм), L-3000 мм | N45: 3 метри | P45: =12*(100%+25%) -> 15 | Q45: =0*(100%+25%) -> 0 | R45: =0*(100%+25%) -> 0
B48: м. Івано-Франківськ, вул. Миру, 90 +38 (096)792-98-46 https:

Sheet Торсіон
B3: Комплект воріт секційних з панелей (підйомного типу) серії SК
C4: ТОРСІОН
C5: ШИРИНА
C6: ВИСОТА | E6: 2000 | F6: 2100 | G6: 2200 | H6: 2300 | I6: 2400 | J6: 2500 | K6: 2600 | L6: 2700 | M6: 2800 | N6: 2900 | O6: 3000 | P6: 3100 | Q6: 3200 | R6: 3300 | S6: 3400 | T6: 3500 | U6: 3600 | V6: 3700 | W6: 3800 | X6: 3900 | Y6: 4000
D7: 1800 | E7: =500*(100%+25%) -> 625 | F7: =510*(100%+25%) -> 637.5 | G7: =515*(100%+25%) -> 643.75 | H7: =(([1]Торсіони!H7*[1]Торсіони!$A$1)+[1]Торсіони!H7)*(100%+25%) -> 655.875 | I7: =535*(100%+25%) -> 668.75 | J7: =(([1]Торсіони!J7*[1]Торсіони!$A$1)+[1]Торсіони!J7)*(100%+25%) -> 706.75 | K7: =575*(100%+25%) -> 718.75 | L7: =585*(100%+25%) -> 731.25 | M7: =600*(100%+25%) -> 750 | N7: =610*(100%+25%) -> 762.5 | O7: =635*(100%+25%) -> 793.75 | P7: =(([1]Торсіони!P7*[1]Торсіони!$A$1)+[1]Торсіони!P7)*(100%+25%) -> 812.625 | Q7: =675*(100%+25%) -> 843.75 | R7: =(([1]Торсіони!R7*[1]Торсіони!$A$1)+[1]Торсіони!R7)*(100%+25%) -> 837.375 | S7: =685*(100%+25%) -> 856.25 | T7: =700*(100%+25%) -> 875 | U7: =705*(100%+25%) -> 881.25 | V7: =710*(100%+25%) -> 887.5 | W7: =(([1]Торсіони!W7*[1]Торсіони!$A$1)+[1]Торсіони!W7)*(100%+25%) -> 906.125 | X7: =760*(100%+25%) -> 950 | Y7: =775*(100%+25%) -> 968.75
D8: 1900 | E8: =510*(100%+25%) -> 637.5 | F8: =515*(100%+25%) -> 643.75 | G8: =520*(100%+25%) -> 650 | H8: =530*(100%+25%) -> 662.5 | I8: =540*(100%+25%) -> 675 | J8: =575*(100%+25%) -> 718.75 | K8: =580*(100%+25%) -> 725 | L8: =590*(100%+25%) -> 737.5 | M8: =605*(100%+25%) -> 756.25 | N8: =620*(100%+25%) -> 775 | O8: =(([1]Торсіони!O8*[1]Торсіони!$A$1)+[1]Торсіони!O8)*(100%+25%) -> 800.25 | P8: =660*(100%+25%) -> 825 | Q8: =685*(100%+25%) -> 856.25 | R8: =690*(100%+25%) -> 862.5 | S8: =700*(100%+25%) -> 875 | T8: =710*(100%+25%) -> 887.5 | U8: =715*(100%+25%) -> 893.75 | V8: =720*(100%+25%) -> 900 | W8: =745*(100%+25%) -> 931.25 | X8: =770*(100%+25%) -> 962.5 | Y8: =(([1]Торсіони!Y8*[1]Торсіони!$A$1)+[1]Торсіони!Y8)*(100%+25%) -> 974.875
D9: 2000 | E9: =530*(100%+25%) -> 662.5 | F9: =530*(100%+25%) -> 662.5 | G9: =540*(100%+25%) -> 675 | H9: =555*(100%+25%) -> 693.75 | I9: =565*(100%+25%) -> 706.25 | J9: =615*(100%+25%) -> 768.75 | K9: =605*(100%+25%) -> 756.25 | L9: =620*(100%+25%) -> 775 | M9: =625*(100%+25%) -> 781.25 | N9: =635*(100%+25%) -> 793.75 | O9: =655*(100%+25%) -> 818.75 | P9: =675*(100%+25%) -> 843.75 | Q9: =700*(100%+25%) -> 875 | R9: =705*(100%+25%) -> 881.25 | S9: =720*(100%+25%) -> 900 | T9: =725*(100%+25%) -> 906.25 | U9: =735*(100%+25%) -> 918.75 | V9: =740*(100%+25%) -> 925 | W9: =755*(100%+25%) -> 943.75 | X9: =775*(100%+25%) -> 968.75 | Y9: =(([1]Торсіони!Y9*[1]Торсіони!$A$1)+[1]Торсіони!Y9)*(100%+25%) -> 987.25
D10: 2100 | E10: =535*(100%+25%) -> 668.75 | F10: =540*(100%+25%) -> 675 | G10: =550*(100%+25%) -> 687.5 | H10: =565*(100%+25%) -> 706.25 | I10: =575*(100%+25%) -> 718.75 | J10: =625*(100%+25%) -> 781.25 | K10: =610*(100%+25%) -> 762.5 | L10: =630*(100%+25%) -> 787.5 | M10: =635*(100%+25%) -> 793.75 | N10: =645*(100%+25%) -> 806.25 | O10: =660*(100%+25%) -> 825 | P10: =690*(100%+25%) -> 862.5 | Q10: =715*(100%+25%) -> 893.75 | R10: =720*(100%+25%) -> 900 | S10: =725*(100%+25%) -> 906.25 | T10: =735*(100%+25%) -> 918.75 | U10: =745*(100%+25%) -> 931.25 | V10: =750*(100%+25%) -> 937.5 | W10: =760*(100%+25%) -> 950 | X10: =785*(100%+25%) -> 981.25 | Y10: =795*(100%+25%) -> 993.75
D11: 2200 | E11: =540*(100%+25%) -> 675 | F11: =545*(100%+25%) -> 681.25 | G11: =555*(100%+25%) -> 693.75 | H11: =575*(100%+25%) -> 718.75 | I11: =580*(100%+25%) -> 725 | J11: =635*(100%+25%) -> 793.75 | K11: =615*(100%+25%) -> 768.75 | L11: =640*(100%+25%) -> 800 | M11: =645*(100%+25%) -> 806.25 | N11: =655*(100%+25%) -> 818.75 | O11: =670*(100%+25%) -> 837.5 | P11: =695*(100%+25%) -> 868.75 | Q11: =725*(100%+25%) -> 906.25 | R11: =730*(100%+25%) -> 912.5 | S11: =735*(100%+25%) -> 918.75 | T11: =745*(100%+25%) -> 931.25 | U11: =755*(100%+25%) -> 943.75 | V11: =765*(100%+25%) -> 956.25 | W11: =770*(100%+25%) -> 962.5 | X11: =790*(100%+25%) -> 987.5 | Y11: =805*(100%+25%) -> 1006.25
D12: 2300 | E12: =545*(100%+25%) -> 681.25 | F12: =550*(100%+25%) -> 687.5 | G12: =560*(100%+25%) -> 700 | H12: =585*(100%+25%) -> 731.25 | I12: =585*(100%+25%) -> 731.25 | J12: =645*(100%+25%) -> 806.25 | K12: =620*(100%+25%) -> 775 | L12: =650*(100%+25%) -> 812.5 | M12: =655*(100%+25%) -> 818.75 | N12: =665*(100%+25%) -> 831.25 | O12: =(([1]Торсіони!O12*[1]Торсіони!$A$1)+[1]Торсіони!O12)*(100%+25%) -> 844.25 | P12: =705*(100%+25%) -> 881.25 | Q12: =735*(100%+25%) -> 918.75 | R12: =740*(100%+25%) -> 925 | S12: =745*(100%+25%) -> 931.25 | T12: =755*(100%+25%) -> 943.75 | U12: =765*(100%+25%) -> 956.25 | V12: =775*(100%+25%) -> 968.75 | W12: =780*(100%+25%) -> 975 | X12: =(([1]Торсіони!X12*[1]Торсіони!$A$1)+[1]Торсіони!X12)*(100%+25%) -> 1018.875 | Y12: =835*(100%+25%) -> 1043.75
D13: 2400 | E13: =560*(100%+25%) -> 700 | F13: =565*(100%+25%) -> 706.25 | G13: =575*(100%+25%) -> 718.75 | H13: =595*(100%+25%) -> 743.75 | I13: =600*(100%+25%) -> 750 | J13: =655*(100%+25%) -> 818.75 | K13: =630*(100%+25%) -> 787.5 | L13: =660*(100%+25%) -> 825 | M13: =670*(100%+25%) -> 837.5 | N13: =680*(100%+25%) -> 850 | O13: =695*(100%+25%) -> 868.75 | P13: =715*(100%+25%) -> 893.75 | Q13: =745*(100%+25%) -> 931.25 | R13: =750*(100%+25%) -> 937.5 | S13: =755*(100%+25%) -> 943.75 | T13: =765*(100%+25%) -> 956.25 | U13: =775*(100%+25%) -> 968.75 | V13: =795*(100%+25%) -> 993.75 | W13: =805*(100%+25%) -> 1006.25 | X13: =(([1]Торсіони!X13*[1]Торсіони!$A$1)+[1]Торсіони!X13)*(100%+25%) -> 1024.375 | Y13: =845*(100%+25%) -> 1056.25
D14: 2500 | E14: =(([1]Торсіони!E14*[1]Торсіони!$A$1)+[1]Торсіони!E14)*(100%+25%) -> 719.125 | F14: =585*(100%+25%) -> 731.25 | G14: =590*(100%+25%) -> 737.5 | H14: =615*(100%+25%) -> 768.75 | I14: =630*(100%+25%) -> 787.5 | J14: =670*(100%+25%) -> 837.5 | K14: =(([1]Торсіони!K14*[1]Торсіони!$A$1)+[1]Торсіони!K14)*(100%+25%) -> 818.125 | L14: =675*(100%+25%) -> 843.75 | M14: =695*(100%+25%) -> 868.75 | N14: =710*(100%+25%) -> 887.5 | O14: =720*(100%+25%) -> 900 | P14: =(([1]Торсіони!P14*[1]Торсіони!$A$1)+[1]Торсіони!P14)*(100%+25%) -> 913 | Q14: =755*(100%+25%) -> 943.75 | R14: =765*(100%+25%) -> 956.25 | S14: =780*(100%+25%) -> 975 | T14: =795*(100%+25%) -> 993.75 | U14: =815*(100%+25%) -> 1018.75 | V14: =830*(100%+25%) -> 1037.5 | W14: =(([1]Торсіони!W14*[1]Торсіони!$A$1)+[1]Торсіони!W14)*(100%+25%) -> 1056 | X14: =870*(100%+25%) -> 1087.5 | Y14: =895*(100%+25%) -> 1118.75
D15: 2600 | E15: =600*(100%+25%) -> 750 | F15: =605*(100%+25%) -> 756.25 | G15: =615*(100%+25%) -> 768.75 | H15: =(([1]Торсіони!H15*[1]Торсіони!$A$1)+[1]Торсіони!H15)*(100%+25%) -> 787.875 | I15: =650*(100%+25%) -> 812.5 | J15: =690*(100%+25%) -> 862.5 | K15: =680*(100%+25%) -> 850 | L15: =700*(100%+25%) -> 875 | M15: =(([1]Торсіони!M15*[1]Торсіони!$A$1)+[1]Торсіони!M15)*(100%+25%) -> 893.75 | N15: =730*(100%+25%) -> 912.5 | O15: =760*(100%+25%) -> 950 | P15: =775*(100%+25%) -> 968.75 | Q15: =785*(100%+25%) -> 981.25 | R15: =790*(100%+25%) -> 987.5 | S15: =805*(100%+25%) -> 1006.25 | T15: =815*(100%+25%) -> 1018.75 | U15: =(([1]Торсіони!U15*[1]Торсіони!$A$1)+[1]Торсіони!U15)*(100%+25%) -> 1043.625 | V15: =(([1]Торсіони!V15*[1]Торсіони!$A$1)+[1]Торсіони!V15)*(100%+25%) -> 1068.375 | W15: =(([1]Торсіони!W15*[1]Торсіони!$A$1)+[1]Торсіони!W15)*(100%+25%) -> 1100 | X15: =900*(100%+25%) -> 1125 | Y15: =920*(100%+25%) -> 1150
D16: 2700 | E16: =620*(100%+25%) -> 775 | F16: =626*(100%+25%) -> 782.5 | G16: =(([1]Торсіони!G16*[1]Торсіони!$A$1)+[1]Торсіони!G16)*(100%+25%) -> 793.375 | H16: =650*(100%+25%) -> 812.5 | I16: =670*(100%+25%) -> 837.5 | J16: =710*(100%+25%) -> 887.5 | K16: =(([1]Торсіони!K16*[1]Торсіони!$A$1)+[1]Торсіони!K16)*(100%+25%) -> 886.875 | L16: =730*(100%+25%) -> 912.5 | M16: =(([1]Торсіони!M16*[1]Торсіони!$A$1)+[1]Торсіони!M16)*(100%+25%) -> 930.875 | N16: =760*(100%+25%) -> 950 | O16: =800*(100%+25%) -> 1000 | P16: =805*(100%+25%) -> 1006.25 | Q16: =815*(100%+25%) -> 1018.75 | R16: =825*(100%+25%) -> 1031.25 | S16: =835*(100%+25%) -> 1043.75 | T16: =840*(100%+25%) -> 1050 | U16: =860*(100%+25%) -> 1075 | V16: =(([1]Торсіони!V16*[1]Торсіони!$A$1)+[1]Торсіони!V16)*(100%+25%) -> 1100 | W16: =915*(100%+25%) -> 1143.75 | X16: =(([1]Торсіони!X16*[1]Торсіони!$A$1)+[1]Торсіони!X16)*(100%+25%) -> 1161.875 | Y16: =(([1]Торсіони!Y16*[1]Торсіони!$A$1)+[1]Торсіони!Y16)*(100%+25%) -> 1181.125
D17: 2800 | E17: =(([1]Торсіони!E17*[1]Торсіони!$A$1)+[1]Торсіони!E17)*(100%+25%) -> 793.375 | F17: =645*(100%+25%) -> 806.25 | G17: =650*(100%+25%) -> 812.5 | H17: =670*(100%+25%) -> 837.5 | I17: =680*(100%+25%) -> 850 | J17: =735*(100%+25%) -> 918.75 | K17: =735*(100%+25%) -> 918.75 | L17: =(([1]Торсіони!L17*[1]Торсіони!$A$1)+[1]Торсіони!L17)*(100%+25%) -> 930.875 | M17: =770*(100%+25%) -> 962.5 | N17: =780*(100%+25%) -> 975 | O17: =795*(100%+25%) -> 993.75 | P17: =825*(100%+25%) -> 1031.25 | Q17: =835*(100%+25%) -> 1043.75 | R17: =845*(100%+25%) -> 1056.25 | S17: =855*(100%+25%) -> 1068.75 | T17: =(([1]Торсіони!T17*[1]Торсіони!$A$1)+[1]Торсіони!T17)*(100%+25%) -> 1093.125 | U17: =900*(100%+25%) -> 1125 | V17: =925*(100%+25%) -> 1156.25 | W17: =940*(100%+25%) -> 1175 | X17: =955*(100%+25%) -> 1193.75 | Y17: =(([1]Торсіони!Y17*[1]Торсіони!$A$1)+[1]Торсіони!Y17)*(100%+25%) -> 1212.75
D18: 2900 | E18: =650*(100%+25%) -> 812.5 | F18: =(([1]Торсіони!F18*[1]Торсіони!$A$1)+[1]Торсіони!F18)*(100%+25%) -> 825 | G18: =675*(100%+25%) -> 843.75 | H18: =(([1]Торсіони!H18*[1]Торсіони!$A$1)+[1]Торсіони!H18)*(100%+25%) -> 856.625 | I18: =(([1]Торсіони!I18*[1]Торсіони!$A$1)+[1]Торсіони!I18)*(100%+25%) -> 874.5 | J18: =(([1]Торсіони!J18*[1]Торсіони!$A$1)+[1]Торсіони!J18)*(100%+25%) -> 950.125 | K18: =780*(100%+25%) -> 975 | L18: =800*(100%+25%) -> 1000 | M18: =810*(100%+25%) -> 1012.5 | N18: =820*(100%+25%) -> 1025 | O18: =835*(100%+25%) -> 1043.75 | P18: =840*(100%+25%) -> 1050 | Q18: =850*(100%+25%) -> 1062.5 | R18: =865*(100%+25%) -> 1081.25 | S18: =(([1]Торсіони!S18*[1]Торсіони!$A$1)+[1]Торсіони!S18)*(100%+25%) -> 1100 | T18: =915*(100%+25%) -> 1143.75 | U18: =(([1]Торсіони!U18*[1]Торсіони!$A$1)+[1]Торсіони!U18)*(100%+25%) -> 1161.875 | V18: =(([1]Торсіони!V18*[1]Торсіони!$A$1)+[1]Торсіони!V18)*(100%+25%) -> 1181.125 | W18: =(([1]Торсіони!W18*[1]Торсіони!$A$1)+[1]Торсіони!W18)*(100%+25%) -> 1200.375 | X18: =980*(100%+25%) -> 1225 | Y18: =995*(100%+25%) -> 1243.75
D19: 3000 | E19: =720*(100%+25%) -> 900 | F19: =725*(100%+25%) -> 906.25 | G19: =735*(100%+25%) -> 918.75 | H19: =755*(100%+25%) -> 943.75 | I19: =770*(100%+25%) -> 962.5 | J19: =780*(100%+25%) -> 975 | K19: =795*(100%+25%) -> 993.75 | L19: =815*(100%+25%) -> 1018.75 | M19: =830*(100%+25%) -> 1037.5 | N19: =845*(100%+25%) -> 1056.25 | O19: =855*(100%+25%) -> 1068.75 | P19: =860*(100%+25%) -> 1075 | Q19: =870*(100%+25%) -> 1087.5 | R19: =890*(100%+25%) -> 1112.5 | S19: =925*(100%+25%) -> 1156.25 | T19: =940*(100%+25%) -> 1175 | U19: =955*(100%+25%) -> 1193.75 | V19: =970*(100%+25%) -> 1212.5 | W19: =1005*(100%+25%) -> 1256.25 | X19: =(([1]Торсіони!X19*[1]Торсіони!$A$1)+[1]Торсіони!X19)*(100%+25%) -> 1293.875 | Y19: =1050*(100%+25%) -> 1312.5
B21: Варіанти кольорів
B22: НАЙМЕНУВАННЯ | Z22: ОД. | AA22: ЦІНА
B23: Націнка за колір WENGE (Венге) з одного боку | Z23: шт | AA23: 0.1
B24: Націнка за колір GOLDEN OAK (Золотий дуб) з одного боку | Z24: шт | AA24: 0.1
B25: Націнка за колір DARK OAK (Темний дуб) з одного боку | Z25: шт | AA25: 0.1
B27: Додаткові опції
B28: НАЙМЕНУВАННЯ | Z28: ОД. | AA28: ЦІНА (евро)
B29: Вікно акрилове 635х330 | Z29: шт | AA29: =50*(100%+25%) -> 62.5
B30: Комплект замка для секційних воріт | Z30: шт | AA30: =45*(100%+25%) -> 56.25
B31: Засув | Z31: шт | AA31: =10*(100%+25%) -> 12.5
B32: Ручний ланцюговий привод | Z32: шт | AA32: =65*(100%+25%) -> 81.25
B33: Подовження валу під навальний привід (майбутня установка приводу на вал) | Z33: шт | AA33: =40*(100%+25%) -> 50
B34: Замок розблоковування | Z34: шт | AA34: =25*(100%+25%) -> 31.25
B35: Замок для розблокування для Італійської автоматики | Z35: шт | AA35: =30*(100%+25%) -> 37.5
B36: Акумулятор | Z36: шт | AA36: =50*(100%+25%) -> 62.5
B37: Вайфай модуль | Z37: шт | AA37: =40*(100%+25%) -> 50
B38: ДЖСМ модуль | Z38: шт | AA38: =40*(100%+25%) -> 50
B39: Перфорований профіль (32х32х2 мм), L-1000 мм | Z39: 3 метри | AA39: =12*(100%+25%) -> 15
B41: Автоматика
B42: Автоматика Італія висота воріт до 2600 мм і площа воріт 9 м2 | Z42: шт | AA42: =230*(100%+25%) -> 287.5
B43: Автоматика до гаражних Воріт Китай цепна висотою воріт до 2700 мм | Z43: шт | AA43: =180*(100%+25%) -> 225
B44: Автоматика до гаражних Воріт Китай цепна висотою воріт до 3000 мм | Z44: шт | AA44: =190*(100%+25%) -> 237.5
B45: Автоматика до гаражних Воріт Китай цепна висотою воріт до 3400 мм | Z45: шт | AA45: =200*(100%+25%) -> 250
B46: Автоматика до гаражних Воріт Китай ременна висотою воріт до 2700 мм | Z46: шт | AA46: =200*(100%+25%) -> 250
B47: Автоматика до гаражних Воріт Китай ременна висотою воріт до 3000 мм | Z47: шт | AA47: =220*(100%+25%) -> 275
B48: Автоматика АКЦІЯ | Z48: шт | AA48: =150*(100%+25%) -> 187.5
C50: м. Івано-Франківськ, вул. Миру, 90 +38 (096) 792-98-46 https:
