Workbook

Sheet Модули
A1: Модулі гардеробної системи | J1: 4237;7002;4245;4246;4247;4248;6979;6980;6981;6992;6993;6994;4249;4250;7012;7013
A2: № | B2: назва | C2: опис | D2: розмір | E2: вигляд | F2: комплектация | G2: цена
A3: 1 | B3: Модуль 1 (код 4237) | C3: Стійка базова гардеробної системи | D3: 1998*Н2030 | F3: • Профіль алюмінієвий анодований (горизонтальний, вертикальний); • Ніжка регульована; • Комплектфурнітури для кріплення. | G3: 1500.57
A4: 2 | B4: Модуль 1.1 (код 7002) | C4: Накладка на стійку базову | D4: 1998+208*2 | F4: • Накладка на 2 паза ( ал. анодований ) | G4: 288.71
A5: 3 | B5: Модуль 2.1 \600 (код 4245) | C5: Полиця 600*450*16, ЛДСП (КОМПЛЕКТ: полка з фурнітурою для кріплення) | D5: 600*450*Н16 | F5: • Полиця з ДСП ламінована 16мм. (світло сіра) з 2 бортиками; • Кромка ПВХ – 0,6 мм; • Кріплення полички MKSS (регульований кут нахилу) – металл 2мм.,фарба порошкова RAL 7017(сіра); • Комплект фурнітури для кріплення | G5: 596.63
A6: 4 | B6: Модуль 2.2 \600 (код 4246) | C6: Полиця для взуття 600*450*16, ЛДСП (КОМПЛЕК: полка з фурнітурою для кріплення) | D6: 600*450*Н16 | F6: • Полиця для взуття з ДСП ламінована 16мм. (світло сіра) з 2 бортиками; • Кромка ПВХ – 0,6 мм; • Кріплення полички MKSS (регульований кут нахилу) – металл 2мм.,фарба порошкова RAL 7017(сіра); • Комплект фурнітури для кріплення | G6: 661.17
A7: 3 | B7: Модуль 2.1\800 (код 4247) | C7: Полиця 800*450*16, ЛДСП (КОМПЛЕКТ: полка з фурнітурою для кріплення) | D7: 800*450*Н16 | F7: • Полиця з ДСП ламінована 16мм. (світло сіра) з 2 бортиками; • Кромка ПВХ – 0,6 мм; • Кріплення полички MKSS (регульований кут нахилу) – металл 2мм.,фарба порошкова RAL 7017(сіра); • Комплект фурнітури для кріплення | G7: 697.22
A8: 4 | B8: Модуль 2.2\800 (код 4248) | C8: Полиця для взуття 800*450*16, ЛДСП (КОМПЛЕКТ: полка з фурнітурою для кріплення) | D8: 800*450*Н16 | F8: • Полиця для взуття з ДСП ламінована 16мм. (світло сіра) з 2 бортиками; • Кромка ПВХ – 0,6 мм; • Кріплення полички MKSS (регульований кут нахилу) – металл 2мм.,фарба порошкова RAL 7017(сіра); • Комплект фурнітури для кріплення | G8: 783.42
A9: 5 | B9: Модуль 3.1\600 (код 6979) | C9: Тумба на 1 ящик 600х450х242 | D9: 450х600х242 | F9: * навісна тумба з одним видвижним ящиком; • Кріплення полички MKSS – метал 2мм., фарба порошкова RAL 7017(сіра); • Комплект фурнітури для кріплення | G9: 2585.5
A10: 6 | B10: Модуль 3.2 \600 (код 6980) | C10: Тумба на 2 ящика 600х450х467 | D10: 450х600х467 | F10: *навісна тумба з двома висувними ящиками; • Кріплення полички MKSS – метал 2мм., фарба порошкова RAL 7017(сіра); • Комплект фурнітури для кріплення | G10: 3946.73
A11: 7 | B11: Модуль 3.3\600 (код 6981) | C11: Тумба на 3 ящика 600х450х692 | D11: 450х600х692 | F11: * навісна тумба на 3 висувні ящики ; • Кріплення полички MKSS – метал 2мм., фарба порошкова RAL 7017(сіра); • Комплект фурнітури для кріплення | G11: 5308.29
A12: 8 | B12: Модуль 3.1\800 (код 6992) | C12: Тумба з одним висувним ящиком 450х800 | D12: 450х800х242 | F12: * навісна тумба з одним видвижним ящиком; • Кріплення полички MKSS – метал 2мм., фарба порошкова RAL 7017(сіра); • Комплект фурнітури для кріплення | G12: 2972.21
A13: 9 | B13: Модуль 3.2\800 (код 6993) | C13: Тумба з двома висувними ящиками 450х800 | D13: 450х800х467 | F13: *навісна тумба з двома висувними ящиками; • Кріплення полички MKSS – метал 2мм., фарба порошкова RAL 7017(сіра); • Комплект фурнітури для кріплення | G13: 4515.55
A14: 10 | B14: Модуль 3.3\800 (код 6994) | C14: Тумба на 3 висувні ящики 450х800. | D14: 450х800х692 | F14: * навісна тумба на 3 висувні ящики ; • Кріплення полички MKSS – метал 2мм., фарба порошкова RAL 7017(сіра); • Комплект фурнітури для кріплення | G14: 6059.07
... A18: 14 | B18: Модуль 4.2\800 (код 7013) | C18: перекладина передвижная 800 мм SS | D18: 800*30*16/25 | F18: • Труба овальна хромована • Комплект фурнітури для кріплення | G18: 262.17

Sheet ГС одинарна
A1: Гардеробная система 600 (692 мм) -800 (892 мм)
A2: № | B2: Наименование | C2: Изображение | D2: Комплектація 600*450 =642 мм (+21мм. Стійув, +50мм. Пята) | E2: Ціна за одиницю | F2: К-ть | G2: Ціна | H2: Сума | I2: Комплектація 800*450= 842 мм (+21мм. Стійув, +50мм. Пята) | J2: Ціна за одиницю | K2: К-ть | L2: Ціна | M2: Сума
A3: 1 | B3: Premio GS -1 | D3: =Модули!$B$3 -> Модуль 1 (код 4237) | E3: =Модули!$G$3 -> 1500.57 | F3: 2 | G3: =E3*F3 -> 3001.14 | H3: =SUM(G3:G6) -> 8545.22 | I3: =Модули!$B$3 -> Модуль 1 (код 4237) | J3: =Модули!$G$3 -> 1500.57 | K3: 2 | L3: =J3*K3 -> 3001.14 | M3: =SUM(L3:L6) -> 9414.92
D4: =Модули!$B$4 -> Модуль 1.1 (код 7002) | E4: =Модули!$G$4 -> 288.71 | F4: 2 | G4: =E4*F4 -> 577.42 | I4: =Модули!$B$4 -> Модуль 1.1 (код 7002) | J4: =Модули!$G$4 -> 288.71 | K4: 2 | L4: =J4*K4 -> 577.42
D5: =Модули!$B$5 -> Модуль 2.1 \600 (код 4245) | E5: =Модули!G5 -> 596.63 | F5: 5 | G5: =E5*F5 -> 2983.15 | I5: =Модули!$B$7 -> Модуль 2.1\800 (код 4247) | J5: =Модули!$G$7 -> 697.22 | K5: 5 | L5: =J5*K5 -> 3486.1
D6: =Модули!$B$6 -> Модуль 2.2 \600 (код 4246) | E6: =Модули!$G$6 -> 661.17 | F6: 3 | G6: =E6*F6 -> 1983.51 | I6: =Модули!$B$8 -> Модуль 2.2\800 (код 4248) | J6: =Модули!$G$8 -> 783.42 | K6: 3 | L6: =J6*K6 -> 2350.26
A7: 2 | B7: Premio GS - 2 | D7: =Модули!$B$3 -> Модуль 1 (код 4237) | E7: =Модули!$G$3 -> 1500.57 | F7: 2 | G7: =E7*F7 -> 3001.14 | H7: =SUM(G7:G10) -> 5575.07 | I7: =Модули!$B$3 -> Модуль 1 (код 4237) | J7: =Модули!$G$3 -> 1500.57 | K7: 2 | L7: =J7*K7 -> 3001.14 | M7: =SUM(L7:L10) -> 5917.92
D8: =Модули!$B$4 -> Модуль 1.1 (код 7002) | E8: =Модули!$G$4 -> 288.71 | F8: 2 | G8: =E8*F8 -> 577.42 | I8: =Модули!$B$4 -> Модуль 1.1 (код 7002) | J8: =Модули!$G$4 -> 288.71 | K8: 2 | L8: =J8*K8 -> 577.42
D9: =Модули!$B$5 -> Модуль 2.1 \600 (код 4245) | E9: =Модули!$G$5 -> 596.63 | F9: 3 | G9: =E9*F9 -> 1789.89 | I9: =Модули!$B$7 -> Модуль 2.1\800 (код 4247) | J9: =Модули!$G$7 -> 697.22 | K9: 3 | L9: =J9*K9 -> 2091.66
D10: =Модули!$B$15 -> Модуль 4.1 \600 (код 4249) | E10: =Модули!$G$15 -> 103.31 | F10: 2 | G10: =E10*F10 -> 206.62 | I10: =Модули!$B$16 -> Модуль 4.1\800 (код 4250) | J10: =Модули!$G$16 -> 123.85 | K10: 2 | L10: =J10*K10 -> 247.7
A11: 3 | B11: Premio GS - 3 | D11: =Модули!$B$3 -> Модуль 1 (код 4237) | E11: =Модули!$G$3 -> 1500.57 | F11: 2 | G11: =E11*F11 -> 3001.14 | H11: =SUM(G11:G15) -> 9586.79 | I11: =Модули!$B$3 -> Модуль 1 (код 4237) | J11: =Модули!$G$3 -> 1500.57 | K11: 2 | L11: =J11*K11 -> 3001.14 | M11: =SUM(L11:L15) -> 10458.7
D12: =Модули!$B$4 -> Модуль 1.1 (код 7002) | E12: =Модули!$G$4 -> 288.71 | F12: 2 | G12: =E12*F12 -> 577.42 | I12: =Модули!$B$4 -> Модуль 1.1 (код 7002) | J12: =Модули!$G$4 -> 288.71 | K12: 2 | L12: =J12*K12 -> 577.42
D13: =Модули!$B$5 -> Модуль 2.1 \600 (код 4245) | E13: =Модули!$G$5 -> 596.63 | F13: 1 | G13: =E13*F13 -> 596.63 | I13: =Модули!$B$7 -> Модуль 2.1\800 (код 4247) | J13: =Модули!$G$7 -> 697.22 | K13: 1 | L13: =J13*K13 -> 697.22
D14: =Модули!$B$11 -> Модуль 3.3\600 (код 6981) | E14: =Модули!$G$11 -> 5308.29 | F14: 1 | G14: =E14*F14 -> 5308.29 | I14: =Модули!$B$14 -> Модуль 3.3\800 (код 6994) | J14: =Модули!$G$14 -> 6059.07 | K14: 1 | L14: =J14*K14 -> 6059.07
D15: =Модули!$B$15 -> Модуль 4.1 \600 (код 4249) | E15: =Модули!$G$15 -> 103.31 | F15: 1 | G15: =E15*F15 -> 103.31 | I15: =Модули!$B$16 -> Модуль 4.1\800 (код 4250) | J15: =Модули!$G$16 -> 123.85 | K15: 1 | L15: =J15*K15 -> 123.85
A16: 4 | B16: Premio GS - 4 | D16: =Модули!$B$3 -> Модуль 1 (код 4237) | E16: =Модули!$G$3 -> 1500.57 | F16: 2 | G16: =E16*F16 -> 3001.14 | H16: =SUM(G16:G20) -> 6262.01 | I16: =Модули!$B$3 -> Модуль 1 (код 4237) | J16: =Модули!$G$3 -> 1500.57 | K16: 2 | L16: =J16*K16 -> 3001.14 | M16: =SUM(L16:L20) -> 6749.89
D17: =Модули!$B$4 -> Модуль 1.1 (код 7002) | E17: =Модули!$G$4 -> 288.71 | F17: 2 | G17: =E17*F17 -> 577.42 | I17: =Модули!$B$4 -> Модуль 1.1 (код 7002) | J17: =Модули!$G$4 -> 288.71 | K17: 2 | L17: =J17*K17 -> 577.42
D18: =Модули!$B$5 -> Модуль 2.1 \600 (код 4245) | E18: =Модули!$G$5 -> 596.63 | F18: 1 | G18: =E18*F18 -> 596.63 | I18: =Модули!$B$7 -> Модуль 2.1\800 (код 4247) | J18: =Модули!$G$7 -> 697.22 | K18: 1 | L18: =J18*K18 -> 697.22
D19: =Модули!$B$6 -> Модуль 2.2 \600 (код 4246) | E19: =Модули!$G$6 -> 661.17 | F19: 3 | G19: =E19*F19 -> 1983.51 | I19: =Модули!$B$8 -> Модуль 2.2\800 (код 4248) | J19: =Модули!$G$8 -> 783.42 | K19: 3 | L19: =J19*K19 -> 2350.26
D20: =Модули!$B$15 -> Модуль 4.1 \600 (код 4249) | E20: =Модули!$G$15 -> 103.31 | F20: 1 | G20: =E20*F20 -> 103.31 | I20: =Модули!$B$16 -> Модуль 4.1\800 (код 4250) | J20: =Модули!$G$16 -> 123.85 | K20: 1 | L20: =J20*K20 -> 123.85
A21: 5 | B21: Premio GS - 5 | D21: =Модули!$B$3 -> Модуль 1 (код 4237) | E21: =Модули!$G$3 -> 1500.57 | F21: 2 | G21: =E21*F21 -> 3001.14 | H21: =SUM(G21:G25) -> 8821.86 | I21: =Модули!$B$3 -> Модуль 1 (код 4237) | J21: =Модули!$G$3 -> 1500.57 | K21: 2 | L21: =J21*K21 -> 3001.14 | M21: =SUM(L21:L25) -> 9612.4
D22: =Модули!$B$4 -> Модуль 1.1 (код 7002) | E22: =Модули!$G$4 -> 288.71 | F22: 2 | G22: =E22*F22 -> 577.42 | I22: =Модули!$B$4 -> Модуль 1.1 (код 7002) | J22: =Модули!$G$4 -> 288.71 | K22: 2 | L22: =J22*K22 -> 577.42
D23: =Модули!B5 -> Модуль 2.1 \600 (код 4245) | E23: =Модули!G5 -> 596.63 | F23: 2 | G23: =E23*F23 -> 1193.26 | I23: =Модули!$B$7 -> Модуль 2.1\800 (код 4247) | J23: =Модули!$G$7 -> 697.22 | K23: 2 | L23: =J23*K23 -> 1394.44
D24: =Модули!B10 -> Модуль 3.2 \600 (код 6980) | E24: =Модули!G10 -> 3946.73 | F24: 1 | G24: =E24*F24 -> 3946.73 | I24: =Модули!B13 -> Модуль 3.2\800 (код 6993) | J24: =Модули!G13 -> 4515.55 | K24: 1 | L24: =J24*K24 -> 4515.55
D25: =Модули!B15 -> Модуль 4.1 \600 (код 4249) | E25: =Модули!G15 -> 103.31 | F25: 1 | G25: =E25*F25 -> 103.31 | I25: =Модули!$B$16 -> Модуль 4.1\800 (код 4250) | J25: =Модули!$G$16 -> 123.85 | K25: 1 | L25: =J25*K25 -> 123.85
A26: 6 | B26: Premio GS - 6 | D26: =Модули!$B$3 -> Модуль 1 (код 4237) | E26: =Модули!$G$3 -> 1500.57 | F26: 2 | G26: =E26*F26 -> 3001.14 | H26: =SUM(G26:G30) -> 12595.71 | I26: =Модули!$B$3 -> Модуль 1 (код 4237) | J26: =Модули!$G$3 -> 1500.57 | K26: 2 | L26: =J26*K26 -> 3001.14 | M26: =SUM(L26:L30) -> 13993.35
D27: =Модули!$B$4 -> Модуль 1.1 (код 7002) | E27: =Модули!$G$4 -> 288.71 | F27: 2 | G27: =E27*F27 -> 577.42 | I27: =Модули!$B$4 -> Модуль 1.1 (код 7002) | J27: =Модули!$G$4 -> 288.71 | K27: 2 | L27: =J27*K27 -> 577.42
D28: =Модули!B5 -> Модуль 2.1 \600 (код 4245) | E28: =Модули!G5 -> 596.63 | F28: 4 | G28: =E28*F28 -> 2386.52 | I28: =Модули!B7 -> Модуль 2.1\800 (код 4247) | J28: =Модули!G7 -> 697.22 | K28: 4 | L28: =J28*K28 -> 2788.88
D29: =Модули!B6 -> Модуль 2.2 \600 (код 4246) | E29: =Модули!G6 -> 661.17 | F29: 2 | G29: =E29*F29 -> 1322.34 | I29: =Модули!B8 -> Модуль 2.2\800 (код 4248) | J29: =Модули!G8 -> 783.42 | K29: 2 | L29: =J29*K29 -> 1566.84
D30: =Модули!B11 -> Модуль 3.3\600 (код 6981) | E30: =Модули!G11 -> 5308.29 | F30: 1 | G30: =E30*F30 -> 5308.29 | I30: =Модули!B14 -> Модуль 3.3\800 (код 6994) | J30: =Модули!G14 -> 6059.07 | K30: 1 | L30: =J30*K30 -> 6059.07
A31: 7 | B31: Premio GS - 7 | D31: =Модули!$B$3 -> Модуль 1 (код 4237) | E31: =Модули!$G$3 -> 1500.57 | F31: 2 | G31: =E31*F31 -> 3001.14 | H31: =SUM(G31:G35) -> 6197.47 | I31: =Модули!$B$3 -> Модуль 1 (код 4237) | J31: =Модули!$G$3 -> 1500.57 | K31: 2 | L31: =J31*K31 -> 3001.14 | M31: =SUM(L31:L35) -> 6663.69
D32: =Модули!$B$4 -> Модуль 1.1 (код 7002) | E32: =Модули!$G$4 -> 288.71 | F32: 2 | G32: =E32*F32 -> 577.42 | I32: =Модули!$B$4 -> Модуль 1.1 (код 7002) | J32: =Модули!$G$4 -> 288.71 | K32: 2 | L32: =J32*K32 -> 577.42
D33: =Модули!B5 -> Модуль 2.1 \600 (код 4245) | E33: =Модули!G5 -> 596.63 | F33: 2 | G33: =E33*F33 -> 1193.26 | I33: =Модули!B7 -> Модуль 2.1\800 (код 4247) | J33: =Модули!G7 -> 697.22 | K33: 2 | L33: =J33*K33 -> 1394.44
D34: =Модули!B6 -> Модуль 2.2 \600 (код 4246) | E34: =Модули!G6 -> 661.17 | F34: 2 | G34: =E34*F34 -> 1322.34 | I34: =Модули!B8 -> Модуль 2.2\800 (код 4248) | J34: =Модули!G8 -> 783.42 | K34: 2 | L34: =J34*K34 -> 1566.84
D35: =Модули!B15 -> Модуль 4.1 \600 (код 4249) | E35: =Модули!G15 -> 103.31 | F35: 1 | G35: =E35*F35 -> 103.31 | I35: =Модули!B16 -> Модуль 4.1\800 (код 4250) | J35: =Модули!G16 -> 123.85 | K35: 1 | L35: =J35*K35 -> 123.85
A36: 8 | B36: Premio GS -8 | D36: =Модули!$B$3 -> Модуль 1 (код 4237) | E36: =Модули!$G$3 -> 1500.57 | F36: 2 | G36: =E36*F36 -> 3001.14 | H36: =SUM(G36:G40) -> 6864 | I36: =Модули!$B$3 -> Модуль 1 (код 4237) | J36: =Модули!$G$3 -> 1500.57 | K36: 2 | L36: =J36*K36 -> 3001.14 | M36: =SUM(L36:L40) -> 7371.84
D37: =Модули!$B$4 -> Модуль 1.1 (код 7002) | E37: =Модули!$G$4 -> 288.71 | F37: 2 | G37: =E37*F37 -> 577.42 | I37: =Модули!$B$4 -> Модуль 1.1 (код 7002) | J37: =Модули!$G$4 -> 288.71 | K37: 2 | L37: =J37*K37 -> 577.42
D38: =Модули!B5 -> Модуль 2.1 \600 (код 4245) | E38: =Модули!G5 -> 596.63 | F38: 1 | G38: =E38*F38 -> 596.63 | I38: =Модули!B7 -> Модуль 2.1\800 (код 4247) | J38: =Модули!G7 -> 697.22 | K38: 1 | L38: =J38*K38 -> 697.22
D39: =Модули!B9 -> Модуль 3.1\600 (код 6979) | E39: =Модули!G9 -> 2585.5 | F39: 1 | G39: =E39*F39 -> 2585.5 | I39: =Модули!B12 -> Модуль 3.1\800 (код 6992) | J39: =Модули!G12 -> 2972.21 | K39: 1 | L39: =J39*K39 -> 2972.21
D40: =Модули!B15 -> Модуль 4.1 \600 (код 4249) | E40: =Модули!G15 -> 103.31 | F40: 1 | G40: =E40*F40 -> 103.31 | I40: =Модули!B16 -> Модуль 4.1\800 (код 4250) | J40: =Модули!G16 -> 123.85 | K40: 1 | L40: =J40*K40 -> 123.85

Sheet ГС двойная
A1: Гардеробна система 1200 (1313мм)-1600 (1713мм )
A2: № | B2: Наименование | C2: Изображение | D2: Комплектація (600+600=1263мм)*450*2030 (+21мм. Стійув, +50мм. Пята) | E2: Ціна за одиницю | F2: К-ть | G2: Ціна | H2: Сума | I2: Комплектація (600+800=1463 мм)*450*2030 (+21мм. Стійув, +50мм. Пята) | J2: Ціна за одиницю | K2: К-ть | L2: Ціна | M2: Сума | N2: Комплектація (800+600=1463мм)*450*2030 (+21мм. Стійув, +50мм. Пята) | O2: Ціна за одиницю | P2: К-ть | Q2: Ціна | R2: Сума | S2: Комплектація (800+800=1663мм)*450*2030 (+21мм. Стійув, +50мм. Пята) | T2: Ціна за одиницю | U2: К-ть | V2: Ціна | W2: Сума
A3: 1 | B3: Premio GS - 2/1 | D3: =Модули!$B$3 -> Модуль 1 (код 4237) | E3: =Модули!$G$3 -> 1500.57 | F3: 3 | G3: =E3*F3 -> 4501.71 | H3: =SUM(G3:G8) -> 13331.23 | I3: =Модули!$B$3 -> Модуль 1 (код 4237) | J3: =Модули!$G$3 -> 1500.57 | K3: 3 | L3: =J3*K3 -> 4501.71 | M3: =SUM(L3:L9) -> 14200.93 | N3: =Модули!$B$3 -> Модуль 1 (код 4237) | O3: =Модули!$G$3 -> 1500.57 | P3: 3 | Q3: =O3*P3 -> 4501.71 | R3: =SUM(Q3:Q9) -> 13839.07 | S3: =Модули!$B$3 -> Модуль 1 (код 4237) | T3: =Модули!$G$3 -> 1500.57 | U3: 3 | V3: =T3*U3 -> 4501.71 | W3: =SUM(V3:V8) -> 14708.77
D4: =Модули!$B$4 -> Модуль 1.1 (код 7002) | E4: =Модули!$G$4 -> 288.71 | F4: 2 | G4: =E4*F4 -> 577.42 | I4: =Модули!$B$4 -> Модуль 1.1 (код 7002) | J4: =Модули!$G$4 -> 288.71 | K4: 2 | L4: =J4*K4 -> 577.42 | N4: =Модули!$B$4 -> Модуль 1.1 (код 7002) | O4: =Модули!$G$4 -> 288.71 | P4: 2 | Q4: =O4*P4 -> 577.42 | S4: =Модули!$B$4 -> Модуль 1.1 (код 7002) | T4: =Модули!$G$4 -> 288.71 | U4: 2 | V4: =T4*U4 -> 577.42
D5: =Модули!$B$5 -> Модуль 2.1 \600 (код 4245) | E5: =Модули!$G$5 -> 596.63 | F5: 6 | G5: =E5*F5 -> 3579.78 | I5: =Модули!$B$5 -> Модуль 2.1 \600 (код 4245) | J5: =Модули!$G$5 -> 596.63 | K5: 1 | L5: =J5*K5 -> 596.63 | N5: =Модули!$B$5 -> Модуль 2.1 \600 (код 4245) | O5: =Модули!$G$5 -> 596.63 | P5: 5 | Q5: =O5*P5 -> 2983.15 | S5: =Модули!$B$7 -> Модуль 2.1\800 (код 4247) | T5: =Модули!$G$7 -> 697.22 | U5: 6 | V5: =T5*U5 -> 4183.32
D6: =Модули!$B$6 -> Модуль 2.2 \600 (код 4246) | E6: =Модули!$G$6 -> 661.17 | F6: 3 | G6: =E6*F6 -> 1983.51 | I6: =Модули!B7 -> Модуль 2.1\800 (код 4247) | J6: =Модули!G7 -> 697.22 | K6: 5 | L6: =J6*K6 -> 3486.1 | N6: =Модули!B7 -> Модуль 2.1\800 (код 4247) | O6: =Модули!G7 -> 697.22 | P6: 1 | Q6: =O6*P6 -> 697.22 | S6: =Модули!$B$8 -> Модуль 2.2\800 (код 4248) | T6: =Модули!$G$8 -> 783.42 | U6: 3 | V6: =T6*U6 -> 2350.26
D7: =Модули!B9 -> Модуль 3.1\600 (код 6979) | E7: =Модули!$G$9 -> 2585.5 | F7: 1 | G7: =E7*F7 -> 2585.5 | I7: =Модули!B8 -> Модуль 2.2\800 (код 4248) | J7: =Модули!G8 -> 783.42 | K7: 3 | L7: =J7*K7 -> 2350.26 | N7: =Модули!$B$6 -> Модуль 2.2 \600 (код 4246) | O7: =Модули!G6 -> 661.17 | P7: 3 | Q7: =O7*P7 -> 1983.51 | S7: =Модули!$B$12 -> Модуль 3.1\800 (код 6992) | T7: =Модули!$G$12 -> 2972.21 | U7: 1 | V7: =T7*U7 -> 2972.21
D8: =Модули!$B$15 -> Модуль 4.1 \600 (код 4249) | E8: =Модули!$G$15 -> 103.31 | F8: 1 | G8: =E8*F8 -> 103.31 | I8: =Модули!B9 -> Модуль 3.1\600 (код 6979) | J8: =Модули!G9 -> 2585.5 | K8: 1 | L8: =J8*K8 -> 2585.5 | N8: =Модули!B12 -> Модуль 3.1\800 (код 6992) | O8: =Модули!G12 -> 2972.21 | P8: 1 | Q8: =O8*P8 -> 2972.21 | S8: =Модули!$B$16 -> Модуль 4.1\800 (код 4250) | T8: =Модули!$G$16 -> 123.85 | U8: 1 | V8: =T8*U8 -> 123.85
I9: =Модули!$B$15 -> Модуль 4.1 \600 (код 4249) | J9: =Модули!$G$15 -> 103.31 | K9: 1 | L9: =J9*K9 -> 103.31 | N9: =Модули!B16 -> Модуль 4.1\800 (код 4250) | O9: =Модули!G16 -> 123.85 | P9: 1 | Q9: =O9*P9 -> 123.85
A10: 2 | B10: Premio GS - 2/2 | D10: =Модули!$B$3 -> Модуль 1 (код 4237) | E10: =Модули!$G$3 -> 1500.57 | F10: 3 | G10: =E10*F10 -> 4501.71 | H10: =SUM(G10:G15) -> 16586.11 | I10: =Модули!$B$3 -> Модуль 1 (код 4237) | J10: =Модули!$G$3 -> 1500.57 | K10: 3 | L10: =J10*K10 -> 4501.71 | M10: =SUM(L10:L16) -> 17839.84 | N10: =Модули!$B$3 -> Модуль 1 (код 4237) | O10: =Модули!G3 -> 1500.57 | P10: 3 | Q10: =O10*P10 -> 4501.71 | R10: =SUM(Q10:Q16) -> 17152.92 | S10: =Модули!$B$3 -> Модуль 1 (код 4237) | T10: =Модули!$G$3 -> 1500.57 | U10: 3 | V10: =T10*U10 -> 4501.71 | W10: =SUM(V10:V15) -> 18406.65
D11: =Модули!$B$4 -> Модуль 1.1 (код 7002) | E11: =Модули!$G$4 -> 288.71 | F11: 2 | G11: =E11*F11 -> 577.42 | I11: =Модули!$B$4 -> Модуль 1.1 (код 7002) | J11: =Модули!$G$4 -> 288.71 | K11: 2 | L11: =J11*K11 -> 577.42 | N11: =Модули!$B$4 -> Модуль 1.1 (код 7002) | O11: =Модули!G4 -> 288.71 | P11: 2 | Q11: =O11*P11 -> 577.42 | S11: =Модули!$B$4 -> Модуль 1.1 (код 7002) | T11: =Модули!$G$4 -> 288.71 | U11: 2 | V11: =T11*U11 -> 577.42
D12: =Модули!$B$5 -> Модуль 2.1 \600 (код 4245) | E12: =Модули!$G$5 -> 596.63 | F12: 8 | G12: =E12*F12 -> 4773.04 | I12: =Модули!$B$5 -> Модуль 2.1 \600 (код 4245) | J12: =Модули!$G$5 -> 596.63 | K12: 3 | L12: =J12*K12 -> 1789.89 | N12: =Модули!$B$5 -> Модуль 2.1 \600 (код 4245) | O12: =Модули!G5 -> 596.63 | P12: 5 | Q12: =O12*P12 -> 2983.15 | S12: =Модули!$B$7 -> Модуль 2.1\800 (код 4247) | T12: =Модули!$G$7 -> 697.22 | U12: 8 | V12: =T12*U12 -> 5577.76
D13: =Модули!$B$6 -> Модуль 2.2 \600 (код 4246) | E13: =Модули!$G$6 -> 661.17 | F13: 2 | G13: =E13*F13 -> 1322.34 | I13: =Модули!$B$6 -> Модуль 2.2 \600 (код 4246) | J13: =Модули!$G$6 -> 661.17 | K13: 2 | L13: =J13*K13 -> 1322.34 | N13: =Модули!B7 -> Модуль 2.1\800 (код 4247) | O13: =Модули!G7 -> 697.22 | P13: 3 | Q13: =O13*P13 -> 2091.66 | S13: =Модули!$B$8 -> Модуль 2.2\800 (код 4248) | T13: =Модули!$G$8 -> 783.42 | U13: 2 | V13: =T13*U13 -> 1566.84
D14: =Модули!$B$11 -> Модуль 3.3\600 (код 6981) | E14: =Модули!$G$11 -> 5308.29 | F14: 1 | G14: =E14*F14 -> 5308.29 | I14: =Модули!$B$7 -> Модуль 2.1\800 (код 4247) | J14: =Модули!$G$7 -> 697.22 | K14: 5 | L14: =J14*K14 -> 3486.1 | N14: =Модули!B8 -> Модуль 2.2\800 (код 4248) | O14: =Модули!G8 -> 783.42 | P14: 2 | Q14: =O14*P14 -> 1566.84 | S14: =Модули!$B$14 -> Модуль 3.3\800 (код 6994) | T14: =Модули!$G$14 -> 6059.07 | U14: 1 | V14: =T14*U14 -> 6059.07
D15: =Модули!$B$15 -> Модуль 4.1 \600 (код 4249) | E15: =Модули!$G$15 -> 103.31 | F15: 1 | G15: =E15*F15 -> 103.31 | I15: =Модули!$B$14 -> Модуль 3.3\800 (код 6994) | J15: =Модули!$G$14 -> 6059.07 | K15: 1 | L15: =J15*K15 -> 6059.07 | N15: =Модули!B11 -> Модуль 3.3\600 (код 6981) | O15: =Модули!G11 -> 5308.29 | P15: 1 | Q15: =O15*P15 -> 5308.29 | S15: =Модули!$B$16 -> Модуль 4.1\800 (код 4250) | T15: =Модули!$G$16 -> 123.85 | U15: 1 | V15: =T15*U15 -> 123.85
I16: =Модули!$B$15 -> Модуль 4.1 \600 (код 4249) | J16: =Модули!$G$15 -> 103.31 | K16: 1 | L16: =J16*K16 -> 103.31 | N16: =Модули!B16 -> Модуль 4.1\800 (код 4250) | O16: =Модули!G16 -> 123.85 | P16: 1 | Q16: =O16*P16 -> 123.85
A17: 3 | B17: Premio GS - 2/3 | D17: =Модули!$B$3 -> Модуль 1 (код 4237) | E17: =Модули!$G$3 -> 1500.57 | F17: 3 | G17: =E17*F17 -> 4501.71 | H17: =SUM(G17:G22) -> 16092.79 | I17: =Модули!$B$3 -> Модуль 1 (код 4237) | J17: =Модули!$G$3 -> 1500.57 | K17: 3 | L17: =J17*K17 -> 4501.71 | M17: =SUM(L17:L23) -> 17490.43 | N17: =Модули!$B$3 -> Модуль 1 (код 4237) | O17: =Модули!$G$3 -> 1500.57 | P17: 3 | Q17: =O17*P17 -> 4501.71 | R17: =SUM(Q17:Q23) -> 16435.64 | S17: =Модули!$B$3 -> Модуль 1 (код 4237) | T17: =Модули!$G$3 -> 1500.57 | U17: 3 | V17: =T17*U17 -> 4501.71 | W17: =SUM(V17:V22) -> 17833.28
D18: =Модули!$B$4 -> Модуль 1.1 (код 7002) | E18: =Модули!$G$4 -> 288.71 | F18: 2 | G18: =E18*F18 -> 577.42 | I18: =Модули!$B$4 -> Модуль 1.1 (код 7002) | J18: =Модули!$G$4 -> 288.71 | K18: 2 | L18: =J18*K18 -> 577.42 | N18: =Модули!$B$4 -> Модуль 1.1 (код 7002) | O18: =Модули!$G$4 -> 288.71 | P18: 2 | Q18: =O18*P18 -> 577.42 | S18: =Модули!$B$4 -> Модуль 1.1 (код 7002) | T18: =Модули!$G$4 -> 288.71 | U18: 2 | V18: =T18*U18 -> 577.42
D19: =Модули!$B$5 -> Модуль 2.1 \600 (код 4245) | E19: =Модули!$G$5 -> 596.63 | F19: 7 | G19: =E19*F19 -> 4176.41 | I19: =Модули!$B$5 -> Модуль 2.1 \600 (код 4245) | J19: =Модули!$G$5 -> 596.63 | K19: 3 | L19: =J19*K19 -> 1789.89 | N19: =Модули!B7 -> Модуль 2.1\800 (код 4247) | O19: =Модули!G7 -> 697.22 | P19: 3 | Q19: =O19*P19 -> 2091.66 | S19: =Модули!$B$7 -> Модуль 2.1\800 (код 4247) | T19: =Модули!$G$7 -> 697.22 | U19: 7 | V19: =T19*U19 -> 4880.54
D20: =Модули!$B$6 -> Модуль 2.2 \600 (код 4246) | E20: =Модули!$G$6 -> 661.17 | F20: 2 | G20: =E20*F20 -> 1322.34 | I20: =Модули!$B$7 -> Модуль 2.1\800 (код 4247) | J20: =Модули!$G$7 -> 697.22 | K20: 4 | L20: =J20*K20 -> 2788.88 | N20: =Модули!$B$5 -> Модуль 2.1 \600 (код 4245) | O20: =Модули!G5 -> 596.63 | P20: 4 | Q20: =O20*P20 -> 2386.52 | S20: =Модули!$B$8 -> Модуль 2.2\800 (код 4248) | T20: =Модули!$G$8 -> 783.42 | U20: 2 | V20: =T20*U20 -> 1566.84
D21: =Модули!$B$11 -> Модуль 3.3\600 (код 6981) | E21: =Модули!$G$11 -> 5308.29 | F21: 1 | G21: =E21*F21 -> 5308.29 | I21: =Модули!$B$8 -> Модуль 2.2\800 (код 4248) | J21: =Модули!$G$8 -> 783.42 | K21: 2 | L21: =J21*K21 -> 1566.84 | N21: =Модули!$B$6 -> Модуль 2.2 \600 (код 4246) | O21: =Модули!G6 -> 661.17 | P21: 2 | Q21: =O21*P21 -> 1322.34 | S21: =Модули!$B$14 -> Модуль 3.3\800 (код 6994) | T21: =Модули!$G$14 -> 6059.07 | U21: 1 | V21: =T21*U21 -> 6059.07
D22: =Модули!$B$15 -> Модуль 4.1 \600 (код 4249) | E22: =Модули!$G$15 -> 103.31 | F22: 2 | G22: =E22*F22 -> 206.62 | I22: =Модули!$B$14 -> Модуль 3.3\800 (код 6994) | J22: =Модули!$G$14 -> 6059.07 | K22: 1 | L22: =J22*K22 -> 6059.07 | N22: =Модули!B11 -> Модуль 3.3\600 (код 6981) | O22: =Модули!G11 -> 5308.29 | P22: 1 | Q22: =O22*P22 -> 5308.29 | S22: =Модули!$B$16 -> Модуль 4.1\800 (код 4250) | T22: =Модули!$G$16 -> 123.85 | U22: 2 | V22: =T22*U22 -> 247.7
I23: =Модули!$B$15 -> Модуль 4.1 \600 (код 4249) | J23: =Модули!$G$15 -> 103.31 | K23: 2 | L23: =J23*K23 -> 206.62 | N23: =Модули!B16 -> Модуль 4.1\800 (код 4250) | O23: =Модули!G16 -> 123.85 | P23: 2 | Q23: =O23*P23 -> 247.7
A25: 4 | B25: Premio GS - 2/4 | D25: =Модули!$B$3 -> Модуль 1 (код 4237) | E25: =Модули!$G$3 -> 1500.57 | F25: 3 | G25: =E25*F25 -> 4501.71 | H25: =SUM(G25:G31) -> 13770.81 | I25: =Модули!$B$3 -> Модуль 1 (код 4237) | J25: =Модули!$G$3 -> 1500.57 | K25: 3 | L25: =J25*K25 -> 4501.71 | M25: =SUM(L25:L32) -> 14258.69 | N25: =Модули!$B$3 -> Модуль 1 (код 4237) | O25: =Модули!$G$3 -> 1500.57 | P25: 3 | Q25: =O25*P25 -> 4501.71 | R25: =SUM(Q25:Q32) -> 14642.72 | S25: =Модули!$B$3 -> Модуль 1 (код 4237) | T25: =Модули!$G$3 -> 1500.57 | U25: 3 | V25: =T25*U25 -> 4501.71 | W25: =SUM(V25:V30) -> 15130.6
D26: =Модули!$B$4 -> Модуль 1.1 (код 7002) | E26: =Модули!$G$4 -> 288.71 | F26: 2 | G26: =E26*F26 -> 577.42 | I26: =Модули!$B$4 -> Модуль 1.1 (код 7002) | J26: =Модули!$G$4 -> 288.71 | K26: 2 | L26: =J26*K26 -> 577.42 | N26: =Модули!$B$4 -> Модуль 1.1 (код 7002) | O26: =Модули!$G$4 -> 288.71 | P26: 2 | Q26: =O26*P26 -> 577.42 | S26: =Модули!$B$4 -> Модуль 1.1 (код 7002) | T26: =Модули!$G$4 -> 288.71 | U26: 2 | V26: =T26*U26 -> 577.42
D27: =Модули!B5 -> Модуль 2.1 \600 (код 4245) | E27: =Модули!G5 -> 596.63 | F27: 2 | G27: =E27*F27 -> 1193.26 | I27: =Модули!B5 -> Модуль 2.1 \600 (код 4245) | J27: =Модули!G5 -> 596.63 | K27: 1 | L27: =J27*K27 -> 596.63 | N27: Модуль 2.3 \800 (код 4245) | O27: =Модули!G7 -> 697.22 | P27: 1 | Q27: =O27*P27 -> 697.22 | S27: =Модули!B7 -> Модуль 2.1\800 (код 4247) | T27: =Модули!G7 -> 697.22 | U27: 2 | V27: =T27*U27 -> 1394.44
D28: =Модули!B6 -> Модуль 2.2 \600 (код 4246) | E28: =Модули!G6 -> 661.17 | F28: 3 | G28: =E28*F28 -> 1983.51 | I28: =Модули!B7 -> Модуль 2.1\800 (код 4247) | J28: =Модули!G7 -> 697.22 | K28: 1 | L28: =J28*K28 -> 697.22 | N28: =Модули!$B$5 -> Модуль 2.1 \600 (код 4245) | O28: =Модули!G5 -> 596.63 | P28: 1 | Q28: =O28*P28 -> 596.63 | S28: =Модули!$B$8 -> Модуль 2.2\800 (код 4248) | T28: =Модули!G8 -> 783.42 | U28: 3 | V28: =T28*U28 -> 2350.26
D29: =Модули!B11 -> Модуль 3.3\600 (код 6981) | E29: =Модули!G11 -> 5308.29 | F29: 1 | G29: =E29*F29 -> 5308.29 | I29: =Модули!B8 -> Модуль 2.2\800 (код 4248) | J29: =Модули!G8 -> 783.42 | K29: 3 | L29: =J29*K29 -> 2350.26 | N29: =Модули!$B$6 -> Модуль 2.2 \600 (код 4246) | O29: =Модули!G6 -> 661.17 | P29: 3 | Q29: =O29*P29 -> 1983.51 | S29: =Модули!$B$14 -> Модуль 3.3\800 (код 6994) | T29: =Модули!G14 -> 6059.07 | U29: 1 | V29: =T29*U29 -> 6059.07
D30: =Модули!B15 -> Модуль 4.1 \600 (код 4249) | E30: =Модули!G15 -> 103.31 | F30: 2 | G30: =E30*F30 -> 206.62 | I30: =Модули!B11 -> Модуль 3.3\600 (код 6981) | J30: =Модули!G11 -> 5308.29 | K30: 1 | L30: =J30*K30 -> 5308.29 | N30: =Модули!B14 -> Модуль 3.3\800 (код 6994) | O30: =Модули!G14 -> 6059.07 | P30: 1 | Q30: =O30*P30 -> 6059.07 | S30: =Модули!$B$16 -> Модуль 4.1\800 (код 4250) | T30: =Модули!G16 -> 123.85 | U30: 2 | V30: =T30*U30 -> 247.7
I31: =Модули!B15 -> Модуль 4.1 \600 (код 4249) | J31: =Модули!G15 -> 103.31 | K31: 1 | L31: =J31*K31 -> 103.31 | N31: =Модули!$B$15 -> Модуль 4.1 \600 (код 4249) | O31: =Модули!G15 -> 103.31 | P31: 1 | Q31: =O31*P31 -> 103.31
I32: =Модули!B16 -> Модуль 4.1\800 (код 4250) | J32: =Модули!G16 -> 123.85 | K32: 1 | L32: =J32*K32 -> 123.85 | N32: =Модули!B16 -> Модуль 4.1\800 (код 4250) | O32: =Модули!G16 -> 123.85 | P32: 1 | Q32: =O32*P32 -> 123.85
A33: 5 | B33: Premio GS - 2/5 | D33: =Модули!$B$3 -> Модуль 1 (код 4237) | E33: =Модули!$G$3 -> 1500.57 | F33: 3 | G33: =E33*F33 -> 4501.71 | H33: =SUM(G33:G37) -> 12042.3 | I33: =Модули!$B$3 -> Модуль 1 (код 4237) | J33: =Модули!$G$3 -> 1500.57 | K33: 3 | L33: =J33*K33 -> 4501.71 | M33: =SUM(L33:L38) -> 12912 | N33: =Модули!$B$3 -> Модуль 1 (код 4237) | O33: =Модули!G3 -> 1500.57 | P33: 3 | Q33: =O33*P33 -> 4501.71 | R33: =SUM(Q33:Q38) -> 12385.15 | S33: =Модули!$B$3 -> Модуль 1 (код 4237) | T33: =Модули!G3 -> 1500.57 | U33: 3 | V33: =T33*U33 -> 4501.71 | W33: =SUM(V33:V37) -> 13254.85
D34: =Модули!$B$4 -> Модуль 1.1 (код 7002) | E34: =Модули!$G$4 -> 288.71 | F34: 2 | G34: =E34*F34 -> 577.42 | I34: =Модули!$B$4 -> Модуль 1.1 (код 7002) | J34: =Модули!$G$4 -> 288.71 | K34: 2 | L34: =J34*K34 -> 577.42 | N34: =Модули!$B$4 -> Модуль 1.1 (код 7002) | O34: =Модули!G4 -> 288.71 | P34: 2 | Q34: =O34*P34 -> 577.42 | S34: =Модули!$B$4 -> Модуль 1.1 (код 7002) | T34: =Модули!G4 -> 288.71 | U34: 2 | V34: =T34*U34 -> 577.42
D35: =Модули!B5 -> Модуль 2.1 \600 (код 4245) | E35: =Модули!G5 -> 596.63 | F35: 8 | G35: =E35*F35 -> 4773.04 | I35: =Модули!B5 -> Модуль 2.1 \600 (код 4245) | J35: =Модули!G5 -> 596.63 | K35: 3 | L35: =J35*K35 -> 1789.89 | N35: =Модули!B7 -> Модуль 2.1\800 (код 4247) | O35: =Модули!G7 -> 697.22 | P35: 3 | Q35: =O35*P35 -> 2091.66 | S35: =Модули!B7 -> Модуль 2.1\800 (код 4247) | T35: =Модули!G7 -> 697.22 | U35: 8 | V35: =T35*U35 -> 5577.76
D36: =Модули!B6 -> Модуль 2.2 \600 (код 4246) | E36: =Модули!G6 -> 661.17 | F36: 3 | G36: =E36*F36 -> 1983.51 | I36: =Модули!B7 -> Модуль 2.1\800 (код 4247) | J36: =Модули!G7 -> 697.22 | K36: 5 | L36: =J36*K36 -> 3486.1 | N36: =Модули!$B$5 -> Модуль 2.1 \600 (код 4245) | O36: =Модули!G5 -> 596.63 | P36: 5 | Q36: =O36*P36 -> 2983.15 | S36: =Модули!B8 -> Модуль 2.2\800 (код 4248) | T36: =Модули!G8 -> 783.42 | U36: 3 | V36: =T36*U36 -> 2350.26
D37: =Модули!B15 -> Модуль 4.1 \600 (код 4249) | E37: =Модули!G15 -> 103.31 | F37: 2 | G37: =E37*F37 -> 206.62 | I37: =Модули!B8 -> Модуль 2.2\800 (код 4248) | J37: =Модули!G8 -> 783.42 | K37: 3 | L37: =J37*K37 -> 2350.26 | N37: =Модули!$B$6 -> Модуль 2.2 \600 (код 4246) | O37: =Модули!G6 -> 661.17 | P37: 3 | Q37: =O37*P37 -> 1983.51 | S37: =Модули!B16 -> Модуль 4.1\800 (код 4250) | T37: =Модули!G16 -> 123.85 | U37: 2 | V37: =T37*U37 -> 247.7
I38: =Модули!B15 -> Модуль 4.1 \600 (код 4249) | J38: =Модули!G15 -> 103.31 | K38: 2 | L38: =J38*K38 -> 206.62 | N38: =Модули!B16 -> Модуль 4.1\800 (код 4250) | O38: =Модули!G16 -> 123.85 | P38: 2 | Q38: =O38*P38 -> 247.7
A39: 6 | B39: Premio GS - 2/6 | D39: =Модули!$B$3 -> Модуль 1 (код 4237) | E39: =Модули!$G$3 -> 1500.57 | F39: 3 | G39: =E39*F39 -> 4501.71 | H39: =SUM(G39:G44) -> 16650.65 | I39: =Модули!$B$3 -> Модуль 1 (код 4237) | J39: =Модули!G3 -> 1500.57 | K39: 3 | L39: =J39*K39 -> 4501.71 | M39: =SUM(L39:L45) -> 17520.35 | N39: =Модули!$B$3 -> Модуль 1 (код 4237) | O39: =Модули!G3 -> 1500.57 | P39: 3 | Q39: =O39*P39 -> 4501.71 | R39: =SUM(Q39:Q45) -> 17623.15 | S39: =Модули!$B$3 -> Модуль 1 (код 4237) | T39: =Модули!G3 -> 1500.57 | U39: 3 | V39: =T39*U39 -> 4501.71 | W39: =SUM(V39:V45) -> 18492.85
D40: =Модули!$B$4 -> Модуль 1.1 (код 7002) | E40: =Модули!$G$4 -> 288.71 | F40: 2 | G40: =E40*F40 -> 577.42 | I40: =Модули!$B$4 -> Модуль 1.1 (код 7002) | J40: =Модули!G4 -> 288.71 | K40: 2 | L40: =J40*K40 -> 577.42 | N40: =Модули!$B$4 -> Модуль 1.1 (код 7002) | O40: =Модули!G4 -> 288.71 | P40: 2 | Q40: =O40*P40 -> 577.42 | S40: =Модули!$B$4 -> Модуль 1.1 (код 7002) | T40: =Модули!G4 -> 288.71 | U40: 2 | V40: =T40*U40 -> 577.42
D41: =Модули!B5 -> Модуль 2.1 \600 (код 4245) | E41: =Модули!G5 -> 596.63 | F41: 7 | G41: =E41*F41 -> 4176.41 | I41: =Модули!B5 -> Модуль 2.1 \600 (код 4245) | J41: =Модули!G5 -> 596.63 | K41: 2 | L41: =J41*K41 -> 1193.26 | N41: =Модули!B7 -> Модуль 2.1\800 (код 4247) | O41: =Модули!G7 -> 697.22 | P41: 2 | Q41: =O41*P41 -> 1394.44 | S41: =Модули!B7 -> Модуль 2.1\800 (код 4247) | T41: =Модули!G7 -> 697.22 | U41: 7 | V41: =T41*U41 -> 4880.54
...

Sheet ГС 1800 (1884)
A1: Гардеробная система 1800 ( 1884 мм )
A2: № | B2: Наименование | C2: Описание | D2: Изображение | E2: Комплектация | F2: Цена за единицу | G2: Кол-во | H2: Цена по позиции | I2: Сумма итого
A3: 1 | B3: Premio GS - 1800/1 | C3: (600+600+600)*450*Н2030 | E3: =Модули!$B$3 -> Модуль 1 (код 4237) | F3: =Модули!$G$3 -> 1500.57 | G3: 4 | H3: =F3*G3 -> 6002.28 | I3: =SUM(H3:H6) -> 12959.24
E4: =Модули!$B$4 -> Модуль 1.1 (код 7002) | F4: =Модули!$G$4 -> 288.71 | G4: 2 | H4: =F4*G4 -> 577.42
E5: =Модули!$B$5 -> Модуль 2.1 \600 (код 4245) | F5: =Модули!$G$5 -> 596.63 | G5: 10 | H5: =F5*G5 -> 5966.3
E6: =Модули!$B$15 -> Модуль 4.1 \600 (код 4249) | F6: =Модули!$G$15 -> 103.31 | G6: 4 | H6: =F6*G6 -> 413.24
A7: 2 | B7: Premio GS - 1800/2 | C7: (600+600+600)*450*Н2030 | E7: =Модули!$B$3 -> Модуль 1 (код 4237) | F7: =Модули!$G$3 -> 1500.57 | G7: 4 | H7: =F7*G7 -> 6002.28 | I7: =SUM(H7:H10) -> 13945.88
E8: =Модули!$B$4 -> Модуль 1.1 (код 7002) | F8: =Модули!$G$4 -> 288.71 | G8: 2 | H8: =F8*G8 -> 577.42
E9: =Модули!$B$5 -> Модуль 2.1 \600 (код 4245) | F9: =Модули!$G$5 -> 596.63 | G9: 12 | H9: =F9*G9 -> 7159.56
E10: =Модули!$B$15 -> Модуль 4.1 \600 (код 4249) | F10: =Модули!$G$15 -> 103.31 | G10: 2 | H10: =F10*G10 -> 206.62
A11: 3 | B11: Premio GS - 1800/3 | C11: (600+600+600)*450*Н2030 | E11: =Модули!$B$3 -> Модуль 1 (код 4237) | F11: =Модули!$G$3 -> 1500.57 | G11: 4 | H11: =F11*G11 -> 6002.28 | I11: =SUM(H11:H14) -> 14049.19
E12: =Модули!$B$4 -> Модуль 1.1 (код 7002) | F12: =Модули!$G$4 -> 288.71 | G12: 2 | H12: =F12*G12 -> 577.42
E13: =Модули!$B$5 -> Модуль 2.1 \600 (код 4245) | F13: =Модули!$G$5 -> 596.63 | G13: 12 | H13: =F13*G13 -> 7159.56
E14: =Модули!$B$15 -> Модуль 4.1 \600 (код 4249) | F14: =Модули!$G$15 -> 103.31 | G14: 3 | H14: =F14*G14 -> 309.93
A15: 4 | B15: Premio GS - 1800/4 | C15: (600+600+600)*450*Н2030 | E15: =Модули!$B$3 -> Модуль 1 (код 4237) | F15: =Модули!$G$3 -> 1500.57 | G15: 4 | H15: =F15*G15 -> 6002.28 | I15: =SUM(H15:H18) -> 11662.67
E16: =Модули!$B$4 -> Модуль 1.1 (код 7002) | F16: =Модули!$G$4 -> 288.71 | G16: 2 | H16: =F16*G16 -> 577.42
E17: =Модули!$B$5 -> Модуль 2.1 \600 (код 4245) | F17: =Модули!$G$5 -> 596.63 | G17: 8 | H17: =F17*G17 -> 4773.04
E18: =Модули!$B$15 -> Модуль 4.1 \600 (код 4249) | F18: =Модули!$G$15 -> 103.31 | G18: 3 | H18: =F18*G18 -> 309.93
A19: 5 | B19: Premio GS - 1800/5 | C19: (600+600+600)*450*Н2030 | E19: =Модули!$B$3 -> Модуль 1 (код 4237) | F19: =Модули!$G$3 -> 1500.57 | G19: 4 | H19: =F19*G19 -> 6002.28 | I19: =SUM(H19:H22) -> 11662.67
E20: =Модули!$B$4 -> Модуль 1.1 (код 7002) | F20: =Модули!$G$4 -> 288.71 | G20: 2 | H20: =F20*G20 -> 577.42
E21: =Модули!$B$5 -> Модуль 2.1 \600 (код 4245) | F21: =Модули!$G$5 -> 596.63 | G21: 8 | H21: =F21*G21 -> 4773.04
E22: =Модули!$B$15 -> Модуль 4.1 \600 (код 4249) | F22: =Модули!$G$15 -> 103.31 | G22: 3 | H22: =F22*G22 -> 309.93
A23: 6 | B23: Premio GS - 1800/6 | C23: (600+600+600)*450*Н2030 | E23: =Модули!$B$3 -> Модуль 1 (код 4237) | F23: =Модули!$G$3 -> 1500.57 | G23: 4 | H23: =F23*G23 -> 6002.28 | I23: =SUM(H23:H26) -> 11662.67
E24: =Модули!$B$4 -> Модуль 1.1 (код 7002) | F24: =Модули!$G$4 -> 288.71 | G24: 2 | H24: =F24*G24 -> 577.42
E25: =Модули!$B$5 -> Модуль 2.1 \600 (код 4245) | F25: =Модули!$G$5 -> 596.63 | G25: 8 | H25: =F25*G25 -> 4773.04
E26: =Модули!$B$15 -> Модуль 4.1 \600 (код 4249) | F26: =Модули!$G$15 -> 103.31 | G26: 3 | H26: =F26*G26 -> 309.93
A27: 7 | B27: Premio GS - 1800/7 | C27: (600+600+600)*450*Н2030 | E27: =Модули!$B$3 -> Модуль 1 (код 4237) | F27: =Модули!$G$3 -> 1500.57 | G27: 4 | H27: =F27*G27 -> 6002.28 | I27: =SUM(H27:H30) -> 11662.67
E28: =Модули!$B$4 -> Модуль 1.1 (код 7002) | F28: =Модули!$G$4 -> 288.71 | G28: 2 | H28: =F28*G28 -> 577.42
E29: =Модули!$B$5 -> Модуль 2.1 \600 (код 4245) | F29: =Модули!$G$5 -> 596.63 | G29: 8 | H29: =F29*G29 -> 4773.04
E30: =Модули!$B$15 -> Модуль 4.1 \600 (код 4249) | F30: =Модули!$G$15 -> 103.31 | G30: 3 | H30: =F30*G30 -> 309.93
A31: 8 | B31: Premio GS - 1800/8 | C31: (600+600+600)*450*Н2030 | E31: =Модули!$B$3 -> Модуль 1 (код 4237) | F31: =Модули!$G$3 -> 1500.57 | G31: 4 | H31: =F31*G31 -> 6002.28 | I31: =SUM(H31:H34) -> 11662.67
E32: =Модули!$B$4 -> Модуль 1.1 (код 7002) | F32: =Модули!$G$4 -> 288.71 | G32: 2 | H32: =F32*G32 -> 577.42
E33: =Модули!$B$5 -> Модуль 2.1 \600 (код 4245) | F33: =Модули!$G$5 -> 596.63 | G33: 8 | H33: =F33*G33 -> 4773.04
E34: =Модули!$B$15 -> Модуль 4.1 \600 (код 4249) | F34: =Модули!$G$15 -> 103.31 | G34: 3 | H34: =F34*G34 -> 309.93
A35: 9 | B35: Premio GS - 1800/9 | C35: (600+600+600)*450*Н2030 | E35: =Модули!$B$3 -> Модуль 1 (код 4237) | F35: =Модули!$G$3 -> 1500.57 | G35: 4 | H35: =F35*G35 -> 6002.28 | I35: =SUM(H35:H38) -> 11662.67
E36: =Модули!$B$4 -> Модуль 1.1 (код 7002) | F36: =Модули!$G$4 -> 288.71 | G36: 2 | H36: =F36*G36 -> 577.42
E37: =Модули!$B$5 -> Модуль 2.1 \600 (код 4245) | F37: =Модули!$G$5 -> 596.63 | G37: 8 | H37: =F37*G37 -> 4773.04
E38: =Модули!$B$15 -> Модуль 4.1 \600 (код 4249) | F38: =Модули!$G$15 -> 103.31 | G38: 3 | H38: =F38*G38 -> 309.93
A39: 10 | B39: Premio GS - 1800/12 | C39: (600+600+600)*450*Н2030 | E39: =Модули!$B$3 -> Модуль 1 (код 4237) | F39: =Модули!$G$3 -> 1500.57 | G39: 4 | H39: =F39*G39 -> 6002.28 | I39: =SUM(H39:H42) -> 15632.46
E40: =Модули!$B$4 -> Модуль 1.1 (код 7002) | F40: =Модули!$G$4 -> 288.71 | G40: 2 | H40: =F40*G40 -> 577.42
...

Sheet ГС 2000 (2084)
A1: Гардеробная система 2000 ( 2084 мм )
A2: № | B2: Наименование | C2: Описание | D2: Изображение | E2: Комплектация | F2: Цена за единицу | G2: Кол-во | H2: Цена по позиции | I2: Сумма итого
A3: 1 | B3: Premio GS - 2000/1 | C3: (600+800+600)*450*Н2030 | E3: =Модули!$B$3 -> Модуль 1 (код 4237) | F3: =Модули!$G$3 -> 1500.57 | G3: 4 | H3: =F3*G3 -> 6002.28 | I3: =SUM(H3:H7) -> 13562.78
E4: =Модули!$B$4 -> Модуль 1.1 (код 7002) | F4: =Модули!$G$4 -> 288.71 | G4: 2 | H4: =F4*G4 -> 577.42
E5: =Модули!$B$5 -> Модуль 2.1 \600 (код 4245) | F5: =Модули!$G$5 -> 596.63 | G5: 4 | H5: =F5*G5 -> 2386.52
E6: =Модули!$B$7 -> Модуль 2.1\800 (код 4247) | F6: =Модули!$G$7 -> 697.22 | G6: 6 | H6: =F6*G6 -> 4183.32
E7: =Модули!$B$15 -> Модуль 4.1 \600 (код 4249) | F7: =Модули!$G$15 -> 103.31 | G7: 4 | H7: =F7*G7 -> 413.24
A8: 2 | B8: Premio GS - 2000/2 | C8: (600+800+600)*450*Н2030 | E8: =Модули!$B$3 -> Модуль 1 (код 4237) | F8: =Модули!$G$3 -> 1500.57 | G8: 4 | H8: =F8*G8 -> 6002.28 | I8: =SUM(H8:H12) -> 14549.42
E9: =Модули!$B$4 -> Модуль 1.1 (код 7002) | F9: =Модули!$G$4 -> 288.71 | G9: 2 | H9: =F9*G9 -> 577.42
E10: =Модули!$B$5 -> Модуль 2.1 \600 (код 4245) | F10: =Модули!$G$5 -> 596.63 | G10: 6 | H10: =F10*G10 -> 3579.78
E11: =Модули!$B$7 -> Модуль 2.1\800 (код 4247) | F11: =Модули!$G$7 -> 697.22 | G11: 6 | H11: =F11*G11 -> 4183.32
E12: =Модули!$B$15 -> Модуль 4.1 \600 (код 4249) | F12: =Модули!$G$15 -> 103.31 | G12: 2 | H12: =F12*G12 -> 206.62
A13: 3 | B13: Premio GS - 2000/3 | C13: (600+800+600)*450*Н2030 | E13: =Модули!$B$3 -> Модуль 1 (код 4237) | F13: =Модули!$G$3 -> 1500.57 | G13: 4 | H13: =F13*G13 -> 6002.28 | I13: =SUM(H13:H17) -> 14652.73
E14: =Модули!$B$4 -> Модуль 1.1 (код 7002) | F14: =Модули!$G$4 -> 288.71 | G14: 2 | H14: =F14*G14 -> 577.42
E15: =Модули!$B$5 -> Модуль 2.1 \600 (код 4245) | F15: =Модули!$G$5 -> 596.63 | G15: 6 | H15: =F15*G15 -> 3579.78
E16: =Модули!$B$7 -> Модуль 2.1\800 (код 4247) | F16: =Модули!$G$7 -> 697.22 | G16: 6 | H16: =F16*G16 -> 4183.32
E17: =Модули!$B$15 -> Модуль 4.1 \600 (код 4249) | F17: =Модули!$G$15 -> 103.31 | G17: 3 | H17: =F17*G17 -> 309.93
A18: 4 | B18: Premio GS - 2000/4 | C18: (600+800+600)*450*Н2030 | E18: =Модули!$B$3 -> Модуль 1 (код 4237) | F18: =Модули!$G$3 -> 1500.57 | G18: 4 | H18: =F18*G18 -> 6002.28 | I18: =SUM(H18:H24) -> 16052.59 | K18: 6 полок сделать обувными
E19: =Модули!$B$4 -> Модуль 1.1 (код 7002) | F19: =Модули!$G$4 -> 288.71 | G19: 2 | H19: =F19*G19 -> 577.42
E20: =Модули!$B$5 -> Модуль 2.1 \600 (код 4245) | F20: =Модули!$G$5 -> 596.63 | G20: 4 | H20: =F20*G20 -> 2386.52
E21: =Модули!$B$6 -> Модуль 2.2 \600 (код 4246) | F21: =Модули!$G$6 -> 661.17 | G21: 6 | H21: =F21*G21 -> 3967.02
E22: =Модули!$B$7 -> Модуль 2.1\800 (код 4247) | F22: =Модули!$G$7 -> 697.22 | G22: 4 | H22: =F22*G22 -> 2788.88
E23: =Модули!$B$15 -> Модуль 4.1 \600 (код 4249) | F23: =Модули!$G$15 -> 103.31 | G23: 2 | H23: =F23*G23 -> 206.62
E24: =Модули!$B$16 -> Модуль 4.1\800 (код 4250) | F24: =Модули!$G$16 -> 123.85 | G24: 1 | H24: =F24*G24 -> 123.85
A25: 5 | B25: Premio GS - 2000/5 | C25: (600+800+600)*450*Н2030 | E25: =Модули!$B$3 -> Модуль 1 (код 4237) | F25: =Модули!$G$3 -> 1500.57 | G25: 4 | H25: =F25*G25 -> 6002.28 | I25: =SUM(H25:H32) -> 16739.52
E26: =Модули!$B$4 -> Модуль 1.1 (код 7002) | F26: =Модули!$G$4 -> 288.71 | G26: 2 | H26: =F26*G26 -> 577.42
E27: =Модули!$B$5 -> Модуль 2.1 \600 (код 4245) | F27: =Модули!$G$5 -> 596.63 | G27: 7 | H27: =F27*G27 -> 4176.41
E28: =Модули!B7 -> Модуль 2.1\800 (код 4247) | F28: =Модули!G7 -> 697.22 | G28: 1 | H28: =F28*G28 -> 697.22
E29: =Модули!B6 -> Модуль 2.2 \600 (код 4246) | F29: =Модули!G6 -> 661.17 | G29: 3 | H29: =F29*G29 -> 1983.51
E30: =Модули!B12 -> Модуль 3.1\800 (код 6992) | F30: =Модули!G12 -> 2972.21 | G30: 1 | H30: =F30*G30 -> 2972.21
E31: =Модули!B15 -> Модуль 4.1 \600 (код 4249) | F31: =Модули!G15 -> 103.31 | G31: 2 | H31: =F31*G31 -> 206.62
E32: =Модули!B16 -> Модуль 4.1\800 (код 4250) | F32: =Модули!G16 -> 123.85 | G32: 1 | H32: =F32*G32 -> 123.85
A33: 6 | B33: Premio GS - 2000/6 | C33: (600+800+600)*450*Н2030 | E33: =Модули!$B$3 -> Модуль 1 (код 4237) | F33: =Модули!$G$3 -> 1500.57 | G33: 4 | H33: =F33*G33 -> 6002.28 | I33: =SUM(H33:H40) -> 20036.47
E34: =Модули!$B$4 -> Модуль 1.1 (код 7002) | F34: =Модули!$G$4 -> 288.71 | G34: 2 | H34: =F34*G34 -> 577.42
E35: =Модули!B5 -> Модуль 2.1 \600 (код 4245) | F35: =Модули!G5 -> 596.63 | G35: 11 | H35: =F35*G35 -> 6562.93
E36: =Модули!B7 -> Модуль 2.1\800 (код 4247) | F36: =Модули!G7 -> 697.22 | G36: 1 | H36: =F36*G36 -> 697.22
E37: =Модули!B6 -> Модуль 2.2 \600 (код 4246) | F37: =Модули!G6 -> 661.17 | G37: 1 | H37: =F37*G37 -> 661.17
E38: =Модули!B11 -> Модуль 3.3\600 (код 6981) | F38: =Модули!G11 -> 5308.29 | G38: 1 | H38: =F38*G38 -> 5308.29
E39: =Модули!B15 -> Модуль 4.1 \600 (код 4249) | F39: =Модули!G15 -> 103.31 | G39: 1 | H39: =F39*G39 -> 103.31
E40: =Модули!B16 -> Модуль 4.1\800 (код 4250) | F40: =Модули!G16 -> 123.85 | G40: 1 | H40: =F40*G40 -> 123.85
...

Sheet ГС 2200 (2284)
A1: Гардеробная система 2200 ( 2284 мм )
A2: № | B2: Наименование | C2: Описание | D2: Изображение | E2: Комплектация | F2: Цена за единицу | G2: Кол-во | H2: Цена по позиции | I2: Сумма итого
A3: 1 | B3: Premio GS - 2000/1 | C3: (800+600+800)*450*Н2030 | E3: =Модули!$B$3 -> Модуль 1 (код 4237) | F3: =Модули!$G$3 -> 1500.57 | G3: 4 | H3: =F3*G3 -> 6002.28 | I3: =SUM(H3:H7) -> 13443.76
E4: =Модули!$B$4 -> Модуль 1.1 (код 7002) | F4: =Модули!$G$4 -> 288.71 | G4: 2 | H4: =F4*G4 -> 577.42
E5: =Модули!$B$5 -> Модуль 2.1 \600 (код 4245) | F5: =Модули!$G$5 -> 596.63 | G5: 6 | H5: =F5*G5 -> 3579.78
E6: =Модули!$B$7 -> Модуль 2.1\800 (код 4247) | F6: =Модули!$G$7 -> 697.22 | G6: 4 | H6: =F6*G6 -> 2788.88
E7: =Модули!$B$16 -> Модуль 4.1\800 (код 4250) | F7: =Модули!$G$16 -> 123.85 | G7: 4 | H7: =F7*G7 -> 495.4
A8: 2 | B8: Premio GS - 2000/2 | C8: (800+600+800)*450*Н2030 | E8: =Модули!$B$3 -> Модуль 1 (код 4237) | F8: =Модули!$G$3 -> 1500.57 | G8: 4 | H8: =F8*G8 -> 6002.28 | I8: =SUM(H8:H12) -> 14590.5
E9: =Модули!$B$4 -> Модуль 1.1 (код 7002) | F9: =Модули!$G$4 -> 288.71 | G9: 2 | H9: =F9*G9 -> 577.42
E10: =Модули!$B$5 -> Модуль 2.1 \600 (код 4245) | F10: =Модули!$G$5 -> 596.63 | G10: 6 | H10: =F10*G10 -> 3579.78
E11: =Модули!$B$7 -> Модуль 2.1\800 (код 4247) | F11: =Модули!$G$7 -> 697.22 | G11: 6 | H11: =F11*G11 -> 4183.32
E12: =Модули!$B$16 -> Модуль 4.1\800 (код 4250) | F12: =Модули!$G$16 -> 123.85 | G12: 2 | H12: =F12*G12 -> 247.7
A13: 3 | B13: Premio GS - 2000/3 | C13: (800+600+800)*450*Н2030 | E13: =Модули!$B$3 -> Модуль 1 (код 4237) | F13: =Модули!$G$3 -> 1500.57 | G13: 4 | H13: =F13*G13 -> 6002.28 | I13: =SUM(H13:H17) -> 14714.35
E14: =Модули!$B$4 -> Модуль 1.1 (код 7002) | F14: =Модули!$G$4 -> 288.71 | G14: 2 | H14: =F14*G14 -> 577.42
E15: =Модули!$B$5 -> Модуль 2.1 \600 (код 4245) | F15: =Модули!$G$5 -> 596.63 | G15: 6 | H15: =F15*G15 -> 3579.78
E16: =Модули!$B$7 -> Модуль 2.1\800 (код 4247) | F16: =Модули!$G$7 -> 697.22 | G16: 6 | H16: =F16*G16 -> 4183.32
E17: =Модули!$B$16 -> Модуль 4.1\800 (код 4250) | F17: =Модули!$G$16 -> 123.85 | G17: 3 | H17: =F17*G17 -> 371.55
A18: 4 | B18: Premio GS - 2000/4 | C18: (800+600+800)*450*Н2030 | E18: =Модули!$B$3 -> Модуль 1 (код 4237) | F18: =Модули!$G$3 -> 1500.57 | G18: 4 | H18: =F18*G18 -> 6002.28 | I18: =SUM(H18:H24) -> 16806.63
E19: =Модули!$B$4 -> Модуль 1.1 (код 7002) | F19: =Модули!$G$4 -> 288.71 | G19: 2 | H19: =F19*G19 -> 577.42
E20: =Модули!$B$5 -> Модуль 2.1 \600 (код 4245) | F20: =Модули!$G$5 -> 596.63 | G20: 4 | H20: =F20*G20 -> 2386.52
E21: =Модули!$B$8 -> Модуль 2.2\800 (код 4248) | F21: =Модули!$G$8 -> 783.42 | G21: 6 | H21: =F21*G21 -> 4700.52
E22: =Модули!$B$7 -> Модуль 2.1\800 (код 4247) | F22: =Модули!$G$7 -> 697.22 | G22: 4 | H22: =F22*G22 -> 2788.88
E23: =Модули!$B$15 -> Модуль 4.1 \600 (код 4249) | F23: =Модули!$G$15 -> 103.31 | G23: 1 | H23: =F23*G23 -> 103.31
E24: =Модули!$B$16 -> Модуль 4.1\800 (код 4250) | F24: =Модули!$G$16 -> 123.85 | G24: 2 | H24: =F24*G24 -> 247.7
A25: 5 | B25: Premio GS - 2200/5 | C25: (800+600+800)*450*Н2030 | E25: =Модули!$B$3 -> Модуль 1 (код 4237) | F25: =Модули!$G$3 -> 1500.57 | G25: 4 | H25: =F25*G25 -> 6002.28 | I25: =SUM(H25:H31) -> 18366.36
E26: =Модули!$B$4 -> Модуль 1.1 (код 7002) | F26: =Модули!$G$4 -> 288.71 | G26: 2 | H26: =F26*G26 -> 577.42
E27: =Модули!B7 -> Модуль 2.1\800 (код 4247) | F27: =Модули!G7 -> 697.22 | G27: 6 | H27: =F27*G27 -> 4183.32
E28: =Модули!B5 -> Модуль 2.1 \600 (код 4245) | F28: =Модули!G5 -> 596.63 | G28: 2 | H28: =F28*G28 -> 1193.26
E29: =Модули!B14 -> Модуль 3.3\800 (код 6994) | F29: =Модули!G14 -> 6059.07 | G29: 1 | H29: =F29*G29 -> 6059.07
E30: =Модули!B15 -> Модуль 4.1 \600 (код 4249) | F30: =Модули!G15 -> 103.31 | G30: 1 | H30: =F30*G30 -> 103.31
E31: =Модули!B16 -> Модуль 4.1\800 (код 4250) | F31: =Модули!G16 -> 123.85 | G31: 2 | H31: =F31*G31 -> 247.7
A32: 6 | B32: Premio GS - 2200/6 | C32: (800+600+800)*450*Н2030 | E32: =Модули!$B$3 -> Модуль 1 (код 4237) | F32: =Модули!$G$3 -> 1500.57 | G32: 4 | H32: =F32*G32 -> 6002.28 | I32: =SUM(H32:H38) -> 19143.49
E33: =Модули!$B$4 -> Модуль 1.1 (код 7002) | F33: =Модули!$G$4 -> 288.71 | G33: 2 | H33: =F33*G33 -> 577.42
E34: =Модули!B7 -> Модуль 2.1\800 (код 4247) | F34: =Модули!G7 -> 697.22 | G34: 11 | H34: =F34*G34 -> 7669.42
E35: =Модули!B5 -> Модуль 2.1 \600 (код 4245) | F35: =Модули!G5 -> 596.63 | G35: 1 | H35: =F35*G35 -> 596.63
E36: =Модули!B10 -> Модуль 3.2 \600 (код 6980) | F36: =Модули!G10 -> 3946.73 | G36: 1 | H36: =F36*G36 -> 3946.73
E37: =Модули!B15 -> Модуль 4.1 \600 (код 4249) | F37: =Модули!G15 -> 103.31 | G37: 1 | H37: =F37*G37 -> 103.31
E38: =Модули!B16 -> Модуль 4.1\800 (код 4250) | F38: =Модули!G16 -> 123.85 | G38: 2 | H38: =F38*G38 -> 247.7
A39: 7 | B39: Premio GS - 2200/7 | C39: (800+600+800)*450*Н2030 | E39: =Модули!$B$3 -> Модуль 1 (код 4237) | F39: =Модули!$G$3 -> 1500.57 | G39: 4 | H39: =F39*G39 -> 6002.28 | I39: =SUM(H39:H44) -> 24372.96
E40: =Модули!$B$4 -> Модуль 1.1 (код 7002) | F40: =Модули!$G$4 -> 288.71 | G40: 2 | H40: =F40*G40 -> 577.42
...

Sheet ГС Тройная
A1: Гардеробна система 1800 (1934) -2400 ( 2534 мм )
A2: № | B2: Наименование | C2: Изображение | D2: Комплектація (600+600+600=1884мм)*450*2030 (+21мм. Стійув, +50мм. Пята) | E2: Ціна за одиницю | F2: К-ть | G2: Ціна | H2: Сума | I2: Комплектація (800+800+800=2484 мм)*450*2030 (+21мм. Стійув, +50мм. Пята) | J2: Ціна за одиницю | K2: К-ть | L2: Ціна | M2: Сума
A3: 1 | B3: Premio GS - 3/1 | D3: =Модули!$B$3 -> Модуль 1 (код 4237) | E3: =Модули!$G$3 -> 1500.57 | F3: 4 | G3: =E3*F3 -> 6002.28 | H3: =SUM(G3:G7) -> 16970.96 | I3: =Модули!$B$3 -> Модуль 1 (код 4237) | J3: =Модули!$G$3 -> 1500.57 | K3: 4 | L3: =J3*K3 -> 6002.28 | M3: =SUM(L3:L7) -> 18588.08
D4: =Модули!$B$4 -> Модуль 1.1 (код 7002) | E4: =Модули!$G$4 -> 288.71 | F4: 2 | G4: =E4*F4 -> 577.42 | I4: =Модули!$B$4 -> Модуль 1.1 (код 7002) | J4: =Модули!$G$4 -> 288.71 | K4: 2 | L4: =J4*K4 -> 577.42
D5: =Модули!B5 -> Модуль 2.1 \600 (код 4245) | E5: =Модули!G5 -> 596.63 | F5: 8 | G5: =E5*F5 -> 4773.04 | I5: =Модули!B7 -> Модуль 2.1\800 (код 4247) | J5: =Модули!G7 -> 697.22 | K5: 8 | L5: =J5*K5 -> 5577.76
D6: =Модули!B11 -> Модуль 3.3\600 (код 6981) | E6: =Модули!G11 -> 5308.29 | F6: 1 | G6: =E6*F6 -> 5308.29 | I6: =Модули!B14 -> Модуль 3.3\800 (код 6994) | J6: =Модули!G14 -> 6059.07 | K6: 1 | L6: =J6*K6 -> 6059.07
D7: =Модули!B15 -> Модуль 4.1 \600 (код 4249) | E7: =Модули!G15 -> 103.31 | F7: 3 | G7: =E7*F7 -> 309.93 | I7: =Модули!B16 -> Модуль 4.1\800 (код 4250) | J7: =Модули!G16 -> 123.85 | K7: 3 | L7: =J7*K7 -> 371.55
A8: 2 | B8: Premio GS - 3/2 | D8: =Модули!$B$3 -> Модуль 1 (код 4237) | E8: =Модули!$G$3 -> 1500.57 | F8: 4 | G8: =E8*F8 -> 6002.28 | H8: =SUM(G8:G12) -> 22562.34 | I8: =Модули!$B$3 -> Модуль 1 (код 4237) | J8: =Модули!$G$3 -> 1500.57 | K8: 4 | L8: =J8*K8 -> 6002.28 | M8: =SUM(L8:L12) -> 25163.5
D9: =Модули!$B$4 -> Модуль 1.1 (код 7002) | E9: =Модули!$G$4 -> 288.71 | F9: 2 | G9: =E9*F9 -> 577.42 | I9: =Модули!$B$4 -> Модуль 1.1 (код 7002) | J9: =Модули!$G$4 -> 288.71 | K9: 2 | L9: =J9*K9 -> 577.42
D10: =Модули!B5 -> Модуль 2.1 \600 (код 4245) | E10: =Модули!G5 -> 596.63 | F10: 20 | G10: =E10*F10 -> 11932.6 | I10: =Модули!B7 -> Модуль 2.1\800 (код 4247) | J10: =Модули!G7 -> 697.22 | K10: 20 | L10: =J10*K10 -> 13944.4
D11: =Модули!B10 -> Модуль 3.2 \600 (код 6980) | E11: =Модули!G10 -> 3946.73 | F11: 1 | G11: =E11*F11 -> 3946.73 | I11: =Модули!B13 -> Модуль 3.2\800 (код 6993) | J11: =Модули!G13 -> 4515.55 | K11: 1 | L11: =J11*K11 -> 4515.55
D12: =Модули!B15 -> Модуль 4.1 \600 (код 4249) | E12: =Модули!G15 -> 103.31 | F12: 1 | G12: =E12*F12 -> 103.31 | I12: =Модули!B16 -> Модуль 4.1\800 (код 4250) | J12: =Модули!G16 -> 123.85 | K12: 1 | L12: =J12*K12 -> 123.85
A13: 3 | B13: Premio GS - 3/3 | D13: =Модули!$B$3 -> Модуль 1 (код 4237) | E13: =Модули!$G$3 -> 1500.57 | F13: 4 | G13: =E13*F13 -> 6002.28 | H13: =SUM(G13:G17) -> 23353.04 | I13: =Модули!$B$3 -> Модуль 1 (код 4237) | J13: =Модули!$G$3 -> 1500.57 | K13: 4 | L13: =J13*K13 -> 6002.28 | M13: =SUM(L13:L17) -> 26058.35
D14: =Модули!$B$4 -> Модуль 1.1 (код 7002) | E14: =Модули!$G$4 -> 288.71 | F14: 2 | G14: =E14*F14 -> 577.42 | I14: =Модули!$B$4 -> Модуль 1.1 (код 7002) | J14: =Модули!$G$4 -> 288.71 | K14: 2 | L14: =J14*K14 -> 577.42
D15: =Модули!B5 -> Модуль 2.1 \600 (код 4245) | E15: =Модули!G5 -> 596.63 | F15: 17 | G15: =E15*F15 -> 10142.71 | I15: =Модули!B7 -> Модуль 2.1\800 (код 4247) | J15: =Модули!G7 -> 697.22 | K15: 17 | L15: =J15*K15 -> 11852.74
D16: =Модули!B6 -> Модуль 2.2 \600 (код 4246) | E16: =Модули!G6 -> 661.17 | F16: 2 | G16: =E16*F16 -> 1322.34 | I16: =Модули!B8 -> Модуль 2.2\800 (код 4248) | J16: =Модули!G8 -> 783.42 | K16: 2 | L16: =J16*K16 -> 1566.84
D17: =Модули!B11 -> Модуль 3.3\600 (код 6981) | E17: =Модули!G11 -> 5308.29 | F17: 1 | G17: =E17*F17 -> 5308.29 | I17: =Модули!B14 -> Модуль 3.3\800 (код 6994) | J17: =Модули!G14 -> 6059.07 | K17: 1 | L17: =J17*K17 -> 6059.07
D18: =Модули!B15 -> Модуль 4.1 \600 (код 4249) | E18: =Модули!G15 -> 103.31 | F18: 1 | G18: =E18*F18 -> 103.31 | I18: =Модули!B16 -> Модуль 4.1\800 (код 4250) | J18: =Модули!G16 -> 123.85 | K18: 1 | L18: =J18*K18 -> 123.85
A19: 4 | B19: Premio GS - 3/4 | D19: =Модули!$B$3 -> Модуль 1 (код 4237) | E19: =Модули!$G$3 -> 1500.57 | F19: 4 | G19: =E19*F19 -> 6002.28 | H19: =SUM(G19:G23) -> 17995.92 | I19: =Модули!$B$3 -> Модуль 1 (код 4237) | J19: =Модули!$G$3 -> 1500.57 | K19: 4 | L19: =J19*K19 -> 6002.28 | M19: =SUM(L19:L23) -> 19833.44
D20: =Модули!$B$4 -> Модуль 1.1 (код 7002) | E20: =Модули!$G$4 -> 288.71 | F20: 2 | G20: =E20*F20 -> 577.42 | I20: =Модули!$B$4 -> Модуль 1.1 (код 7002) | J20: =Модули!$G$4 -> 288.71 | K20: 2 | L20: =J20*K20 -> 577.42
D21: =Модули!B5 -> Модуль 2.1 \600 (код 4245) | E21: =Модули!G5 -> 596.63 | F21: 12 | G21: =E21*F21 -> 7159.56 | I21: =Модули!B7 -> Модуль 2.1\800 (код 4247) | J21: =Модули!G7 -> 697.22 | K21: 12 | L21: =J21*K21 -> 8366.64
D22: =Модули!B10 -> Модуль 3.2 \600 (код 6980) | E22: =Модули!G10 -> 3946.73 | F22: 1 | G22: =E22*F22 -> 3946.73 | I22: =Модули!B13 -> Модуль 3.2\800 (код 6993) | J22: =Модули!G13 -> 4515.55 | K22: 1 | L22: =J22*K22 -> 4515.55
D23: =Модули!B15 -> Модуль 4.1 \600 (код 4249) | E23: =Модули!G15 -> 103.31 | F23: 3 | G23: =E23*F23 -> 309.93 | I23: =Модули!B16 -> Модуль 4.1\800 (код 4250) | J23: =Модули!G16 -> 123.85 | K23: 3 | L23: =J23*K23 -> 371.55
A24: 5 | B24: Premio GS - 3/5 | D24: =Модули!$B$3 -> Модуль 1 (код 4237) | E24: =Модули!$G$3 -> 1500.57 | F24: 4 | G24: =E24*F24 -> 6002.28 | H24: =SUM(G24:G27) -> 15632.46 | I24: =Модули!$B$3 -> Модуль 1 (код 4237) | J24: =Модули!$G$3 -> 1500.57 | K24: 4 | L24: =J24*K24 -> 6002.28 | M24: =SUM(L24:L27) -> 17161.85
D25: =Модули!$B$4 -> Модуль 1.1 (код 7002) | E25: =Модули!$G$4 -> 288.71 | F25: 2 | G25: =E25*F25 -> 577.42 | I25: =Модули!$B$4 -> Модуль 1.1 (код 7002) | J25: =Модули!$G$4 -> 288.71 | K25: 2 | L25: =J25*K25 -> 577.42
D26: =Модули!B5 -> Модуль 2.1 \600 (код 4245) | E26: =Модули!G5 -> 596.63 | F26: 15 | G26: =E26*F26 -> 8949.45 | I26: =Модули!B7 -> Модуль 2.1\800 (код 4247) | J26: =Модули!G7 -> 697.22 | K26: 15 | L26: =J26*K26 -> 10458.3
D27: =Модули!B15 -> Модуль 4.1 \600 (код 4249) | E27: =Модули!G15 -> 103.31 | F27: 1 | G27: =E27*F27 -> 103.31 | I27: =Модули!B16 -> Модуль 4.1\800 (код 4250) | J27: =Модули!G16 -> 123.85 | K27: 1 | L27: =J27*K27 -> 123.85
A28: 6 | B28: Premio GS - 3/6 | D28: =Модули!$B$3 -> Модуль 1 (код 4237) | E28: =Модули!$G$3 -> 1500.57 | F28: 4 | G28: =E28*F28 -> 6002.28 | H28: =SUM(G28:G32) -> 15436.07 | I28: =Модули!$B$3 -> Модуль 1 (код 4237) | J28: =Модули!$G$3 -> 1500.57 | K28: 4 | L28: =J28*K28 -> 6002.28 | M28: =SUM(L28:L32) -> 16970.93
D29: =Модули!$B$4 -> Модуль 1.1 (код 7002) | E29: =Модули!$G$4 -> 288.71 | F29: 2 | G29: =E29*F29 -> 577.42 | I29: =Модули!$B$4 -> Модуль 1.1 (код 7002) | J29: =Модули!$G$4 -> 288.71 | K29: 2 | L29: =J29*K29 -> 577.42
D30: =Модули!B5 -> Модуль 2.1 \600 (код 4245) | E30: =Модули!G5 -> 596.63 | F30: 11 | G30: =E30*F30 -> 6562.93 | I30: =Модули!B7 -> Модуль 2.1\800 (код 4247) | J30: =Модули!G7 -> 697.22 | K30: 11 | L30: =J30*K30 -> 7669.42
D31: =Модули!B6 -> Модуль 2.2 \600 (код 4246) | E31: =Модули!G6 -> 661.17 | F31: 3 | G31: =E31*F31 -> 1983.51 | I31: =Модули!B8 -> Модуль 2.2\800 (код 4248) | J31: =Модули!G8 -> 783.42 | K31: 3 | L31: =J31*K31 -> 2350.26
D32: =Модули!B15 -> Модуль 4.1 \600 (код 4249) | E32: =Модули!G15 -> 103.31 | F32: 3 | G32: =E32*F32 -> 309.93 | I32: =Модули!B16 -> Модуль 4.1\800 (код 4250) | J32: =Модули!G16 -> 123.85 | K32: 3 | L32: =J32*K32 -> 371.55
A33: 7 | B33: Premio GS - 3/7 | D33: =Модули!$B$3 -> Модуль 1 (код 4237) | E33: =Модули!$G$3 -> 1500.57 | F33: 4 | G33: =E33*F33 -> 6002.28 | H33: =SUM(G33:G37) -> 13581.64 | I33: =Модули!$B$3 -> Модуль 1 (код 4237) | J33: =Модули!$G$3 -> 1500.57 | K33: 4 | L33: =J33*K33 -> 6002.28 | M33: =SUM(L33:L37) -> 14793.07
D34: =Модули!$B$4 -> Модуль 1.1 (код 7002) | E34: =Модули!$G$4 -> 288.71 | F34: 2 | G34: =E34*F34 -> 577.42 | I34: =Модули!$B$4 -> Модуль 1.1 (код 7002) | J34: =Модули!$G$4 -> 288.71 | K34: 2 | L34: =J34*K34 -> 577.42
D35: =Модули!B5 -> Модуль 2.1 \600 (код 4245) | E35: =Модули!G5 -> 596.63 | F35: 9 | G35: =E35*F35 -> 5369.67 | I35: =Модули!B7 -> Модуль 2.1\800 (код 4247) | J35: =Модули!G7 -> 697.22 | K35: 9 | L35: =J35*K35 -> 6274.98
D36: =Модули!B6 -> Модуль 2.2 \600 (код 4246) | E36: =Модули!G6 -> 661.17 | F36: 2 | G36: =E36*F36 -> 1322.34 | I36: =Модули!B8 -> Модуль 2.2\800 (код 4248) | J36: =Модули!G8 -> 783.42 | K36: 2 | L36: =J36*K36 -> 1566.84
D37: =Модули!B15 -> Модуль 4.1 \600 (код 4249) | E37: =Модули!G15 -> 103.31 | F37: 3 | G37: =E37*F37 -> 309.93 | I37: =Модули!B16 -> Модуль 4.1\800 (код 4250) | J37: =Модули!G16 -> 123.85 | K37: 3 | L37: =J37*K37 -> 371.55

Sheet Лист1

Sheet Лист2
