Workbook

Sheet Модули
A1: Модулі гардеробної системи | J1: 4237;7002;4245;4246;4247;4248;6979;6980;6981;6992;6993;6994;4249;4250;7012;7013
A2: № | B2: назва | C2: опис | D2: розмір | E2: вигляд | F2: комплектация | G2: цена
A3: 1 | B3: Модуль 1 (код 4237) | C3: Стійка базова гардеробної системи | D3: 1998*Н2030 | F3: • Профіль алюмінієвий анодований (горизонтальний, вертикальний); • Ніжка регульована; • Комплектфурнітури для кріплення. | G3: 1500.57
A4: 2 | B4: Модуль 1.1 (код 7002) | C4: Накладка на стійку базову | D4: 1998+208*2 | F4: • Накладка на 2 паза ( ал. анодований ) | G4: 288.71
A5: 3 | B5: Модуль 2.1 \600 (код 4245) | C5: Полиця 600*450*16, ЛДСП (КОМПЛЕКТ: полка з фурнітурою для кріплення) | D5: 600*450*Н16 | F5: • Полиця з ДСП ламінована 16мм. (світло сіра) з 2 бортиками; • Кромка ПВХ – 0,6 мм; • Кріплення полички MKSS (регульований кут нахилу) – металл 2мм.,фарба порошкова RAL 7017(сіра); • Комплект фурнітури для кріплення | G5: 596.63
A6: 4 | B6: Модуль 2.2 \600 (код 4246) | C6: Полиця для взуття 600*450*16, ЛДСП (КОМПЛЕК: полка з фурнітурою для кріплення) | D6: 600*450*Н16 | F6: • Полиця для взуття з ДСП ламінована 16мм. (світло сіра) з 2 бортиками; • Кромка ПВХ – 0,6 мм; • Кріплення полички MKSS (регульований кут нахилу) – металл 2мм.,фарба порошкова RAL 7017(сіра); • Комплект фурнітури для кріплення | G6: 661.17
A7: 3 | B7: Модуль 2.1\800 (код 4247) | C7: Полиця 800*450*16, ЛДСП (КОМПЛЕКТ: полка з фурнітурою для кріплення) | D7: 800*450*Н16 | F7: • Полиця з ДСП ламінована 16мм. (світло сіра) з 2 бортиками; • Кромка ПВХ – 0,6 мм; • Кріплення полички MKSS (регульований кут нахилу) – металл 2мм.,фарба порошкова RAL 7017(сіра); • Комплект фурнітури для кріплення | G7: 697.22
A8: 4 | B8: Модуль 2.2\800 (код 4248) | C8: Полиця для взуття 800*450*16, ЛДСП (КОМПЛЕКТ: полка з фурнітурою для кріплення) | D8: 800*450*Н16 | F8: • Полиця для взуття з ДСП ламінована 16мм. (світло сіра) з 2 бортиками; • Кромка ПВХ – 0,6 мм; • Кріплення полички MKSS (регульований кут нахилу) – металл 2мм.,фарба порошкова RAL 7017(сіра); • Комплект фурнітури для кріплення | G8: 783.42
A9: 5 | B9: Модуль 3.1\600 (код 6979) | C9: Тумба на 1 ящик 600х450х242 | D9: 450х600х242 | F9: * навісна тумба з одним видвижним ящиком; • Кріплення полички MKSS – метал 2мм., фарба порошкова RAL 7017(сіра); • Комплект фурнітури для кріплення | G9: 2585.5
A10: 6 | B10: Модуль 3.2 \600 (код 6980) | C10: Тумба на 2 ящика 600х450х467 | D10: 450х600х467 | F10: *навісна тумба з двома висувними ящиками; • Кріплення полички MKSS – метал 2мм., фарба порошкова RAL 7017(сіра); • Комплект фурнітури для кріплення | G10: 3946.73
A11: 7 | B11: Модуль 3.3\600 (код 6981) | C11: Тумба на 3 ящика 600х450х692 | D11: 450х600х692 | F11: * навісна тумба на 3 висувні ящики ; • Кріплення полички MKSS – метал 2мм., фарба порошкова RAL 7017(сіра); • Комплект фурнітури для кріплення | G11: 5308.29
A12: 8 | B12: Модуль 3.1\800 (код 6992) | C12: Тумба з одним висувним ящиком 450х800 | D12: 450х800х242 | F12: * навісна тумба з одним видвижним ящиком; • Кріплення полички MKSS – метал 2мм., фарба порошкова RAL 7017(сіра); • Комплект фурнітури для кріплення | G12: 2972.21
A13: 9 | B13: Модуль 3.2\800 (код 6993) | C13: Тумба з двома висувними ящиками 450х800 | D13: 450х800х467 | F13: *навісна тумба з двома висувними ящиками; • Кріплення полички MKSS – метал 2мм., фарба порошкова RAL 7017(сіра); • Комплект фурнітури для кріплення | G13: 4515.55
A14: 10 | B14: Модуль 3.3\800 (код 6994) | C14: Тумба на 3 висувні ящики 450х800. | D14: 450х800х692 | F14: * навісна тумба на 3 висувні ящики ; • Кріплення полички MKSS – метал 2мм., фарба порошкова RAL 7017(сіра); • Комплект фурнітури для кріплення | G14: 6059.07
... A18: 14 | B18: Модуль 4.2\800 (код 7013) | C18: перекладина передвижная 800 мм SS | D18: 800*30*16/25 | F18: • Труба овальна хромована • Комплект фурнітури для кріплення | G18: 262.17

Sheet ГС одинарна
A1: Гардеробная система 600 (692 мм) -800 (892 мм)
A2: № | B2: Наименование | C2: Изображение | D2: Комплектація 600*450 =642 мм (+21мм. Стійув, +50мм. Пята) | E2: Ціна за одиницю | F2: К-ть | G2: Ціна | H2: Сума | I2: Комплектація 800*450= 842 мм (+21мм. Стійув, +50мм. Пята) | J2: Ціна за одиницю | K2: К-ть | L2: Ціна | M2: Сума
A3: 1 | B3: Premio GS -1 | D3: =Модули!$B$3 -> Модуль 1 (код 4237) | E3: =Модули!$G$3 -> 1500.57 | F3: 2 | G3: =E3*F3 -> 3001.14 | H3: =SUM(G3:G6) -> 8545.22 | I3: =Модули!$B$3 -> Модуль 1 (код 4237) | J3: =Модули!$G$3 -> 1500.57 | K3: 2 | L3: =J3*K3 -> 3001.14 | M3: =SUM(L3:L6) -> 9414.92
D4: =Модули!$B$4 -> Модуль 1.1 (код 7002) | E4: =Модули!$G$4 -> 288.71 | F4: 2 | G4: =E4*F4 -> 577.42 | I4: =Модули!$B$4 -> Модуль 1.1 (код 7002) | J4: =Модули!$G$4 -> 288.71 | K4: 2 | L4: =J4*K4 -> 577.42
D5: =Модули!$B$5 -> Модуль 2.1 \600 (код 4245) | E5: =Модули!G5 -> 596.63 | F5: 5 | G5: =E5*F5 -> 2983.15 | I5: =Модули!$B$7 -> Модуль 2.1\800 (код 4247) | J5: =Модули!$G$7 -> 697.22 | K5: 5 | L5: =J5*K5 -> 3486.1
D6: =Модули!$B$6 -> Модуль 2.2 \600 (код 4246) | E6: =Модули!$G$6 -> 661.17 | F6: 3 | G6: =E6*F6 -> 1983.51 | I6: =Модули!$B$8 -> Модуль 2.2\800 (код 4248) | J6: =Модули!$G$8 -> 783.42 | K6: 3 | L6: =J6*K6 -> 2350.26
A7: 2 | B7: Premio GS - 2 | D7: =Модули!$B$3 -> Модуль 1 (код 4237) | E7: =Модули!$G$3 -> 1500.57 | F7: 2 | G7: =E7*F7 -> 3001.14 | H7: =SUM(G7:G10) -> 5575.07 | I7: =Модули!$B$3 -> Модуль 1 (код 4237) | J7: =Модули!$G$3 -> 1500.57 | K7: 2 | L7: =J7*K7 -> 3001.14 | M7: =SUM(L7:L10) -> 5917.92
D8: =Модули!$B$4 -> Модуль 1.1 (код 7002) | E8: =Модули!$G$4 -> 288.71 | F8: 2 | G8: =E8*F8 -> 577.42 | I8: =Модули!$B$4 -> Модуль 1.1 (код 7002) | J8: =Модули!$G$4 -> 288.71 | K8: 2 | L8: =J8*K8 -> 577.42
D9: =Модули!$B$5 -> Модуль 2.1 \600 (код 4245) | E9: =Модули!$G$5 -> 596.63 | F9: 3 | G9: =E9*F9 -> 1789.89 | I9: =Модули!$B$7 -> Модуль 2.1\800 (код 4247) | J9: =Модули!$G$7 -> 697.22 | K9: 3 | L9: =J9*K9 -> 2091.66
D10: =Модули!$B$15 -> Модуль 4.1 \600 (код 4249) | E10: =Модули!$G$15 -> 103.31 | F10: 2 | G10: =E10*F10 -> 206.62 | I10: =Модули!$B$16 -> Модуль 4.1\800 (код 4250) | J10: =Модули!$G$16 -> 123.85 | K10: 2 | L10: =J10*K10 -> 247.7
A11: 3 | B11: Premio GS - 3 | D11: =Модули!$B$3 -> Модуль 1 (код 4237) | E11: =Модули!$G$3 -> 1500.57 | F11: 2 | G11: =E11*F11 -> 3001.14 | H11: =SUM(G11:G15) -> 9586.79 | I11: =Модули!$B$3 -> Модуль 1 (код 4237) | J11: =Модули!$G$3 -> 1500.57 | K11: 2 | L11: =J11*K11 -> 3001.14 | M11: =SUM(L11:L15) -> 10458.7
D12: =Модули!$B$4 -> Модуль 1.1 (код 7002) | E12: =Модули!$G$4 -> 288.71 | F12: 2 | G12: =E12*F12 -> 577.42 | I12: =Модули!$B$4 -> Модуль 1.1 (код 7002) | J12: =Модули!$G$4 -> 288.71 | K12: 2 | L12: =J12*K12 -> 577.42
D13: =Модули!$B$5 -> Модуль 2.1 \600 (код 4245) | E13: =Модули!$G$5 -> 596.63 | F13: 1 | G13: =E13*F13 -> 596.63 | I13: =Модули!$B$7 -> Модуль 2.1\800 (код 4247) | J13: =Модули!$G$7 -> 697.22 | K13: 1 | L13: =J13*K13 -> 697.22
D14: =Модули!$B$11 -> Модуль 3.3\600 (код 6981) | E14: =Модули!$G$11 -> 5308.29 | F14: 1 | G14: =E14*F14 -> 5308.29 | I14: =Модули!$B$14 -> Модуль 3.3\800 (код 6994) | J14: =Модули!$G$14 -> 6059.07 | K14: 1 | L14: =J14*K14 -> 6059.07
D15: =Модули!$B$15 -> Модуль 4.1 \600 (код 4249) | E15: =Модули!$G$15 -> 103.31 | F15: 1 | G15: =E15*F15 -> 103.31 | I15: =Модули!$B$16 -> Модуль 4.1\800 (код 4250) | J15: =Модули!$G$16 -> 123.85 | K15: 1 | L15: =J15*K15 -> 123.85
A16: 4 | B16: Premio GS - 4 | D16: =Модули!$B$3 -> Модуль 1 (код 4237) | E16: =Модули!$G$3 -> 1500.57 | F16: 2 | G16: =E16*F16 -> 3001.14 | H16: =SUM(G16:G20) -> 6262.01 | I16: =Модули!$B$3 -> Модуль 1 (код 4237) | J16: =Модули!$G$3 -> 1500.57 | K16: 2 | L16: =J16*K16 -> 3001.14 | M16: =SUM(L16:L20) -> 6749.89
D17: =Модули!$B$4 -> Модуль 1.1 (код 7002) | E17: =Модули!$G$4 -> 288.71 | F17: 2 | G17: =E17*F17 -> 577.42 | I17: =Модули!$B$4 -> Модуль 1.1 (код 7002) | J17: =Модули!$G$4 -> 288.71 | K17: 2 | L17: =J17*K17 -> 577.42
D18: =Модули!$B$5 -> Модуль 2.1 \600 (код 4245) | E18: =Модули!$G$5 -> 596.63 | F18: 1 | G18: =E18*F18 -> 596.63 | I18: =Модули!$B$7 -> Модуль 2.1\800 (код 4247) | J18: =Модули!$G$7 -> 697.22 | K18: 1 | L18: =J18*K18 -> 697.22
D19: =Модули!$B$6 -> Модуль 2.2 \600 (код 4246) | E19: =Модули!$G$6 -> 661.17 | F19: 3 | G19: =E19*F19 -> 1983.51 | I19: =Модули!$B$8 -> Модуль 2.2\800 (код 4248) | J19: =Модули!$G$8 -> 783.42 | K19: 3 | L19: =J19*K19 -> 2350.26
D20: =Модули!$B$15 -> Модуль 4.1 \600 (код 4249) | E20: =Модули!$G$15 -> 103.31 | F20: 1 | G20: =E20*F20 -> 103.31 | I20: =Модули!$B$16 -> Модуль 4.1\800 (код 4250) | J20: =Модули!$G$16 -> 123.85 | K20: 1 | L20: =J20*K20 -> 123.85
A21: 5 | B21: Premio GS - 5 | D21: =Модули!$B$3 -> Модуль 1 (код 4237) | E21: =Модули!$G$3 -> 1500.57 | F21: 2 | G21: =E21*F21 -> 3001.14 | H21: =SUM(G21:G25) -> 8821.86 | I21: =Модули!$B$3 -> Модуль 1 (код 4237) | J21: =Модули!$G$3 -> 1500.57 | K21: 2 | L21: =J21*K21 -> 3001.14 | M21: =SUM(L21:L25) -> 9612.4
D22: =Модули!$B$4 -> Модуль 1.1 (код 7002) | E22: =Модули!$G$4 -> 288.71 | F22: 2 | G22: =E22*F22 -> 577.42 | I22: =Модули!$B$4 -> Модуль 1.1 (код 7002) | J22: =Модули!$G$4 -> 288.71 | K22: 2 | L22: =J22*K22 -> 577.42
D23: =Модули!B5 -> Модуль 2.1 \600 (код 4245) | E23: =Модули!G5 -> 596.63 | F23: 2 | G23: =E23*F23 -> 1193.26 | I23: =Модули!$B$7 -> Модуль 2.1\800 (код 4247) | J23: =Модули!$G$7 -> 697.22 | K23: 2 | L23: =J23*K23 -> 1394.44
D24: =Модули!B10 -> Модуль 3.2 \600 (код 6980) | E24: =Модули!G10 -> 3946.73 | F24: 1 | G24: =E24*F24 -> 3946.73 | I24: =Модули!B13 -> Модуль 3.2\800 (код 6993) | J24: =Модули!G13 -> 4515.55 | K24: 1 | L24: =J24*K24 -> 4515.55
D25: =Модули!B15 -> Модуль 4.1 \600 (код 4249) | E25: =Модули!G15 -> 103.31 | F25: 1 | G25: =E25*F25 -> 103.31 | I25: =Модули!$B$16 -> Модуль 4.1\800 (код 4250) | J25: =Модули!$G$16 -> 123.85 | K25: 1 | L25: =J25*K25 -> 123.85
A26: 6 | B26: Premio GS - 6 | D26: =Модули!$B$3 -> Модуль 1 (код 4237) | E26: =Модули!$G$3 -> 1500.57 | F26: 2 | G26: =E26*F26 -> 3001.14 | H26: =SUM(G26:G30) -> 12595.71 | I26: =Модули!$B$3 -> Модуль 1 (код 4237) | J26: =Модули!$G$3 -> 1500.57 | K26: 2 | L26: =J26*K26 -> 3001.14 | M26: =SUM(L26:L30) -> 13993.35
D27: =Модули!$B$4 -> Модуль 1.1 (код 7002) | E27: =Модули!$G$4 -> 288.71 | F27: 2 | G27: =E27*F27 -> 577.42 | I27: =Модули!$B$4 -> Модуль 1.1 (код 7002) | J27: =Модули!$G$4 -> 288.71 | K27: 2 | L27: =J27*K27 -> 577.42
D28: =Модули!B5 -> Модуль 2.1 \600 (код 4245) | E28: =Модули!G5 -> 596.63 | F28: 4 | G28: =E28*F28 -> 2386.52 | I28: =Модули!B7 -> Модуль 2.1\800 (код 4247) | J28: =Модули!G7 -> 697.22 | K28: 4 | L28: =J28*K28 -> 2788.88
D29: =Модули!B6 -> Модуль 2.2 \600 (код 4246) | E29: =Модули!G6 -> 661.17 | F29: 2 | G29: =E29*F29 -> 1322.34 | I29: =Модули!B8 -> Модуль 2.2\800 (код 4248) | J29: =Модули!G8 -> 783.42 | K29: 2 | L29: =J29*K29 -> 1566.84
D30: =Модули!B11 -> Модуль 3.3\600 (код 6981) | E30: =Модули!G11 -> 5308.29 | F30: 1 | G30: =E30*F30 -> 5308.29 | I30: =Модули!B14 -> Модуль 3.3\800 (код 6994) | J30: =Модули!G14 -> 6059.07 | K30: 1 | L30: =J30*K30 -> 6059.07
A31: 7 | B31: Premio GS - 7 | D31: =Модули!$B$3 -> Модуль 1 (код 4237) | E31: =Модули!$G$3 -> 1500.57 | F31: 2 | G31: =E31*F31 -> 3001.14 | H31: =SUM(G31:G35) -> 6197.47 | I31: =Модули!$B$3 -> Модуль 1 (код 4237) | J31: =Модули!$G$3 -> 1500.57 | K31: 2 | L31: =J31*K31 -> 3001.14 | M31: =SUM(L31:L35) -> 6663.69
D32: =Модули!$B$4 -> Модуль 1.1 (код 7002) | E32: =Модули!$G$4 -> 288.71 | F32: 2 | G32: =E32*F32 -> 577.42 | I32: =Модули!$B$4 -> Модуль 1.1 (код 7002) | J32: =Модули!$G$4 -> 288.71 | K32: 2 | L32: =J32*K32 -> 577.42
D33: =Модули!B5 -> Модуль 2.1 \600 (код 4245) | E33: =Модули!G5 -> 596.63 | F33: 2 | G33: =E33*F33 -> 1193.26 | I33: =Модули!B7 -> Модуль 2.1\800 (код 4247) | J33: =Модули!G7 -> 697.22 | K33: 2 | L33: =J33*K33 -> 1394.44
D34: =Модули!B6 -> Модуль 2.2 \600 (код 4246) | E34: =Модули!G6 -> 661.17 | F34: 2 | G34: =E34*F34 -> 1322.34 | I34: =Модули!B8 -> Модуль 2.2\800 (код 4248) | J34: =Модули!G8 -> 783.42 | K34: 2 | L34: =J34*K34 -> 1566.84
D35: =Модули!B15 -> Модуль 4.1 \600 (код 4249) | E35: =Модули!G15 -> 103.31 | F35: 1 | G35: =E35*F35 -> 103.31 | I35: =Модули!B16 -> Модуль 4.1\800 (код 4250) | J35: =Модули!G16 -> 123.85 | K35: 1 | L35: =J35*K35 -> 123.85
A36: 8 | B36: Premio GS -8 | D36: =Модули!$B$3 -> Модуль 1 (код 4237) | E36: =Модули!$G$3 -> 1500.57 | F36: 2 | G36: =E36*F36 -> 3001.14 | H36: =SUM(G36:G40) -> 6864 | I36: =Модули!$B$3 -> Модуль 1 (код 4237) | J36: =Модули!$G$3 -> 1500.57 | K36: 2 | L36: =J36*K36 -> 3001.14 | M36: =SUM(L36:L40) -> 7371.84
D37: =Модули!$B$4 -> Модуль 1.1 (код 7002) | E37: =Модули!$G$4 -> 288.71 | F37: 2 | G37: =E37*F37 -> 577.42 | I37: =Модули!$B$4 -> Модуль 1.1 (код 7002) | J37: =Модули!$G$4 -> 288.71 | K37: 2 | L37: =J37*K37 -> 577.42
D38: =Модули!B5 -> Модуль 2.1 \600 (код 4245) | E38: =Модули!G5 -> 596.63 | F38: 1 | G38: =E38*F38 -> 596.63 | I38: =Модули!B7 -> Модуль 2.1\800 (код 4247) | J38: =Модули!G7 -> 697.22 | K38: 1 | L38: =J38*K38 -> 697.22
D39: =Модули!B9 -> Модуль 3.1\600 (код 6979) | E39: =Модули!G9 -> 2585.5 | F39: 1 | G39: =E39*F39 -> 2585.5 | I39: =Модули!B12 -> Модуль 3.1\800 (код 6992) | J39: =Модули!G12 -> 2972.21 | K39: 1 | L39: =J39*K39 -> 2972.21
D40: =Модули!B15 -> Модуль 4.1 \600 (код 4249) | E40: =Модули!G15 -> 103.31 | F40: 1 | G40: =E40*F40 -> 103.31 | I40: =Модули!B16 -> Модуль 4.1\800 (код 4250) | J40: =Модули!G16 -> 123.85 | K40: 1 | L40: =J40*K40 -> 123.85

Sheet ГС двойная
A1: Гардеробна система 1200 (1313мм)-1600 (1713мм )
A2: № | B2: Наименование | C2: Изображение | D2: Комплектація (600+600=1263мм)*450*2030 (+21мм. Стійув, +50мм. Пята) | E2: Ціна за одиницю | F2: К-ть | G2: Ціна | H2: Сума | I2: Комплектація (600+800=1463 мм)*450*2030 (+21мм. Стійув, +50мм. Пята) | J2: Ціна за одиницю | K2: К-ть | L2: Ціна | M2: Сума | N2: Комплектація (800+600=1463мм)*450*2030 (+21мм. Стійув, +50мм. Пята) | O2: Ціна за одиницю | P2: К-ть | Q2: Ціна | R2: Сума | S2: Комплектація (800+800=1663мм)*450*2030 (+21мм. Стійув, +50мм. Пята) | T2: Ціна за одиницю | U2: К-ть | V2: Ціна | W2: Сума
A3: 1 | B3: Premio GS - 2/1 | D3: =Модули!$B$3 -> Модуль 1 (код 4237) | E3: =Модули!$G$3 -> 1500.57 | F3: 3 | G3: =E3*F3 -> 4501.71 | H3: =SUM(G3:G8) -> 13331.23 | I3: =Модули!$B$3 -> Модуль 1 (код 4237) | J3: =Модули!$G$3 -> 1500.57 | K3: 3 | L3: =J3*K3 -> 4501.71 | M3: =SUM(L3:L9) -> 14200.93 | N3: =Модули!$B$3 -> Модуль 1 (код 4237) | O3: =Модули!$G$3 -> 1500.57 | P3: 3 | Q3: =O3*P3 -> 4501.71 | R3: =SUM(Q3:Q9) -> 13839.07 | S3: =Модули!$B$3 -> Модуль 1 (код 4237) | T3: =Модули!$G$3 -> 1500.57 | U3: 3 | V3: =T3*U3 -> 4501.71 | W3: =SUM(V3:V8) -> 14708.77
D4: =Модули!$B$4 -> Модуль 1.1 (код 7002) | E4: =Модули!$G$4 -> 288.71 | F4: 2 | G4: =E4*F4 -> 577.42 | I4: =Модули!$B$4 -> Модуль 1.1 (код 7002) | J4: =Модули!$G$4 -> 288.71 | K4: 2 | L4: =J4*K4 -> 577.42 | N4: =Модули!$B$4 -> Модуль 1.1 (код 7002) | O4: =Модули!$G$4 -> 288.71 | P4: 2 | Q4: =O4*P4 -> 577.42 | S4: =Модули!$B$4 -> Модуль 1.1 (код 7002) | T4: =Модули!$G$4 -> 288.71 | U4: 2 | V4: =T4*U4 -> 577.42
D5: =Модули!$B$5 -> Модуль 2.1 \600 (код 4245) | E5: =Модули!$G$5 -> 596.63 | F5: 6 | G5: =E5*F5 -> 3579.78 | I5: =Модули!$B$5 -> Модуль 2.1 \600 (код 4245) | J5: =Модули!$G$5 -> 596.63 | K5: 1 | L5: =J5*K5 -> 596.63 | N5: =Модули!$B$5 -> Модуль 2.1 \600 (код 4245) | O5: =Модули!$G$5 -> 596.63 | P5: 5 | Q5: =O5*P5 -> 2983.15 | S5: =Модули!$B$7 -> Модуль 2.1\800 (код 4247) | T5: =Модули!$G$7 -> 697.22 | U5: 6 | V5: =T5*U5 -> 4183.32
D6: =Модули!$B$6 -> Модуль 2.2 \600 (код 4246) | E6: =Модули!$G$6 -> 661.17 | F6: 3 | G6: =E6*F6 -> 1983.51 | I6: =Модули!B7 -> Модуль 2.1\800 (код 4247) | J6: =Модули!G7 -> 697.22 | K6: 5 | L6: =J6*K6 -> 3486.1 | N6: =Модули!B7 -> Модуль 2.1\800 (код 4247) | O6: =Модули!G7 -> 697.22 | P6: 1 | Q6: =O6*P6 -> 697.22 | S6: =Модули!$B$8 -> Модуль 2.2\800 (код 4248) | T6: =Модули!$G$8 -> 783.42 | U6: 3 | V6: =T6*U6 -> 2350.26
D7: =Модули!B9 -> Модуль 3.1\600 (код 6979) | E7: =Модули!$G$9 -> 2585.5 | F7: 1 | G7: =E7*F7 -> 2585.5 | I7: =Модули!B8 -> Модуль 2.2\800 (код 4248) | J7: =Модули!G8 -> 783.42 | K7: 3 | L7: =J7*K7 -> 2350.26 | N7: =Модули!$B$6 -> Модуль 2.2 \600 (код 4246) | O7: =Модули!G6 -> 661.17 | P7: 3 | Q7: =O7*P7 -> 1983.51 | S7: =Модули!$B$12 -> Модуль 3.1\800 (код 6992) | T7: =Модули!$G$12 -> 2972.21 | U7: 1 | V7: =T7*U7 -> 2972.21
D8: =Модули!$B$15 -> Модуль 4.1 \600 (код 4249) | E8: =Модули!$G$15 -> 103.31 | F8: 1 | G8: =E8*F8 -> 103.31 | I8: =Модули!B9 -> Модуль 3.1\600 (код 6979) | J8: =Модули!G9 -> 2585.5 | K8: 1 | L8: =J8*K8 -> 2585.5 | N8: =Модули!B12 -> Модуль 3.1\800 (код 6992) | O8: =Модули!G12 -> 2972.21 | P8: 1 | Q8: =O8*P8 -> 2972.21 | S8: =Модули!$B$16 -> Модуль 4.1\800 (код 4250) | T8: =Модули!$G$16 -> 123.85 | U8: 1 | V8: =T8*U8 -> 123.85
I9: =Модули!$B$15 -> Модуль 4.1 \600 (код 4249) | J9: =Модули!$G$15 -> 103.31 | K9: 1 | L9: =J9*K9 -> 103.31 | N9: =Модули!B16 -> Модуль 4.1\800 (код 4250) | O9: =Модули!G16 -> 123.85 | P9: 1 | Q9: =O9*P9 -> 123.85
A10: 2 | B10: Premio GS - 2/2 | D10: =Модули!$B$3 -> Модуль 1 (код 4237) | E10: =Модули!$G$3 -> 1500.57 | F10: 3 | G10: =E10*F10 -> 4501.71 | H10: =SUM(G10:G15) -> 16586.11 | I10: =Модули!$B$3 -> Модуль 1 (код 4237) | J10: =Модули!$G$3 -> 1500.57 | K10: 3 | L10: =J10*K10 -> 4501.71 | M10: =SUM(L10:L16) -> 17839.84 | N10: =Модули!$B$3 -> Модуль 1 (код 4237) | O10: =Модули!G3 -> 1500.57 | P10: 3 | Q10: =O10*P10 -> 4501.71 | R10: =SUM(Q10:Q16) -> 17152.92 | S10: =Модули!$B$3 -> Модуль 1 (код 4237) | T10: =Модули!$G$3 -> 1500.57 | U10: 3 | V10: =T10*U10 -> 4501.71 | W10: =SUM(V10:V15) -> 18406.65
D11: =Модули!$B$4 -> Модуль 1.1 (код 7002) | E11: =Модули!$G$4 -> 288.71 | F11: 2 | G11: =E11*F11 -> 577.42 | I11: =Модули!$B$4 -> Модуль 1.1 (код 7002) | J11: =Модули!$G$4 -> 288.71 | K11: 2 | L11: =J11*K11 -> 577.42 | N11: =Модули!$B$4 -> Модуль 1.1 (код 7002) | O11: =Модули!G4 -> 288.71 | P11: 2 | Q11: =O11*P11 -> 577.42 | S11: =Модули!$B$4 -> Модуль 1.1 (код 7002) | T11: =Модули!$G$4 -> 288.71 | U11: 2 | V11: =T11*U11 -> 577.42
D12: =Модули!$B$5 -> Модуль 2.1 \600 (код 4245) | E12: =Модули!$G$5 -> 596.63 | F12: 8 | G12: =E12*F12 -> 4773.04 | I12: =Модули!$B$5 -> Модуль 2.1 \600 (код 4245) | J12: =Модули!$G$5 -> 596.63 | K12: 3 | L12: =J12*K12 -> 1789.89 | N12: =Модули!$B$5 -> Модуль 2.1 \600 (код 4245) | O12: =Модули!G5 -> 596.63 | P12: 5 | Q12: =O12*P12 -> 2983.15 | S12: =Модули!$B$7 -> Модуль 2.1\800 (код 4247) | T12: =Модули!$G$7 -> 697.22 | U12: 8 | V12: =T12*U12 -> 5577.76
D13: =Модули!$B$6 -> Модуль 2.2 \600 (код 4246) | E13: =Модули!$G$6 -> 661.17 | F13: 2 | G13: =E13*F13 -> 1322.34 | I13: =Модули!$B$6 -> Модуль 2.2 \600 (код 4246) | J13: =Модули!$G$6 -> 661.17 | K13: 2 | L13: =J13*K13 -> 1322.34 | N13: =Модули!B7 -> Модуль 2.1\800 (код 4247) | O13: =Модули!G7 -> 697.22 | P13: 3 | Q13: =O13*P13 -> 2091.66 | S13: =Модули!$B$8 -> Модуль 2.2\800 (код 4248) | T13: =Модули!$G$8 -> 783.42 | U13: 2 | V13: =T13*U13 -> 1566.84
D14: =Модули!$B$11 -> Модуль 3.3\600 (код 6981) | E14: =Модули!$G$11 -> 5308.29 | F14: 1 | G14: =E14*F14 -> 5308.29 | I14: =Модули!$B$7 -> Модуль 2.1\800 (код 4247) | J14: =Модули!$G$7 -> 697.22 | K14: 5 | L14: =J14*K14 -> 3486.1 | N14: =Модули!B8 -> Модуль 2.2\800 (код 4248) | O14: =Модули!G8 -> 783.42 | P14: 2 | Q14: =O14*P14 -> 1566.84 | S14: =Модули!$B$14 -> Модуль 3.3\800 (код 6994) | T14: =Модули!$G$14 -> 6059.07 | U14: 1 | V14: =T14*U14 -> 6059.07
D15: =Модули!$B$15 -> Модуль 4.1 \600 (код 4249) | E15: =Модули!$G$15 -> 103.31 | F15: 1 | G15: =E15*F15 -> 103.31 | I15: =Модули!$B$14 -> Модуль 3.3\800 (код 6994) | J15: =Модули!$G$14 -> 6059.07 | K15: 1 | L15: =J15*K15 -> 6059.07 | N15: =Модули!B11 -> Модуль 3.3\600 (код 6981) | O15: =Модули!G11 -> 5308.29 | P15: 1 | Q15: =O15*P15 -> 5308.29 | S15: =Модули!$B$16 -> Модуль 4.1\800 (код 4250) | T15: =Модули!$G$16 -> 123.85 | U15: 1 | V15: =T15*U15 -> 123.85
I16: =Модули!$B$15 -> Модуль 4.1 \600 (код 4249) | J16: =Модули!$G$15 -> 103.31 | K16: 1 | L16: =J16*K16 -> 103.31 | N16: =Модули!B16 -> Модуль 4.1\800 (код 4250) | O16: =Модули!G16 -> 123.85 | P16: 1 | Q16: =O16*P16 -> 123.85
A17: 3 | B17: Premio GS - 2/3 | D17: =Модули!$B$3 -> Модуль 1 (код 4237) | E17: =Модули!$G$3 -> 1500.57 | F17: 3 | G17: =E17*F17 -> 4501.71 | H17: =SUM(G17:G22) -> 16092.79 | I17: =Модули!$B$3 -> Модуль 1 (код 4237) | J17: =Модули!$G$3 -> 1500.57 | K17: 3 | L17: =J17*K17 -> 4501.71 | M17: =SUM(L17:L23) -> 17490.43 | N17: =Модули!$B$3 -> Модуль 1 (код 4237) | O17: =Модули!$G$3 -> 1500.57 | P17: 3 | Q17: =O17*P17 -> 4501.71 | R17: =SUM(Q17:Q23) -> 16435.64 | S17: =Модули!$B$3 -> Модуль 1 (код 4237) | T17: =Модули!$G$3 -> 1500.57 | U17: 3 | V17: =T17*U17 -> 4501.71 | W17: =SUM(V17:V22) -> 17833.28
D18: =Модули!$B$4 -> Модуль 1.1 (код 7002) | E18: =Модули!$G$4 -> 288.71 | F18: 2 | G18: =E18*F18 -> 577.42 | I18: =Модули!$B$4 -> Модуль 1.1 (код 7002) | J18: =Модули!$G$4 -> 288.71 | K18: 2 | L18: =J18*K18 -> 577.42 | N18: =Модули!$B$4 -> Модуль 1.1 (код 7002) | O18: =Модули!$G$4 -> 288.71 | P18: 2 | Q18: =O18*P18 -> 577.42 | S18: =Модули!$B$4 -> Модуль 1.1 (код 7002) | T18: =Модули!$G$4 -> 288.71 | U18: 2 | V18: =T18*U18 -> 577.42
D19: =Модули!$B$5 -> Модуль 2.1 \600 (код 4245) | E19: =Модули!$G$5 -> 596.63 | F19: 7 | G19: =E19*F19 -> 4176.41 | I19: =Модули!$B$5 -> Модуль 2.1 \600 (код 4245) | J19: =Модули!$G$5 -> 596.63 | K19: 3 | L19: =J19*K19 -> 1789.89 | N19: =Модули!B7 -> Модуль 2.1\800 (код 4247) | O19: =Модули!G7 -> 697.22 | P19: 3 | Q19: =O19*P19 -> 2091.66 | S19: =Модули!$B$7 -> Модуль 2.1\800 (код 4247) | T19: =Модули!$G$7 -> 697.22 | U19: 7 | V19: =T19*U19 -> 4880.54
D20: =Модули!$B$6 -> Модуль 2.2 \600 (код 4246) | E20: =Модули!$G$6 -> 661.17 | F20: 2 | G20: =E20*F20 -> 1322.34 | I20: =Модули!$B$7 -> Модуль 2.1\800 (код 4247) | J20: =Модули!$G$7 -> 697.22 | K20: 4 | L20: =J20*K20 -> 2788.88 | N20: =Модули!$B$5 -> Модуль 2.1 \600 (код 4245) | O20: =Модули!G5 -> 596.63 | P20: 4 | Q20: =O20*P20 -> 2386.52 | S20: =Модули!$B$8 -> Модуль 2.2\800 (код 4248) | T20: =Модули!$G$8 -> 783.42 | U20: 2 | V20: =T20*U20 -> 1566.84
D21: =Модули!$B$11 -> Модуль 3.3\600 (код 6981) | E21: =Модули!$G$11 -> 5308.29 | F21: 1 | G21: =E21*F21 -> 5308.29 | I21: =Модули!$B$8 -> Модуль 2.2\800 (код 4248) | J21: =Модули!$G$8 -> 783.42 | K21: 2 | L21: =J21*K21 -> 1566.84 | N21: =Модули!$B$6 -> Модуль 2.2 \600 (код 4246) | O21: =Модули!G6 -> 661.17 | P21: 2 | Q21: =O21*P21 -> 1322.34 | S21: =Модули!$B$14 -> Модуль 3.3\800 (код 6994) | T21: =Модули!$G$14 -> 6059.07 | U21: 1 | V21: =T21*U21 -> 6059.07
D22: =Модули!$B$15 -> Модуль 4.1 \600 (код 4249) | E22: =Модули!$G$15 -> 103.31 | F22: 2 | G22: =E22*F22 -> 206.62 | I22: =Модули!$B$14 -> Модуль 3.3\800 (код 6994) | J22: =Модули!$G$14 -> 6059.07 | K22: 1 | L22: =J22*K22 -> 6059.07 | N22: =Модули!B11 -> Модуль 3.3\600 (код 6981) | O22: =Модули!G11 -> 5308.29 | P22: 1 | Q22: =O22*P22 -> 5308.29 | S22: =Модули!$B$16 -> Модуль 4.1\800 (код 4250) | T22: =Модули!$G$16 -> 123.85 | U22: 2 | V22: =T22*U22 -> 247.7
I23: =Модули!$B$15 -> Модуль 4.1 \600 (код 4249) | J23: =Модули!$G$15 -> 103.31 | K23: 2 | L23: =J23*K23 -> 206.62 | N23: =Модули!B16 -> Модуль 4.1\800 (код 4250) | O23: =Модули!G16 -> 123.85 | P23: 2 | Q23: =O23*P23 -> 247.7
A25: 4 | B25: Premio GS - 2/4 | D25: =Модули!$B$3 -> Модуль 1 (код 4237) | E25: =Модули!$G$3 -> 1500.57 | F25: 3 | G25: =E25*F25 -> 4501.71 | H25: =SUM(G25:G31) -> 13770.81 | I25: =Модули!$B$3 -> Модуль 1 (код 4237) | J25: =Модули!$G$3 -> 1500.57 | K25: 3 | L25: =J25*K25 -> 4501.71 | M25: =SUM(L25:L32) -> 14258.69 | N25: =Модули!$B$3 -> Модуль 1 (код 4237) | O25: =Модули!$G$3 -> 1500.57 | P25: 3 | Q25: =O25*P25 -> 4501.71 | R25: =SUM(Q25:Q32) -> 14642.72 | S25: =Модули!$B$3 -> Модуль 1 (код 4237) | T25: =Модули!$G$3 -> 1500.57 | U25: 3 | V25: =T25*U25 -> 4501.71 | W25: =SUM(V25:V30) -> 15130.6
D26: =Модули!$B$4 -> Модуль 1.1 (код 7002) | E26: =Модули!$G$4 -> 288.71 | F26: 2 | G26: =E26*F26 -> 577.42 | I26: =Модули!$B$4 -> Модуль 1.1 (код 7002) | J26: =Модули!$G$4 -> 288.71 | K26: 2 | L26: =J26*K26 -> 577.42 | N26: =Модули!$B$4 -> Модуль 1.1 (код 7002) | O26: =Модули!$G$4 -> 288.71 | P26: 2 | Q26: =O26*P26 -> 577.42 | S26: =Модули!$B$4 -> Модуль 1.1 (код 7002) | T26: =Модули!$G$4 -> 288.71 | U26: 2 | V26: =T26*U26 -> 577.42
D27: =Модули!B5 -> Модуль 2.1 \600 (код 4245) | E27: =Модули!G5 -> 596.63 | F27: 2 | G27: =E27*F27 -> 1193.26 | I27: =Модули!B5 -> Модуль 2.1 \600 (код 4245) | J27: =Модули!G5 -> 596.63 | K27: 1 | L27: =J27*K27 -> 596.63 | N27: Модуль 2.3 \800 (код 4245) | O27: =Модули!G7 -> 697.22 | P27: 1 | Q27: =O27*P27 -> 697.22 | S27: =Модули!B7 -> Модуль 2.1\800 (код 4247) | T27: =Модули!G7 -> 697.22 | U27: 2 | V27: =T27*U27 -> 1394.44
D28: =Модули!B6 -> Модуль 2.2 \600 (код 4246) | E28: =Модули!G6 -> 661.17 | F28: 3 | G28: =E28*F28 -> 1983.51 | I28: =Модули!B7 -> Модуль 2.1\800 (код 4247) | J28: =Модули!G7 -> 697.22 | K28: 1 | L28: =J28*K28 -> 697.22 | N28: =Модули!$B$5 -> Модуль 2.1 \600 (код 4245) | O28: =Модули!G5 -> 596.63 | P28: 1 | Q28: =O28*P28 -> 596.63 | S28: =Модули!$B$8 -> Модуль 2.2\800 (код 4248) | T28: =Модули!G8 -> 783.42 | U28: 3 | V28: =T28*U28 -> 2350.26
D29: =Модули!B11 -> Модуль 3.3\600 (код 6981) | E29: =Модули!G11 -> 5308.29 | F29: 1 | G29: =E29*F29 -> 5308.29 | I29: =Модули!B8 -> Модуль 2.2\800 (код 4248) | J29: =Модули!G8 -> 783.42 | K29: 3 | L29: =J29*K29 -> 2350.26 | N29: =Модули!$B$6 -> Модуль 2.2 \600 (код 4246) | O29: =Модули!G6 -> 661.17 | P29: 3 | Q29: =O29*P29 -> 1983.51 | S29: =Модули!$B$14 -> Модуль 3.3\800 (код 6994) | T29: =Модули!G14 -> 6059.07 | U29: 1 | V29: =T29*U29 -> 6059.07
D30: =Модули!B15 -> Модуль 4.1 \600 (код 4249) | E30: =Модули!G15 -> 103.31 | F30: 2 | G30: =E30*F30 -> 206.62 | I30: =Модули!B11 -> Модуль 3.3\600 (код 6981) | J30: =Модули!G11 -> 5308.29 | K30: 1 | L30: =J30*K30 -> 5308.29 | N30: =Модули!B14 -> Модуль 3.3\800 (код 6994) | O30: =Модули!G14 -> 6059.07 | P30: 1 | Q30: =O30*P30 -> 6059.07 | S30: =Модули!$B$16 -> Модуль 4.1\800 (код 4250) | T30: =Модули!G16 -> 123.85 | U30: 2 | V30: =T30*U30 -> 247.7
I31: =Модули!B15 -> Модуль 4.1 \600 (код 4249) | J31: =Модули!G15 -> 103.31 | K31: 1 | L31: =J31*K31 -> 103.31 | N31: =Модули!$B$15 -> Модуль 4.1 \600 (код 4249) | O31: =Модули!G15 -> 103.31 | P31: 1 | Q31: =O31*P31 -> 103.31
I32: =Модули!B16 -> Модуль 4.1\800 (код 4250) | J32: =Модули!G16 -> 123.85 | K32: 1 | L32: =J32*K32 -> 123.85 | N32: =Модули!B16 -> Модуль 4.1\800 (код 4250) | O32: =Модули!G16 -> 123.85 | P32: 1 | Q32: =O32*P32 -> 123.85
A33: 5 | B33: Premio GS - 2/5 | D33: =Модули!$B$3 -> Модуль 1 (код 4237) | E33: =Модули!$G$3 -> 1500.57 | F33: 3 | G33: =E33*F33 -> 4501.71 | H33: =SUM(G33:G37) -> 12042.3 | I33: =Модули!$B$3 -> Модуль 1 (код 4237) | J33: =Модули!$G$3 -> 1500.57 | K33: 3 | L33: =J33*K33 -> 4501.71 | M33: =SUM(L33:L38) -> 12912 | N33: =Модули!$B$3 -> Модуль 1 (код 4237) | O33: =Модули!G3 -> 1500.57 | P33: 3 | Q33: =O33*P33 -> 4501.71 | R33: =SUM(Q33:Q38) -> 12385.15 | S33: =Модули!$B$3 -> Модуль 1 (код 4237) | T33: =Модули!G3 -> 1500.57 | U33: 3 | V33: =T33*U33 -> 4501.71 | W33: =SUM(V33:V37) -> 13254.85
D34: =Модули!$B$4 -> Модуль 1.1 (код 7002) | E34: =Модули!$G$4 -> 288.71 | F34: 2 | G34: =E34*F34 -> 577.42 | I34: =Модули!$B$4 -> Модуль 1.1 (код 7002) | J34: =Модули!$G$4 -> 288.71 | K34: 2 | L34: =J34*K34 -> 577.42 | N34: =Модули!$B$4 -> Модуль 1.1 (код 7002) | O34: =Модули!G4 -> 288.71 | P34: 2 | Q34: =O34*P34 -> 577.42 | S34: =Модули!$B$4 -> Модуль 1.1 (код 7002) | T34: =Модули!G4 -> 288.71 | U34: 2 | V34: =T34*U34 -> 577.42
D35: =Модули!B5 -> Модуль 2.1 \600 (код 4245) | E35: =Модули!G5 -> 596.63 | F35: 8 | G35: =E35*F35 -> 4773.04 | I35: =Модули!B5 -> Модуль 2.1 \600 (код 4245) | J35: =Модули!G5 -> 596.63 | K35: 3 | L35: =J35*K35 -> 1789.89 | N35: =Модули!B7 -> Модуль 2.1\800 (код 4247) | O35: =Модули!G7 -> 697.22 | P35: 3 | Q35: =O35*P35 -> 2091.66 | S35: =Модули!B7 -> Модуль 2.1\800 (код 4247) | T35: =Модули!G7 -> 697.22 | U35: 8 | V35: =T35*U35 -> 5577.76
D36: =Модули!B6 -> Модуль 2.2 \600 (код 4246) | E36: =Модули!G6 -> 661.17 | F36: 3 | G36: =E36*F36 -> 1983.51 | I36: =Модули!B7 -> Модуль 2.1\800 (код 4247) | J36: =Модули!G7 -> 697.22 | K36: 5 | L36: =J36*K36 -> 3486.1 | N36: =Модули!$B$5 -> Модуль 2.1 \600 (код 4245) | O36: =Модули!G5 -> 596.63 | P36: 5 | Q36: =O36*P36 -> 2983.15 | S36: =Модули!B8 -> Модуль 2.2\800 (код 4248) | T36: =Модули!G8 -> 783.42 | U36: 3 | V36: =T36*U36 -> 2350.26
D37: =Модули!B15 -> Модуль 4.1 \600 (код 4249) | E37: =Модули!G15 -> 103.31 | F37: 2 | G37: =E37*F37 -> 206.62 | I37: =Модули!B8 -> Модуль 2.2\800 (код 4248) | J37: =Модули!G8 -> 783.42 | K37: 3 | L37: =J37*K37 -> 2350.26 | N37: =Модули!$B$6 -> Модуль 2.2 \600 (код 4246) | O37: =Модули!G6 -> 661.17 | P37: 3 | Q37: =O37*P37 -> 1983.51 | S37: =Модули!B16 -> Модуль 4.1\800 (код 4250) | T37: =Модули!G16 -> 123.85 | U37: 2 | V37: =T37*U37 -> 247.7
I38: =Модули!B15 -> Модуль 4.1 \600 (код 4249) | J38: =Модули!G15 -> 103.31 | K38: 2 | L38: =J38*K38 -> 206.62 | N38: =Модули!B16 -> Модуль 4.1\800 (код 4250) | O38: =Модули!G16 -> 123.85 | P38: 2 | Q38: =O38*P38 -> 247.7
A39: 6 | B39: Premio GS - 2/6 | D39: =Модули!$B$3 -> Модуль 1 (код 4237) | E39: =Модули!$G$3 -> 1500.57 | F39: 3 | G39: =E39*F39 -> 4501.71 | H39: =SUM(G39:G44) -> 16650.65 | I39: =Модули!$B$3 -> Модуль 1 (код 4237) | J39: =Модули!G3 -> 1500.57 | K39: 3 | L39: =J39*K39 -> 4501.71 | M39: =SUM(L39:L45) -> 17520.35 | N39: =Модули!$B$3 -> Модуль 1 (код 4237) | O39: =Модули!G3 -> 1500.57 | P39: 3 | Q39: =O39*P39 -> 4501.71 | R39: =SUM(Q39:Q45) -> 17623.15 | S39: =Модули!$B$3 -> Модуль 1 (код 4237) | T39: =Модули!G3 -> 1500.57 | U39: 3 | V39: =T39*U39 -> 4501.71 | W39: =SUM(V39:V45) -> 18492.85
D40: =Модули!$B$4 -> Модуль 1.1 (код 7002) | E40: =Модули!$G$4 -> 288.71 | F40: 2 | G40: =E40*F40 -> 577.42 | I40: =Модули!$B$4 -> Модуль 1.1 (код 7002) | J40: =Модули!G4 -> 288.71 | K40: 2 | L40: =J40*K40 -> 577.42 | N40: =Модули!$B$4 -> Модуль 1.1 (код 7002) | O40: =Модули!G4 -> 288.71 | P40: 2 | Q40: =O40*P40 -> 577.42 | S40: =Модули!$B$4 -> Модуль 1.1 (код 7002) | T40: =Модули!G4 -> 288.71 | U40: 2 | V40: =T40*U40 -> 577.42
D41: =Модули!B5 -> Модуль 2.1 \600 (код 4245) | E41: =Модули!G5 -> 596.63 | F41: 7 | G41: =E41*F41 -> 4176.41 | I41: =Модули!B5 -> Модуль 2.1 \600 (код 4245) | J41: =Модули!G5 -> 596.63 | K41: 2 | L41: =J41*K41 -> 1193.26 | N41: =Модули!B7 -> Модуль 2.1\800 (код 4247) | O41: =Модули!G7 -> 697.22 | P41: 2 | Q41: =O41*P41 -> 1394.44 | S41: =Модули!B7 -> Модуль 2.1\800 (код 4247) | T41: =Модули!G7 -> 697.22 | U41: 7 | V41: =T41*U41 -> 4880.54
D42: =Модули!B6 -> Модуль 2.2 \600 (код 4246) | E42: =Модули!G6 -> 661.17 | F42: 3 | G42: =E42*F42 -> 1983.51 | I42: =Модули!B7 -> Модуль 2.1\800 (код 4247) | J42: =Модули!G7 -> 697.22 | K42: 5 | L42: =J42*K42 -> 3486.1 | N42: =Модули!$B$5 -> Модуль 2.1 \600 (код 4245) | O42: =Модули!G5 -> 596.63 | P42: 5 | Q42: =O42*P42 -> 2983.15 | S42: =Модули!B8 -> Модуль 2.2\800 (код 4248) | T42: =Модули!G8 -> 783.42 | U42: 3 | V42: =T42*U42 -> 2350.26
D43: =Модули!B11 -> Модуль 3.3\600 (код 6981) | E43: =Модули!G11 -> 5308.29 | F43: 1 | G43: =E43*F43 -> 5308.29 | I43: =Модули!B8 -> Модуль 2.2\800 (код 4248) | J43: =Модули!G8 -> 783.42 | K43: 3 | L43: =J43*K43 -> 2350.26 | N43: Модуль 2.2 \600 (код 4247) | O43: =Модули!G6 -> 661.17 | P43: 3 | Q43: =O43*P43 -> 1983.51 | S43: =Модули!B14 -> Модуль 3.3\800 (код 6994) | T43: =Модули!G14 -> 6059.07 | U43: 1 | V43: =T43*U43 -> 6059.07
D44: =Модули!B15 -> Модуль 4.1 \600 (код 4249) | E44: =Модули!G15 -> 103.31 | F44: 1 | G44: =E44*F44 -> 103.31 | I44: =Модули!$B$11 -> Модуль 3.3\600 (код 6981) | J44: =Модули!G11 -> 5308.29 | K44: 1 | L44: =J44*K44 -> 5308.29 | N44: =Модули!B14 -> Модуль 3.3\800 (код 6994) | O44: =Модули!G14 -> 6059.07 | P44: 1 | Q44: =O44*P44 -> 6059.07 | S44: =Модули!B16 -> Модуль 4.1\800 (код 4250) | T44: =Модули!G16 -> 123.85 | U44: 1 | V44: =T44*U44 -> 123.85
I45: =Модули!B15 -> Модуль 4.1 \600 (код 4249) | J45: =Модули!G15 -> 103.31 | K45: 1 | L45: =J45*K45 -> 103.31 | N45: =Модули!B16 -> Модуль 4.1\800 (код 4250) | O45: =Модули!G16 -> 123.85 | P45: 1 | Q45: =O45*P45 -> 123.85
A46: 7 | B46: Premio GS - 2/7 | D46: =Модули!$B$3 -> Модуль 1 (код 4237) | E46: =Модули!$G$3 -> 1500.57 | F46: 3 | G46: =E46*F46 -> 4501.71 | H46: =SUM(G46:G50) -> 15860.4 | I46: =Модули!$B$3 -> Модуль 1 (код 4237) | J46: =Модули!G3 -> 1500.57 | K46: 3 | L46: =J46*K46 -> 4501.71 | M46: =SUM(L46:L51) -> 16182.71 | N46: =Модули!$B$3 -> Модуль 1 (код 4237) | O46: =Модули!G3 -> 1500.57 | P46: 3 | Q46: =O46*P46 -> 4501.71 | R46: =SUM(Q46:Q51) -> 17214.72 | S46: =Модули!$B$3 -> Модуль 1 (код 4237) | T46: =Модули!G3 -> 1500.57 | U46: 3 | V46: =T46*U46 -> 4501.71 | W46: =SUM(V46:V51) -> 17537.03
D47: =Модули!$B$4 -> Модуль 1.1 (код 7002) | E47: =Модули!$G$4 -> 288.71 | F47: 2 | G47: =E47*F47 -> 577.42 | I47: =Модули!$B$4 -> Модуль 1.1 (код 7002) | J47: =Модули!G4 -> 288.71 | K47: 2 | L47: =J47*K47 -> 577.42 | N47: =Модули!$B$4 -> Модуль 1.1 (код 7002) | O47: =Модули!G4 -> 288.71 | P47: 2 | Q47: =O47*P47 -> 577.42 | S47: =Модули!$B$4 -> Модуль 1.1 (код 7002) | T47: =Модули!G4 -> 288.71 | U47: 2 | V47: =T47*U47 -> 577.42
D48: =Модули!B5 -> Модуль 2.1 \600 (код 4245) | E48: =Модули!G5 -> 596.63 | F48: 9 | G48: =E48*F48 -> 5369.67 | I48: =Модули!B5 -> Модуль 2.1 \600 (код 4245) | J48: =Модули!G5 -> 596.63 | K48: 6 | L48: =J48*K48 -> 3579.78 | N48: =Модули!B7 -> Модуль 2.1\800 (код 4247) | O48: =Модули!G7 -> 697.22 | P48: 6 | Q48: =O48*P48 -> 4183.32 | S48: =Модули!B7 -> Модуль 2.1\800 (код 4247) | T48: =Модули!G7 -> 697.22 | U48: 9 | V48: =T48*U48 -> 6274.98
D49: =Модули!B11 -> Модуль 3.3\600 (код 6981) | E49: =Модули!G11 -> 5308.29 | F49: 1 | G49: =E49*F49 -> 5308.29 | I49: =Модули!B7 -> Модуль 2.1\800 (код 4247) | J49: =Модули!G7 -> 697.22 | K49: 3 | L49: =J49*K49 -> 2091.66 | N49: =Модули!$B$5 -> Модуль 2.1 \600 (код 4245) | O49: =Модули!G5 -> 596.63 | P49: 3 | Q49: =O49*P49 -> 1789.89 | S49: =Модули!B14 -> Модуль 3.3\800 (код 6994) | T49: =Модули!G14 -> 6059.07 | U49: 1 | V49: =T49*U49 -> 6059.07
D50: =Модули!B15 -> Модуль 4.1 \600 (код 4249) | E50: =Модули!G15 -> 103.31 | F50: 1 | G50: =E50*F50 -> 103.31 | I50: =Модули!B11 -> Модуль 3.3\600 (код 6981) | J50: =Модули!G11 -> 5308.29 | K50: 1 | L50: =J50*K50 -> 5308.29 | N50: =Модули!B14 -> Модуль 3.3\800 (код 6994) | O50: =Модули!G14 -> 6059.07 | P50: 1 | Q50: =O50*P50 -> 6059.07 | S50: =Модули!B16 -> Модуль 4.1\800 (код 4250) | T50: =Модули!G16 -> 123.85 | U50: 1 | V50: =T50*U50 -> 123.85
I51: =Модули!B16 -> Модуль 4.1\800 (код 4250) | J51: =Модули!G16 -> 123.85 | K51: 1 | L51: =J51*K51 -> 123.85 | N51: Модуль 4.1 \600 (код 4249) | O51: =Модули!G15 -> 103.31 | P51: 1 | Q51: =O51*P51 -> 103.31
A52: 8 | B52: Premio GS - 2/8 | D52: =Модули!$B$3 -> Модуль 1 (код 4237) | E52: =Модули!$G$3 -> 1500.57 | F52: 3 | G52: =E52*F52 -> 4501.71 | H52: =SUM(G52:G58) -> 12176.74 | I52: =Модули!$B$3 -> Модуль 1 (код 4237) | J52: =Модули!G3 -> 1500.57 | K52: 3 | L52: =J52*K52 -> 4501.71 | M52: =SUM(L52:L59) -> 12785.17 | N52: =Модули!$B$3 -> Модуль 1 (код 4237) | O52: =Модули!$G$3 -> 1500.57 | P52: 3 | Q52: =O52*P52 -> 4501.71 | R52: =SUM(Q52:Q59) -> 12743.55 | S52: =Модули!$B$3 -> Модуль 1 (код 4237) | T52: =Модули!G3 -> 1500.57 | U52: 3 | V52: =T52*U52 -> 4501.71 | W52: =SUM(V52:V59) -> 13351.98
D53: =Модули!$B$4 -> Модуль 1.1 (код 7002) | E53: =Модули!$G$4 -> 288.71 | F53: 2 | G53: =E53*F53 -> 577.42 | I53: =Модули!$B$4 -> Модуль 1.1 (код 7002) | J53: =Модули!G4 -> 288.71 | K53: 2 | L53: =J53*K53 -> 577.42 | N53: =Модули!$B$4 -> Модуль 1.1 (код 7002) | O53: =Модули!$G$4 -> 288.71 | P53: 2 | Q53: =O53*P53 -> 577.42 | S53: =Модули!$B$4 -> Модуль 1.1 (код 7002) | T53: =Модули!G4 -> 288.71 | U53: 2 | V53: =T53*U53 -> 577.42
D54: =Модули!B5 -> Модуль 2.1 \600 (код 4245) | E54: =Модули!G5 -> 596.63 | F54: 5 | G54: =E54*F54 -> 2983.15 | I54: =Модули!B5 -> Модуль 2.1 \600 (код 4245) | J54: =Модули!G5 -> 596.63 | K54: 3 | L54: =J54*K54 -> 1789.89 | N54: =Модули!B7 -> Модуль 2.1\800 (код 4247) | O54: =Модули!G7 -> 697.22 | P54: 3 | Q54: =O54*P54 -> 2091.66 | S54: =Модули!B7 -> Модуль 2.1\800 (код 4247) | T54: =Модули!G7 -> 697.22 | U54: 5 | V54: =T54*U54 -> 3486.1
D55: =Модули!B6 -> Модуль 2.2 \600 (код 4246) | E55: =Модули!G6 -> 661.17 | F55: 2 | G55: =E55*F55 -> 1322.34 | I55: =Модули!B6 -> Модуль 2.2 \600 (код 4246) | J55: =Модули!G6 -> 661.17 | K55: 2 | L55: =J55*K55 -> 1322.34 | N55: =Модули!B8 -> Модуль 2.2\800 (код 4248) | O55: =Модули!G8 -> 783.42 | P55: 2 | Q55: =O55*P55 -> 1566.84 | S55: =Модули!B8 -> Модуль 2.2\800 (код 4248) | T55: =Модули!G8 -> 783.42 | U55: 2 | V55: =T55*U55 -> 1566.84
D56: =Модули!B9 -> Модуль 3.1\600 (код 6979) | E56: =Модули!G9 -> 2585.5 | F56: 1 | G56: =E56*F56 -> 2585.5 | I56: =Модули!B7 -> Модуль 2.1\800 (код 4247) | J56: =Модули!G7 -> 697.22 | K56: 2 | L56: =J56*K56 -> 1394.44 | N56: =Модули!$B$5 -> Модуль 2.1 \600 (код 4245) | O56: =Модули!G5 -> 596.63 | P56: 2 | Q56: =O56*P56 -> 1193.26 | S56: =Модули!B12 -> Модуль 3.1\800 (код 6992) | T56: =Модули!G12 -> 2972.21 | U56: 1 | V56: =T56*U56 -> 2972.21
D57: =Модули!B15 -> Модуль 4.1 \600 (код 4249) | E57: =Модули!G15 -> 103.31 | F57: 2 | G57: =E57*F57 -> 206.62 | I57: =Модули!B12 -> Модуль 3.1\800 (код 6992) | J57: =Модули!G12 -> 2972.21 | K57: 1 | L57: =J57*K57 -> 2972.21 | N57: =Модули!B9 -> Модуль 3.1\600 (код 6979) | O57: =Модули!G9 -> 2585.5 | P57: 1 | Q57: =O57*P57 -> 2585.5 | S57: =Модули!B16 -> Модуль 4.1\800 (код 4250) | T57: =Модули!G16 -> 123.85 | U57: 2 | V57: =T57*U57 -> 247.7
I58: =Модули!B15 -> Модуль 4.1 \600 (код 4249) | J58: =Модули!G15 -> 103.31 | K58: 1 | L58: =J58*K58 -> 103.31 | N58: Модуль 4.1 \600 (код 4249) | O58: =Модули!G15 -> 103.31 | P58: 1 | Q58: =O58*P58 -> 103.31
I59: =Модули!B16 -> Модуль 4.1\800 (код 4250) | J59: =Модули!G16 -> 123.85 | K59: 1 | L59: =J59*K59 -> 123.85 | N59: =Модули!B16 -> Модуль 4.1\800 (код 4250) | O59: =Модули!G16 -> 123.85 | P59: 1 | Q59: =O59*P59 -> 123.85
A60: 9 | B60: Premio GS - 2/9 | D60: =Модули!B3 -> Модуль 1 (код 4237) | E60: =Модули!G3 -> 1500.57 | F60: 3 | G60: =E60*F60 -> 4501.71 | H60: =SUM(G60:G66) -> 12941.34 | I60: =Модули!$B$3 -> Модуль 1 (код 4237) | J60: =Модули!G3 -> 1500.57 | K60: 3 | L60: =J60*K60 -> 4501.71 | M60: =SUM(L60:L67) -> 13731.88 | N60: =Модули!$B$3 -> Модуль 1 (код 4237) | O60: =Модули!G3 -> 1500.57 | P60: 3 | Q60: =O60*P60 -> 4501.71 | R60: =SUM(Q60:Q67) -> 13407.56 | S60: =Модули!$B$3 -> Модуль 1 (код 4237) | T60: =Модули!G3 -> 1500.57 | U60: 3 | V60: =T60*U60 -> 4501.71 | W60: =SUM(V60:V67) -> 14198.1
D61: =Модули!$B$4 -> Модуль 1.1 (код 7002) | E61: =Модули!G4 -> 288.71 | F61: 2 | G61: =E61*F61 -> 577.42 | I61: =Модули!$B$4 -> Модуль 1.1 (код 7002) | J61: =Модули!G4 -> 288.71 | K61: 2 | L61: =J61*K61 -> 577.42 | N61: =Модули!$B$4 -> Модуль 1.1 (код 7002) | O61: =Модули!G4 -> 288.71 | P61: 2 | Q61: =O61*P61 -> 577.42 | S61: =Модули!$B$4 -> Модуль 1.1 (код 7002) | T61: =Модули!G4 -> 288.71 | U61: 2 | V61: =T61*U61 -> 577.42
D62: =Модули!B5 -> Модуль 2.1 \600 (код 4245) | E62: =Модули!G5 -> 596.63 | F62: 4 | G62: =E62*F62 -> 2386.52 | I62: =Модули!B5 -> Модуль 2.1 \600 (код 4245) | J62: =Модули!G5 -> 596.63 | K62: 2 | L62: =J62*K62 -> 1193.26 | N62: Модуль 2.1 \600 (код 4245) | O62: =Модули!G5 -> 596.63 | P62: 2 | Q62: =O62*P62 -> 1193.26 | S62: =Модули!B7 -> Модуль 2.1\800 (код 4247) | T62: =Модули!G7 -> 697.22 | U62: 4 | V62: =T62*U62 -> 2788.88
D63: =Модули!B6 -> Модуль 2.2 \600 (код 4246) | E63: =Модули!G6 -> 661.17 | F63: 2 | G63: =E63*F63 -> 1322.34 | I63: =Модули!B6 -> Модуль 2.2 \600 (код 4246) | J63: =Модули!G6 -> 661.17 | K63: 2 | L63: =J63*K63 -> 1322.34 | N63: =Модули!B7 -> Модуль 2.1\800 (код 4247) | O63: =Модули!G7 -> 697.22 | P63: 2 | Q63: =O63*P63 -> 1394.44 | S63: =Модули!B8 -> Модуль 2.2\800 (код 4248) | T63: =Модули!G8 -> 783.42 | U63: 2 | V63: =T63*U63 -> 1566.84
D64: =Модули!B10 -> Модуль 3.2 \600 (код 6980) | E64: =Модули!G10 -> 3946.73 | F64: 1 | G64: =E64*F64 -> 3946.73 | I64: =Модули!B7 -> Модуль 2.1\800 (код 4247) | J64: =Модули!G7 -> 697.22 | K64: 2 | L64: =J64*K64 -> 1394.44 | N64: =Модули!B8 -> Модуль 2.2\800 (код 4248) | O64: =Модули!G8 -> 783.42 | P64: 2 | Q64: =O64*P64 -> 1566.84 | S64: =Модули!B13 -> Модуль 3.2\800 (код 6993) | T64: =Модули!G13 -> 4515.55 | U64: 1 | V64: =T64*U64 -> 4515.55
D65: =Модули!B15 -> Модуль 4.1 \600 (код 4249) | E65: =Модули!G15 -> 103.31 | F65: 2 | G65: =E65*F65 -> 206.62 | I65: =Модули!B13 -> Модуль 3.2\800 (код 6993) | J65: =Модули!G13 -> 4515.55 | K65: 1 | L65: =J65*K65 -> 4515.55 | N65: =Модули!B10 -> Модуль 3.2 \600 (код 6980) | O65: =Модули!G10 -> 3946.73 | P65: 1 | Q65: =O65*P65 -> 3946.73 | S65: =Модули!B16 -> Модуль 4.1\800 (код 4250) | T65: =Модули!G16 -> 123.85 | U65: 2 | V65: =T65*U65 -> 247.7
I66: =Модули!B15 -> Модуль 4.1 \600 (код 4249) | J66: =Модули!G15 -> 103.31 | K66: 1 | L66: =J66*K66 -> 103.31 | N66: Модуль 4.1 \600 (код 4249) | O66: =Модули!G15 -> 103.31 | P66: 1 | Q66: =O66*P66 -> 103.31
I67: =Модули!B16 -> Модуль 4.1\800 (код 4250) | J67: =Модули!G16 -> 123.85 | K67: 1 | L67: =J67*K67 -> 123.85 | N67: =Модули!B16 -> Модуль 4.1\800 (код 4250) | O67: =Модули!G16 -> 123.85 | P67: 1 | Q67: =O67*P67 -> 123.85
A68: 10 | B68: Premio GS - 2/10 | D68: =Модули!B3 -> Модуль 1 (код 4237) | E68: =Модули!G3 -> 1500.57 | F68: 3 | G68: =E68*F68 -> 4501.71 | H68: =SUM(G68:G73) -> 9170.02 | I68: =Модули!$B$3 -> Модуль 1 (код 4237) | J68: =Модули!G3 -> 1500.57 | K68: 3 | L68: =J68*K68 -> 4501.71 | M68: =SUM(L68:L74) -> 9340.18 | N68: =Модули!$B$3 -> Модуль 1 (код 4237) | O68: =Модули!G3 -> 1500.57 | P68: 3 | Q68: =O68*P68 -> 4501.71 | R68: =SUM(Q68:Q74) -> 9564.14 | S68: =Модули!$B$3 -> Модуль 1 (код 4237) | T68: =Модули!G3 -> 1500.57 | U68: 3 | V68: =T68*U68 -> 4501.71 | W68: =SUM(V68:V74) -> 9806.4
D69: =Модули!B4 -> Модуль 1.1 (код 7002) | E69: =Модули!G4 -> 288.71 | F69: 2 | G69: =E69*F69 -> 577.42 | I69: =Модули!$B$4 -> Модуль 1.1 (код 7002) | J69: =Модули!G4 -> 288.71 | K69: 2 | L69: =J69*K69 -> 577.42 | N69: =Модули!$B$4 -> Модуль 1.1 (код 7002) | O69: =Модули!G4 -> 288.71 | P69: 2 | Q69: =O69*P69 -> 577.42 | S69: =Модули!$B$4 -> Модуль 1.1 (код 7002) | T69: =Модули!G4 -> 288.71 | U69: 2 | V69: =T69*U69 -> 577.42
D70: =Модули!B5 -> Модуль 2.1 \600 (код 4245) | E70: =Модули!G5 -> 596.63 | F70: 4 | G70: =E70*F70 -> 2386.52 | I70: =Модули!B5 -> Модуль 2.1 \600 (код 4245) | J70: =Модули!G5 -> 596.63 | K70: 2 | L70: =J70*K70 -> 1193.26 | N70: Модуль 2.1 \600 (код 4245) | O70: =Модули!G5 -> 596.63 | P70: 2 | Q70: =O70*P70 -> 1193.26 | S70: =Модули!B7 -> Модуль 2.1\800 (код 4247) | T70: =Модули!G7 -> 697.22 | U70: 4 | V70: =T70*U70 -> 2788.88
D71: =Модули!B6 -> Модуль 2.2 \600 (код 4246) | E71: =Модули!G7 -> 697.22 | F71: 2 | G71: =E71*F71 -> 1394.44 | I71: =Модули!B7 -> Модуль 2.1\800 (код 4247) | J71: =Модули!G7 -> 697.22 | K71: 2 | L71: =J71*K71 -> 1394.44 | N71: =Модули!B7 -> Модуль 2.1\800 (код 4247) | O71: =Модули!G7 -> 697.22 | P71: 2 | Q71: =O71*P71 -> 1394.44 | S71: =Модули!B8 -> Модуль 2.2\800 (код 4248) | T71: =Модули!G8 -> 783.42 | U71: 2 | V71: =T71*U71 -> 1566.84
D72: =Модули!B15 -> Модуль 4.1 \600 (код 4249) | E72: =Модули!G15 -> 103.31 | F72: 3 | G72: =E72*F72 -> 309.93 | I72: =Модули!B6 -> Модуль 2.2 \600 (код 4246) | J72: =Модули!G6 -> 661.17 | K72: 2 | L72: =J72*K72 -> 1322.34 | N72: =Модули!B8 -> Модуль 2.2\800 (код 4248) | O72: =Модули!G8 -> 783.42 | P72: 2 | Q72: =O72*P72 -> 1566.84 | S72: =Модули!B16 -> Модуль 4.1\800 (код 4250) | T72: =Модули!G16 -> 123.85 | U72: 3 | V72: =T72*U72 -> 371.55
I73: =Модули!B15 -> Модуль 4.1 \600 (код 4249) | J73: =Модули!G15 -> 103.31 | K73: 1 | L73: =J73*K73 -> 103.31 | N73: Модуль 4.1 \600 (код 4249) | O73: =Модули!G15 -> 103.31 | P73: 2 | Q73: =O73*P73 -> 206.62
I74: =Модули!B16 -> Модуль 4.1\800 (код 4250) | J74: =Модули!G16 -> 123.85 | K74: 2 | L74: =J74*K74 -> 247.7 | N74: =Модули!B16 -> Модуль 4.1\800 (код 4250) | O74: =Модули!G16 -> 123.85 | P74: 1 | Q74: =O74*P74 -> 123.85
A75: 11 | B75: Premio GS - 2/11 | D75: =Модули!$B$3 -> Модуль 1 (код 4237) | E75: =Модули!$G$3 -> 1500.57 | F75: 3 | G75: =E75*F75 -> 4501.71 | H75: =SUM(G75:G78) -> 11848.68 | I75: =Модули!$B$3 -> Модуль 1 (код 4237) | J75: =Модули!G3 -> 1500.57 | K75: 3 | L75: =J75*K75 -> 4501.71 | M75: =SUM(L75:L79) -> 12753.99 | N75: =Модули!$B$3 -> Модуль 1 (код 4237) | O75: =Модули!G3 -> 1500.57 | P75: 3 | Q75: =O75*P75 -> 4501.71 | R75: =SUM(Q75:Q79) -> 12090.94 | S75: =Модули!$B$3 -> Модуль 1 (код 4237) | T75: =Модули!$G$3 -> 1500.57 | U75: 3 | V75: =T75*U75 -> 4501.71 | W75: =SUM(V75:V78) -> 12996.25
D76: =Модули!$B$4 -> Модуль 1.1 (код 7002) | E76: =Модули!$G$4 -> 288.71 | F76: 2 | G76: =E76*F76 -> 577.42 | I76: =Модули!$B$4 -> Модуль 1.1 (код 7002) | J76: =Модули!G4 -> 288.71 | K76: 2 | L76: =J76*K76 -> 577.42 | N76: =Модули!$B$4 -> Модуль 1.1 (код 7002) | O76: =Модули!G4 -> 288.71 | P76: 2 | Q76: =O76*P76 -> 577.42 | S76: =Модули!$B$4 -> Модуль 1.1 (код 7002) | T76: =Модули!$G$4 -> 288.71 | U76: 2 | V76: =T76*U76 -> 577.42
D77: =Модули!B5 -> Модуль 2.1 \600 (код 4245) | E77: =Модули!G5 -> 596.63 | F77: 11 | G77: =E77*F77 -> 6562.93 | I77: =Модули!B5 -> Модуль 2.1 \600 (код 4245) | J77: =Модули!G5 -> 596.63 | K77: 2 | L77: =J77*K77 -> 1193.26 | N77: =Модули!B7 -> Модуль 2.1\800 (код 4247) | O77: =Модули!G7 -> 697.22 | P77: 2 | Q77: =O77*P77 -> 1394.44 | S77: =Модули!B7 -> Модуль 2.1\800 (код 4247) | T77: =Модули!G7 -> 697.22 | U77: 11 | V77: =T77*U77 -> 7669.42
D78: =Модули!B15 -> Модуль 4.1 \600 (код 4249) | E78: =Модули!G15 -> 103.31 | F78: 2 | G78: =E78*F78 -> 206.62 | I78: =Модули!B7 -> Модуль 2.1\800 (код 4247) | J78: =Модули!G7 -> 697.22 | K78: 9 | L78: =J78*K78 -> 6274.98 | N78: Модуль 2.1 \600 (код 4245) | O78: =Модули!G5 -> 596.63 | P78: 9 | Q78: =O78*P78 -> 5369.67 | S78: =Модули!B16 -> Модуль 4.1\800 (код 4250) | T78: =Модули!G16 -> 123.85 | U78: 2 | V78: =T78*U78 -> 247.7
I79: =Модули!B15 -> Модуль 4.1 \600 (код 4249) | J79: =Модули!G15 -> 103.31 | K79: 2 | L79: =J79*K79 -> 206.62 | N79: =Модули!B16 -> Модуль 4.1\800 (код 4250) | O79: =Модули!G16 -> 123.85 | P79: 2 | Q79: =O79*P79 -> 247.7
A80: 12 | B80: Premio GS - 2/12 | D80: =Модули!$B$3 -> Модуль 1 (код 4237) | E80: =Модули!G3 -> 1500.57 | F80: 3 | G80: =E80*F80 -> 4501.71 | H80: =SUM(G80:G84) -> 14692.91 | I80: =Модули!$B$3 -> Модуль 1 (код 4237) | J80: =Модули!G3 -> 1500.57 | K80: 3 | L80: =J80*K80 -> 4501.71 | M80: =SUM(L80:L87) -> 16696.3 | N80: =Модули!$B$3 -> Модуль 1 (код 4237) | O80: =Модули!G3 -> 1500.57 | P80: 3 | Q80: =O80*P80 -> 4501.71 | R80: =SUM(Q80:Q87) -> 18635.16 | S80: =Модули!$B$3 -> Модуль 1 (код 4237) | T80: =Модули!G3 -> 1500.57 | U80: 3 | V80: =U80*T80 -> 4501.71 | W80: =SUM(V80:V87) -> 19287.2
D81: =Модули!$B$4 -> Модуль 1.1 (код 7002) | E81: =Модули!G4 -> 288.71 | F81: 2 | G81: =E81*F81 -> 577.42 | I81: =Модули!$B$4 -> Модуль 1.1 (код 7002) | J81: =Модули!G4 -> 288.71 | K81: 2 | L81: =J81*K81 -> 577.42 | N81: =Модули!$B$4 -> Модуль 1.1 (код 7002) | O81: =Модули!G4 -> 288.71 | P81: 2 | Q81: =O81*P81 -> 577.42 | S81: =Модули!$B$4 -> Модуль 1.1 (код 7002) | T81: =Модули!G4 -> 288.71 | U81: 2 | V81: =U81*T81 -> 577.42
D82: =Модули!B5 -> Модуль 2.1 \600 (код 4245) | E82: =Модули!G5 -> 596.63 | F82: 5 | G82: =E82*F82 -> 2983.15 | I82: =Модули!B5 -> Модуль 2.1 \600 (код 4245) | J82: =Модули!G5 -> 596.63 | K82: 2 | L82: =J82*K82 -> 1193.26 | N82: Модуль 2.1 \600 (код 4245) | O82: =Модули!G5 -> 596.63 | P82: 1 | Q82: =O82*P82 -> 596.63 | S82: =Модули!B7 -> Модуль 2.1\800 (код 4247) | T82: =Модули!G7 -> 697.22 | U82: 5 | V82: =U82*T82 -> 3486.1
D83: =Модули!B6 -> Модуль 2.2 \600 (код 4246) | E83: =Модули!G6 -> 661.17 | F83: 2 | G83: =E83*F83 -> 1322.34 | I83: =Модули!B6 -> Модуль 2.2 \600 (код 4246) | J83: =Модули!G6 -> 661.17 | K83: 2 | L83: =J83*K83 -> 1322.34 | N83: =Модули!B7 -> Модуль 2.1\800 (код 4247) | O83: =Модули!G6 -> 661.17 | P83: 4 | Q83: =O83*P83 -> 2644.68 | S83: =Модули!B8 -> Модуль 2.2\800 (код 4248) | T83: =Модули!G8 -> 783.42 | U83: 2 | V83: =U83*T83 -> 1566.84
D84: =Модули!B11 -> Модуль 3.3\600 (код 6981) | E84: =Модули!G11 -> 5308.29 | F84: 1 | G84: =E84*F84 -> 5308.29 | I84: =Модули!B7 -> Модуль 2.1\800 (код 4247) | J84: =Модули!G7 -> 697.22 | K84: 1 | L84: =J84*K84 -> 697.22 | N84: =Модули!B8 -> Модуль 2.2\800 (код 4248) | O84: =Модули!G8 -> 783.42 | P84: 2 | Q84: =O84*P84 -> 1566.84 | S84: =Модули!B14 -> Модуль 3.3\800 (код 6994) | T84: =Модули!G14 -> 6059.07 | U84: 1 | V84: =U84*T84 -> 6059.07
D85: =Модули!B9 -> Модуль 3.1\600 (код 6979) | E85: =Модули!G9 -> 2585.5 | F85: 1 | G85: =E85*F85 -> 2585.5 | I85: =Модули!B11 -> Модуль 3.3\600 (код 6981) | J85: =Модули!G11 -> 5308.29 | K85: 1 | L85: =J85*K85 -> 5308.29 | N85: =Модули!B9 -> Модуль 3.1\600 (код 6979) | O85: =Модули!G9 -> 2585.5 | P85: 1 | Q85: =O85*P85 -> 2585.5 | S85: =Модули!B12 -> Модуль 3.1\800 (код 6992) | T85: =Модули!G12 -> 2972.21 | U85: 1 | V85: =U85*T85 -> 2972.21
D86: =Модули!B15 -> Модуль 4.1 \600 (код 4249) | E86: =Модули!G15 -> 103.31 | F86: 1 | G86: =E86*F86 -> 103.31 | I86: =Модули!B12 -> Модуль 3.1\800 (код 6992) | J86: =Модули!G12 -> 2972.21 | K86: 1 | L86: =J86*K86 -> 2972.21 | N86: =Модули!B14 -> Модуль 3.3\800 (код 6994) | O86: =Модули!G14 -> 6059.07 | P86: 1 | Q86: =O86*P86 -> 6059.07 | S86: =Модули!B16 -> Модуль 4.1\800 (код 4250) | T86: =Модули!G16 -> 123.85 | U86: 1 | V86: =U86*T86 -> 123.85
I87: =Модули!B16 -> Модуль 4.1\800 (код 4250) | J87: =Модули!G16 -> 123.85 | K87: 1 | L87: =J87*K87 -> 123.85 | N87: Модуль 4.1 \600 (код 4249) | O87: =Модули!G15 -> 103.31 | P87: 1 | Q87: =O87*P87 -> 103.31

Sheet ГС 1800 (1884)
A1: Гардеробная система 1800 ( 1884 мм )
A2: № | B2: Наименование | C2: Описание | D2: Изображение | E2: Комплектация | F2: Цена за единицу | G2: Кол-во | H2: Цена по позиции | I2: Сумма итого
A3: 1 | B3: Premio GS - 1800/1 | C3: (600+600+600)*450*Н2030 | E3: =Модули!$B$3 -> Модуль 1 (код 4237) | F3: =Модули!$G$3 -> 1500.57 | G3: 4 | H3: =F3*G3 -> 6002.28 | I3: =SUM(H3:H6) -> 12959.24
E4: =Модули!$B$4 -> Модуль 1.1 (код 7002) | F4: =Модули!$G$4 -> 288.71 | G4: 2 | H4: =F4*G4 -> 577.42
E5: =Модули!$B$5 -> Модуль 2.1 \600 (код 4245) | F5: =Модули!$G$5 -> 596.63 | G5: 10 | H5: =F5*G5 -> 5966.3
E6: =Модули!$B$15 -> Модуль 4.1 \600 (код 4249) | F6: =Модули!$G$15 -> 103.31 | G6: 4 | H6: =F6*G6 -> 413.24
A7: 2 | B7: Premio GS - 1800/2 | C7: (600+600+600)*450*Н2030 | E7: =Модули!$B$3 -> Модуль 1 (код 4237) | F7: =Модули!$G$3 -> 1500.57 | G7: 4 | H7: =F7*G7 -> 6002.28 | I7: =SUM(H7:H10) -> 13945.88
E8: =Модули!$B$4 -> Модуль 1.1 (код 7002) | F8: =Модули!$G$4 -> 288.71 | G8: 2 | H8: =F8*G8 -> 577.42
E9: =Модули!$B$5 -> Модуль 2.1 \600 (код 4245) | F9: =Модули!$G$5 -> 596.63 | G9: 12 | H9: =F9*G9 -> 7159.56
E10: =Модули!$B$15 -> Модуль 4.1 \600 (код 4249) | F10: =Модули!$G$15 -> 103.31 | G10: 2 | H10: =F10*G10 -> 206.62
A11: 3 | B11: Premio GS - 1800/3 | C11: (600+600+600)*450*Н2030 | E11: =Модули!$B$3 -> Модуль 1 (код 4237) | F11: =Модули!$G$3 -> 1500.57 | G11: 4 | H11: =F11*G11 -> 6002.28 | I11: =SUM(H11:H14) -> 14049.19
E12: =Модули!$B$4 -> Модуль 1.1 (код 7002) | F12: =Модули!$G$4 -> 288.71 | G12: 2 | H12: =F12*G12 -> 577.42
E13: =Модули!$B$5 -> Модуль 2.1 \600 (код 4245) | F13: =Модули!$G$5 -> 596.63 | G13: 12 | H13: =F13*G13 -> 7159.56
E14: =Модули!$B$15 -> Модуль 4.1 \600 (код 4249) | F14: =Модули!$G$15 -> 103.31 | G14: 3 | H14: =F14*G14 -> 309.93
A15: 4 | B15: Premio GS - 1800/4 | C15: (600+600+600)*450*Н2030 | E15: =Модули!$B$3 -> Модуль 1 (код 4237) | F15: =Модули!$G$3 -> 1500.57 | G15: 4 | H15: =F15*G15 -> 6002.28 | I15: =SUM(H15:H18) -> 11662.67
E16: =Модули!$B$4 -> Модуль 1.1 (код 7002) | F16: =Модули!$G$4 -> 288.71 | G16: 2 | H16: =F16*G16 -> 577.42
E17: =Модули!$B$5 -> Модуль 2.1 \600 (код 4245) | F17: =Модули!$G$5 -> 596.63 | G17: 8 | H17: =F17*G17 -> 4773.04
E18: =Модули!$B$15 -> Модуль 4.1 \600 (код 4249) | F18: =Модули!$G$15 -> 103.31 | G18: 3 | H18: =F18*G18 -> 309.93
A19: 5 | B19: Premio GS - 1800/5 | C19: (600+600+600)*450*Н2030 | E19: =Модули!$B$3 -> Модуль 1 (код 4237) | F19: =Модули!$G$3 -> 1500.57 | G19: 4 | H19: =F19*G19 -> 6002.28 | I19: =SUM(H19:H22) -> 11662.67
E20: =Модули!$B$4 -> Модуль 1.1 (код 7002) | F20: =Модули!$G$4 -> 288.71 | G20: 2 | H20: =F20*G20 -> 577.42
E21: =Модули!$B$5 -> Модуль 2.1 \600 (код 4245) | F21: =Модули!$G$5 -> 596.63 | G21: 8 | H21: =F21*G21 -> 4773.04
E22: =Модули!$B$15 -> Модуль 4.1 \600 (код 4249) | F22: =Модули!$G$15 -> 103.31 | G22: 3 | H22: =F22*G22 -> 309.93
A23: 6 | B23: Premio GS - 1800/6 | C23: (600+600+600)*450*Н2030 | E23: =Модули!$B$3 -> Модуль 1 (код 4237) | F23: =Модули!$G$3 -> 1500.57 | G23: 4 | H23: =F23*G23 -> 6002.28 | I23: =SUM(H23:H26) -> 11662.67
E24: =Модули!$B$4 -> Модуль 1.1 (код 7002) | F24: =Модули!$G$4 -> 288.71 | G24: 2 | H24: =F24*G24 -> 577.42
E25: =Модули!$B$5 -> Модуль 2.1 \600 (код 4245) | F25: =Модули!$G$5 -> 596.63 | G25: 8 | H25: =F25*G25 -> 4773.04
E26: =Модули!$B$15 -> Модуль 4.1 \600 (код 4249) | F26: =Модули!$G$15 -> 103.31 | G26: 3 | H26: =F26*G26 -> 309.93
A27: 7 | B27: Premio GS - 1800/7 | C27: (600+600+600)*450*Н2030 | E27: =Модули!$B$3 -> Модуль 1 (код 4237) | F27: =Модули!$G$3 -> 1500.57 | G27: 4 | H27: =F27*G27 -> 6002.28 | I27: =SUM(H27:H30) -> 11662.67
E28: =Модули!$B$4 -> Модуль 1.1 (код 7002) | F28: =Модули!$G$4 -> 288.71 | G28: 2 | H28: =F28*G28 -> 577.42
E29: =Модули!$B$5 -> Модуль 2.1 \600 (код 4245) | F29: =Модули!$G$5 -> 596.63 | G29: 8 | H29: =F29*G29 -> 4773.04
E30: =Модули!$B$15 -> Модуль 4.1 \600 (код 4249) | F30: =Модули!$G$15 -> 103.31 | G30: 3 | H30: =F30*G30 -> 309.93
A31: 8 | B31: Premio GS - 1800/8 | C31: (600+600+600)*450*Н2030 | E31: =Модули!$B$3 -> Модуль 1 (код 4237) | F31: =Модули!$G$3 -> 1500.57 | G31: 4 | H31: =F31*G31 -> 6002.28 | I31: =SUM(H31:H34) -> 11662.67
E32: =Модули!$B$4 -> Модуль 1.1 (код 7002) | F32: =Модули!$G$4 -> 288.71 | G32: 2 | H32: =F32*G32 -> 577.42
E33: =Модули!$B$5 -> Модуль 2.1 \600 (код 4245) | F33: =Модули!$G$5 -> 596.63 | G33: 8 | H33: =F33*G33 -> 4773.04
E34: =Модули!$B$15 -> Модуль 4.1 \600 (код 4249) | F34: =Модули!$G$15 -> 103.31 | G34: 3 | H34: =F34*G34 -> 309.93
A35: 9 | B35: Premio GS - 1800/9 | C35: (600+600+600)*450*Н2030 | E35: =Модули!$B$3 -> Модуль 1 (код 4237) | F35: =Модули!$G$3 -> 1500.57 | G35: 4 | H35: =F35*G35 -> 6002.28 | I35: =SUM(H35:H38) -> 11662.67
E36: =Модули!$B$4 -> Модуль 1.1 (код 7002) | F36: =Модули!$G$4 -> 288.71 | G36: 2 | H36: =F36*G36 -> 577.42
E37: =Модули!$B$5 -> Модуль 2.1 \600 (код 4245) | F37: =Модули!$G$5 -> 596.63 | G37: 8 | H37: =F37*G37 -> 4773.04
E38: =Модули!$B$15 -> Модуль 4.1 \600 (код 4249) | F38: =Модули!$G$15 -> 103.31 | G38: 3 | H38: =F38*G38 -> 309.93
A39: 10 | B39: Premio GS - 1800/12 | C39: (600+600+600)*450*Н2030 | E39: =Модули!$B$3 -> Модуль 1 (код 4237) | F39: =Модули!$G$3 -> 1500.57 | G39: 4 | H39: =F39*G39 -> 6002.28 | I39: =SUM(H39:H42) -> 15632.46
E40: =Модули!$B$4 -> Модуль 1.1 (код 7002) | F40: =Модули!$G$4 -> 288.71 | G40: 2 | H40: =F40*G40 -> 577.42
E41: =Модули!$B$5 -> Модуль 2.1 \600 (код 4245) | F41: =Модули!$G$5 -> 596.63 | G41: 15 | H41: =F41*G41 -> 8949.45
E42: =Модули!B15 -> Модуль 4.1 \600 (код 4249) | F42: =Модули!G15 -> 103.31 | G42: 1 | H42: =F42*G42 -> 103.31
A43: 11 | B43: Premio GS - 1800/13 | C43: (600+600+600)*450*Н2030 | E43: =Модули!$B$3 -> Модуль 1 (код 4237) | F43: =Модули!$G$3 -> 1500.57 | G43: 4 | H43: =F43*G43 -> 6002.28 | I43: =SUM(H43:H47) -> 14242.81
E44: =Модули!$B$4 -> Модуль 1.1 (код 7002) | F44: =Модули!$G$4 -> 288.71 | G44: 2 | H44: =F44*G44 -> 577.42
E45: =Модули!$B$5 -> Модуль 2.1 \600 (код 4245) | F45: =Модули!$G$5 -> 596.63 | G45: 9 | H45: =F45*G45 -> 5369.67
E46: =Модули!B6 -> Модуль 2.2 \600 (код 4246) | F46: =Модули!G6 -> 661.17 | G46: 3 | H46: =F46*G46 -> 1983.51
E47: =Модули!B15 -> Модуль 4.1 \600 (код 4249) | F47: =Модули!G15 -> 103.31 | G47: 3 | H47: =F47*G47 -> 309.93
A48: 12 | B48: Premio GS - 1800/14 | C48: (600+600+600)*450*Н2030 | E48: =Модули!$B$3 -> Модуль 1 (код 4237) | F48: =Модули!$G$3 -> 1500.57 | G48: 4 | H48: =F48*G48 -> 6002.28 | I48: =SUM(H48:H53) -> 19876.57
E49: =Модули!$B$4 -> Модуль 1.1 (код 7002) | F49: =Модули!$G$4 -> 288.71 | G49: 2 | H49: =F49*G49 -> 577.42
E50: =Модули!$B$5 -> Модуль 2.1 \600 (код 4245) | F50: =Модули!$G$5 -> 596.63 | G50: 11 | H50: =F50*G50 -> 6562.93
E51: =Модули!B6 -> Модуль 2.2 \600 (код 4246) | F51: =Модули!G6 -> 661.17 | G51: 2 | H51: =F51*G51 -> 1322.34
E52: =Модули!B11 -> Модуль 3.3\600 (код 6981) | F52: =Модули!G11 -> 5308.29 | G52: 1 | H52: =F52*G52 -> 5308.29
E53: =Модули!B15 -> Модуль 4.1 \600 (код 4249) | F53: =Модули!G15 -> 103.31 | G53: 1 | H53: =F53*G53 -> 103.31
A54: 13 | B54: Premio GS - 1800/15 | C54: (600+600+600)*450*Н2030 | E54: =Модули!$B$3 -> Модуль 1 (код 4237) | F54: =Модули!G3 -> 1500.57 | G54: 4 | H54: =F54*G54 -> 6002.28 | I54: =SUM(H54:H59) -> 22521.25
E55: =Модули!$B$4 -> Модуль 1.1 (код 7002) | F55: =Модули!G4 -> 288.71 | G55: 2 | H55: =F55*G55 -> 577.42
E56: =Модули!$B$5 -> Модуль 2.1 \600 (код 4245) | F56: =Модули!$G$5 -> 596.63 | G56: 11 | H56: =F56*G56 -> 6562.93
E57: =Модули!B6 -> Модуль 2.2 \600 (код 4246) | F57: =Модули!G6 -> 661.17 | G57: 6 | H57: =F57*G57 -> 3967.02
E58: =Модули!B11 -> Модуль 3.3\600 (код 6981) | F58: =Модули!G11 -> 5308.29 | G58: 1 | H58: =F58*G58 -> 5308.29
E59: =Модули!B15 -> Модуль 4.1 \600 (код 4249) | F59: =Модули!G15 -> 103.31 | G59: 1 | H59: =F59*G59 -> 103.31
A60: 14 | B60: Premio GS - 1800/16 | C60: (600+600+600)*450*Н2030 | E60: =Модули!$B$3 -> Модуль 1 (код 4237) | F60: =Модули!G9 -> 2585.5 | G60: 4 | H60: =F60*G60 -> 10342 | I60: =SUM(H60:H65) -> 20571.4
E61: =Модули!$B$4 -> Модуль 1.1 (код 7002) | F61: =Модули!G4 -> 288.71 | G61: 2 | H61: =F61*G61 -> 577.42
E62: =Модули!B5 -> Модуль 2.1 \600 (код 4245) | F62: =Модули!G5 -> 596.63 | G62: 8 | H62: =F62*G62 -> 4773.04
E63: =Модули!B6 -> Модуль 2.2 \600 (код 4246) | F63: =Модули!G6 -> 661.17 | G63: 3 | H63: =F63*G63 -> 1983.51
E64: =Модули!B9 -> Модуль 3.1\600 (код 6979) | F64: =Модули!G9 -> 2585.5 | G64: 1 | H64: =F64*G64 -> 2585.5
E65: =Модули!B15 -> Модуль 4.1 \600 (код 4249) | F65: =Модули!G15 -> 103.31 | G65: 3 | H65: =F65*G65 -> 309.93
A66: 15 | B66: Premio GS - 1800/17 | C66: (600+600+600)*450*Н2030 | E66: =Модули!$B$3 -> Модуль 1 (код 4237) | F66: =Модули!G3 -> 1500.57 | G66: 4 | H66: =F66*G66 -> 6002.28 | I66: =SUM(H66:H71) -> 19915.34
E67: =Модули!$B$4 -> Модуль 1.1 (код 7002) | F67: =Модули!G4 -> 288.71 | G67: 2 | H67: =F67*G67 -> 577.42
E68: =Модули!B5 -> Модуль 2.1 \600 (код 4245) | F68: =Модули!G5 -> 596.63 | G68: 12 | H68: =F68*G68 -> 7159.56
E69: =Модули!B6 -> Модуль 2.2 \600 (код 4246) | F69: =Модули!G6 -> 661.17 | G69: 1 | H69: =F69*G69 -> 661.17
E70: =Модули!B11 -> Модуль 3.3\600 (код 6981) | F70: =Модули!G11 -> 5308.29 | G70: 1 | H70: =F70*G70 -> 5308.29
E71: =Модули!B15 -> Модуль 4.1 \600 (код 4249) | F71: =Модули!G15 -> 103.31 | G71: 2 | H71: =F71*G71 -> 206.62
A72: 16 | B72: Premio GS - 1800/18 | C72: (600+600+600)*450*Н2030 | E72: =Модули!$B$3 -> Модуль 1 (код 4237) | F72: =Модули!G3 -> 1500.57 | G72: 4 | H72: =F72*G72 -> 6002.28 | I72: =SUM(H72:H77) -> 20108.96
E73: =Модули!$B$4 -> Модуль 1.1 (код 7002) | F73: =Модули!G4 -> 288.71 | G73: 2 | H73: =F73*G73 -> 577.42
E74: =Модули!B5 -> Модуль 2.1 \600 (код 4245) | F74: =Модули!G5 -> 596.63 | G74: 9 | H74: =F74*G74 -> 5369.67
E75: =Модули!B6 -> Модуль 2.2 \600 (код 4246) | F75: =Модули!G6 -> 661.17 | G75: 4 | H75: =F75*G75 -> 2644.68
E76: =Модули!B11 -> Модуль 3.3\600 (код 6981) | F76: =Модули!G11 -> 5308.29 | G76: 1 | H76: =F76*G76 -> 5308.29
E77: =Модули!B15 -> Модуль 4.1 \600 (код 4249) | F77: =Модули!G15 -> 103.31 | G77: 2 | H77: =F77*G77 -> 206.62
A78: 17 | B78: Premio GS - 1800/19 | C78: (600+600+600)*450*Н2030 | E78: =Модули!$B$3 -> Модуль 1 (код 4237) | F78: =Модули!G3 -> 1500.57 | G78: 4 | H78: =F78*G78 -> 6002.28 | I78: =SUM(H78:H83) -> 23456.35
E79: =Модули!$B$4 -> Модуль 1.1 (код 7002) | F79: =Модули!G4 -> 288.71 | G79: 2 | H79: =F79*G79 -> 577.42
E80: =Модули!B5 -> Модуль 2.1 \600 (код 4245) | F80: =Модули!G5 -> 596.63 | G80: 17 | H80: =F80*G80 -> 10142.71
E81: =Модули!B6 -> Модуль 2.2 \600 (код 4246) | F81: =Модули!G6 -> 661.17 | G81: 2 | H81: =F81*G81 -> 1322.34
E82: =Модули!B11 -> Модуль 3.3\600 (код 6981) | F82: =Модули!G11 -> 5308.29 | G82: 1 | H82: =F82*G82 -> 5308.29
E83: =Модули!B15 -> Модуль 4.1 \600 (код 4249) | F83: =Модули!G15 -> 103.31 | G83: 1 | H83: =F83*G83 -> 103.31

Sheet ГС 2000 (2084)
A1: Гардеробная система 2000 ( 2084 мм )
A2: № | B2: Наименование | C2: Описание | D2: Изображение | E2: Комплектация | F2: Цена за единицу | G2: Кол-во | H2: Цена по позиции | I2: Сумма итого
A3: 1 | B3: Premio GS - 2000/1 | C3: (600+800+600)*450*Н2030 | E3: =Модули!$B$3 -> Модуль 1 (код 4237) | F3: =Модули!$G$3 -> 1500.57 | G3: 4 | H3: =F3*G3 -> 6002.28 | I3: =SUM(H3:H7) -> 13562.78
E4: =Модули!$B$4 -> Модуль 1.1 (код 7002) | F4: =Модули!$G$4 -> 288.71 | G4: 2 | H4: =F4*G4 -> 577.42
E5: =Модули!$B$5 -> Модуль 2.1 \600 (код 4245) | F5: =Модули!$G$5 -> 596.63 | G5: 4 | H5: =F5*G5 -> 2386.52
E6: =Модули!$B$7 -> Модуль 2.1\800 (код 4247) | F6: =Модули!$G$7 -> 697.22 | G6: 6 | H6: =F6*G6 -> 4183.32
E7: =Модули!$B$15 -> Модуль 4.1 \600 (код 4249) | F7: =Модули!$G$15 -> 103.31 | G7: 4 | H7: =F7*G7 -> 413.24
A8: 2 | B8: Premio GS - 2000/2 | C8: (600+800+600)*450*Н2030 | E8: =Модули!$B$3 -> Модуль 1 (код 4237) | F8: =Модули!$G$3 -> 1500.57 | G8: 4 | H8: =F8*G8 -> 6002.28 | I8: =SUM(H8:H12) -> 14549.42
E9: =Модули!$B$4 -> Модуль 1.1 (код 7002) | F9: =Модули!$G$4 -> 288.71 | G9: 2 | H9: =F9*G9 -> 577.42
E10: =Модули!$B$5 -> Модуль 2.1 \600 (код 4245) | F10: =Модули!$G$5 -> 596.63 | G10: 6 | H10: =F10*G10 -> 3579.78
E11: =Модули!$B$7 -> Модуль 2.1\800 (код 4247) | F11: =Модули!$G$7 -> 697.22 | G11: 6 | H11: =F11*G11 -> 4183.32
E12: =Модули!$B$15 -> Модуль 4.1 \600 (код 4249) | F12: =Модули!$G$15 -> 103.31 | G12: 2 | H12: =F12*G12 -> 206.62
A13: 3 | B13: Premio GS - 2000/3 | C13: (600+800+600)*450*Н2030 | E13: =Модули!$B$3 -> Модуль 1 (код 4237) | F13: =Модули!$G$3 -> 1500.57 | G13: 4 | H13: =F13*G13 -> 6002.28 | I13: =SUM(H13:H17) -> 14652.73
E14: =Модули!$B$4 -> Модуль 1.1 (код 7002) | F14: =Модули!$G$4 -> 288.71 | G14: 2 | H14: =F14*G14 -> 577.42
E15: =Модули!$B$5 -> Модуль 2.1 \600 (код 4245) | F15: =Модули!$G$5 -> 596.63 | G15: 6 | H15: =F15*G15 -> 3579.78
E16: =Модули!$B$7 -> Модуль 2.1\800 (код 4247) | F16: =Модули!$G$7 -> 697.22 | G16: 6 | H16: =F16*G16 -> 4183.32
E17: =Модули!$B$15 -> Модуль 4.1 \600 (код 4249) | F17: =Модули!$G$15 -> 103.31 | G17: 3 | H17: =F17*G17 -> 309.93
A18: 4 | B18: Premio GS - 2000/4 | C18: (600+800+600)*450*Н2030 | E18: =Модули!$B$3 -> Модуль 1 (код 4237) | F18: =Модули!$G$3 -> 1500.57 | G18: 4 | H18: =F18*G18 -> 6002.28 | I18: =SUM(H18:H24) -> 16052.59 | K18: 6 полок сделать обувными
E19: =Модули!$B$4 -> Модуль 1.1 (код 7002) | F19: =Модули!$G$4 -> 288.71 | G19: 2 | H19: =F19*G19 -> 577.42
E20: =Модули!$B$5 -> Модуль 2.1 \600 (код 4245) | F20: =Модули!$G$5 -> 596.63 | G20: 4 | H20: =F20*G20 -> 2386.52
E21: =Модули!$B$6 -> Модуль 2.2 \600 (код 4246) | F21: =Модули!$G$6 -> 661.17 | G21: 6 | H21: =F21*G21 -> 3967.02
E22: =Модули!$B$7 -> Модуль 2.1\800 (код 4247) | F22: =Модули!$G$7 -> 697.22 | G22: 4 | H22: =F22*G22 -> 2788.88
E23: =Модули!$B$15 -> Модуль 4.1 \600 (код 4249) | F23: =Модули!$G$15 -> 103.31 | G23: 2 | H23: =F23*G23 -> 206.62
E24: =Модули!$B$16 -> Модуль 4.1\800 (код 4250) | F24: =Модули!$G$16 -> 123.85 | G24: 1 | H24: =F24*G24 -> 123.85
A25: 5 | B25: Premio GS - 2000/5 | C25: (600+800+600)*450*Н2030 | E25: =Модули!$B$3 -> Модуль 1 (код 4237) | F25: =Модули!$G$3 -> 1500.57 | G25: 4 | H25: =F25*G25 -> 6002.28 | I25: =SUM(H25:H32) -> 16739.52
E26: =Модули!$B$4 -> Модуль 1.1 (код 7002) | F26: =Модули!$G$4 -> 288.71 | G26: 2 | H26: =F26*G26 -> 577.42
E27: =Модули!$B$5 -> Модуль 2.1 \600 (код 4245) | F27: =Модули!$G$5 -> 596.63 | G27: 7 | H27: =F27*G27 -> 4176.41
E28: =Модули!B7 -> Модуль 2.1\800 (код 4247) | F28: =Модули!G7 -> 697.22 | G28: 1 | H28: =F28*G28 -> 697.22
E29: =Модули!B6 -> Модуль 2.2 \600 (код 4246) | F29: =Модули!G6 -> 661.17 | G29: 3 | H29: =F29*G29 -> 1983.51
E30: =Модули!B12 -> Модуль 3.1\800 (код 6992) | F30: =Модули!G12 -> 2972.21 | G30: 1 | H30: =F30*G30 -> 2972.21
E31: =Модули!B15 -> Модуль 4.1 \600 (код 4249) | F31: =Модули!G15 -> 103.31 | G31: 2 | H31: =F31*G31 -> 206.62
E32: =Модули!B16 -> Модуль 4.1\800 (код 4250) | F32: =Модули!G16 -> 123.85 | G32: 1 | H32: =F32*G32 -> 123.85
A33: 6 | B33: Premio GS - 2000/6 | C33: (600+800+600)*450*Н2030 | E33: =Модули!$B$3 -> Модуль 1 (код 4237) | F33: =Модули!$G$3 -> 1500.57 | G33: 4 | H33: =F33*G33 -> 6002.28 | I33: =SUM(H33:H40) -> 20036.47
E34: =Модули!$B$4 -> Модуль 1.1 (код 7002) | F34: =Модули!$G$4 -> 288.71 | G34: 2 | H34: =F34*G34 -> 577.42
E35: =Модули!B5 -> Модуль 2.1 \600 (код 4245) | F35: =Модули!G5 -> 596.63 | G35: 11 | H35: =F35*G35 -> 6562.93
E36: =Модули!B7 -> Модуль 2.1\800 (код 4247) | F36: =Модули!G7 -> 697.22 | G36: 1 | H36: =F36*G36 -> 697.22
E37: =Модули!B6 -> Модуль 2.2 \600 (код 4246) | F37: =Модули!G6 -> 661.17 | G37: 1 | H37: =F37*G37 -> 661.17
E38: =Модули!B11 -> Модуль 3.3\600 (код 6981) | F38: =Модули!G11 -> 5308.29 | G38: 1 | H38: =F38*G38 -> 5308.29
E39: =Модули!B15 -> Модуль 4.1 \600 (код 4249) | F39: =Модули!G15 -> 103.31 | G39: 1 | H39: =F39*G39 -> 103.31
E40: =Модули!B16 -> Модуль 4.1\800 (код 4250) | F40: =Модули!G16 -> 123.85 | G40: 1 | H40: =F40*G40 -> 123.85
A41: 7 | B41: Premio GS - 2000/7 | C41: (600+800+600)*450*Н2030 | E41: =Модули!$B$3 -> Модуль 1 (код 4237) | F41: =Модули!$G$3 -> 1500.57 | G41: 4 | H41: =F41*G41 -> 6002.28 | I41: =SUM(H41:H47) -> 21259.38
E42: =Модули!$B$4 -> Модуль 1.1 (код 7002) | F42: =Модули!$G$4 -> 288.71 | G42: 2 | H42: =F42*G42 -> 577.42
E43: =Модули!B5 -> Модуль 2.1 \600 (код 4245) | F43: =Модули!G5 -> 596.63 | G43: 4 | H43: =F43*G43 -> 2386.52
E44: =Модули!B7 -> Модуль 2.1\800 (код 4247) | F44: =Модули!G7 -> 697.22 | G44: 5 | H44: =F44*G44 -> 3486.1
E45: =Модули!B6 -> Модуль 2.2 \600 (код 4246) | F45: =Модули!G6 -> 661.17 | G45: 4 | H45: =F45*G45 -> 2644.68
E46: =Модули!B14 -> Модуль 3.3\800 (код 6994) | F46: =Модули!G14 -> 6059.07 | G46: 1 | H46: =F46*G46 -> 6059.07
E47: =Модули!B15 -> Модуль 4.1 \600 (код 4249) | F47: =Модули!G15 -> 103.31 | G47: 1 | H47: =F47*G47 -> 103.31
A48: 8 | B48: Premio GS - 2000/8 | C48: (600+800+600)*450*Н2030 | E48: =Модули!$B$3 -> Модуль 1 (код 4237) | F48: =Модули!$G$3 -> 1500.57 | G48: 4 | H48: =F48*G48 -> 6002.28 | I48: =SUM(H48:H53) -> 16406.36
E49: =Модули!$B$4 -> Модуль 1.1 (код 7002) | F49: =Модули!$G$4 -> 288.71 | G49: 2 | H49: =F49*G49 -> 577.42
E50: =Модули!B5 -> Модуль 2.1 \600 (код 4245) | F50: =Модули!G5 -> 596.63 | G50: 5 | H50: =F50*G50 -> 2983.15
E51: =Модули!B7 -> Модуль 2.1\800 (код 4247) | F51: =Модули!G7 -> 697.22 | G51: 6 | H51: =F51*G51 -> 4183.32
E52: =Модули!B8 -> Модуль 2.2\800 (код 4248) | F52: =Модули!G8 -> 783.42 | G52: 3 | H52: =F52*G52 -> 2350.26
E53: =Модули!B15 -> Модуль 4.1 \600 (код 4249) | F53: =Модули!G15 -> 103.31 | G53: 3 | H53: =F53*G53 -> 309.93
A54: 9 | B54: Premio GS - 2000/9 | C54: (600+800+600)*450*Н2030 | E54: =Модули!B3 -> Модуль 1 (код 4237) | F54: =Модули!G3 -> 1500.57 | G54: 4 | H54: =F54*G54 -> 6002.28 | I54: =SUM(H54:H60) -> 23393.16
E55: =Модули!B4 -> Модуль 1.1 (код 7002) | F55: =Модули!G4 -> 288.71 | G55: 2 | H55: =F55*G55 -> 577.42
E56: =Модули!B5 -> Модуль 2.1 \600 (код 4245) | F56: =Модули!G5 -> 596.63 | G56: 10 | H56: =F56*G56 -> 5966.3
E57: =Модули!B6 -> Модуль 2.2 \600 (код 4246) | F57: =Модули!G6 -> 661.17 | G57: 6 | H57: =F57*G57 -> 3967.02
E58: =Модули!B7 -> Модуль 2.1\800 (код 4247) | F58: =Модули!G7 -> 697.22 | G58: 1 | H58: =F58*G58 -> 697.22
E59: =Модули!B14 -> Модуль 3.3\800 (код 6994) | F59: =Модули!G14 -> 6059.07 | G59: 1 | H59: =F59*G59 -> 6059.07
E60: =Модули!B16 -> Модуль 4.1\800 (код 4250) | F60: =Модули!G16 -> 123.85 | G60: 1 | H60: =F60*G60 -> 123.85
A61: 10 | B61: Premio GS - 2000/10 | C61: (600+800+600)*450*Н2030 | E61: =Модули!B3 -> Модуль 1 (код 4237) | F61: =Модули!G3 -> 1500.57 | G61: 4 | H61: =F61*G61 -> 6002.28 | I61: =SUM(H61:H65) -> 15954.77
E62: =Модули!B4 -> Модуль 1.1 (код 7002) | F62: =Модули!G4 -> 288.71 | G62: 2 | H62: =F62*G62 -> 577.42
E63: =Модули!B5 -> Модуль 2.1 \600 (код 4245) | F63: =Модули!G5 -> 596.63 | G63: 12 | H63: =F63*G63 -> 7159.56
E64: =Модули!B7 -> Модуль 2.1\800 (код 4247) | F64: =Модули!G7 -> 697.22 | G64: 3 | H64: =F64*G64 -> 2091.66
E65: =Модули!B16 -> Модуль 4.1\800 (код 4250) | F65: =Модули!G16 -> 123.85 | G65: 1 | H65: =F65*G65 -> 123.85

Sheet ГС 2200 (2284)
A1: Гардеробная система 2200 ( 2284 мм )
A2: № | B2: Наименование | C2: Описание | D2: Изображение | E2: Комплектация | F2: Цена за единицу | G2: Кол-во | H2: Цена по позиции | I2: Сумма итого
A3: 1 | B3: Premio GS - 2000/1 | C3: (800+600+800)*450*Н2030 | E3: =Модули!$B$3 -> Модуль 1 (код 4237) | F3: =Модули!$G$3 -> 1500.57 | G3: 4 | H3: =F3*G3 -> 6002.28 | I3: =SUM(H3:H7) -> 13443.76
E4: =Модули!$B$4 -> Модуль 1.1 (код 7002) | F4: =Модули!$G$4 -> 288.71 | G4: 2 | H4: =F4*G4 -> 577.42
E5: =Модули!$B$5 -> Модуль 2.1 \600 (код 4245) | F5: =Модули!$G$5 -> 596.63 | G5: 6 | H5: =F5*G5 -> 3579.78
E6: =Модули!$B$7 -> Модуль 2.1\800 (код 4247) | F6: =Модули!$G$7 -> 697.22 | G6: 4 | H6: =F6*G6 -> 2788.88
E7: =Модули!$B$16 -> Модуль 4.1\800 (код 4250) | F7: =Модули!$G$16 -> 123.85 | G7: 4 | H7: =F7*G7 -> 495.4
A8: 2 | B8: Premio GS - 2000/2 | C8: (800+600+800)*450*Н2030 | E8: =Модули!$B$3 -> Модуль 1 (код 4237) | F8: =Модули!$G$3 -> 1500.57 | G8: 4 | H8: =F8*G8 -> 6002.28 | I8: =SUM(H8:H12) -> 14590.5
E9: =Модули!$B$4 -> Модуль 1.1 (код 7002) | F9: =Модули!$G$4 -> 288.71 | G9: 2 | H9: =F9*G9 -> 577.42
E10: =Модули!$B$5 -> Модуль 2.1 \600 (код 4245) | F10: =Модули!$G$5 -> 596.63 | G10: 6 | H10: =F10*G10 -> 3579.78
E11: =Модули!$B$7 -> Модуль 2.1\800 (код 4247) | F11: =Модули!$G$7 -> 697.22 | G11: 6 | H11: =F11*G11 -> 4183.32
E12: =Модули!$B$16 -> Модуль 4.1\800 (код 4250) | F12: =Модули!$G$16 -> 123.85 | G12: 2 | H12: =F12*G12 -> 247.7
A13: 3 | B13: Premio GS - 2000/3 | C13: (800+600+800)*450*Н2030 | E13: =Модули!$B$3 -> Модуль 1 (код 4237) | F13: =Модули!$G$3 -> 1500.57 | G13: 4 | H13: =F13*G13 -> 6002.28 | I13: =SUM(H13:H17) -> 14714.35
E14: =Модули!$B$4 -> Модуль 1.1 (код 7002) | F14: =Модули!$G$4 -> 288.71 | G14: 2 | H14: =F14*G14 -> 577.42
E15: =Модули!$B$5 -> Модуль 2.1 \600 (код 4245) | F15: =Модули!$G$5 -> 596.63 | G15: 6 | H15: =F15*G15 -> 3579.78
E16: =Модули!$B$7 -> Модуль 2.1\800 (код 4247) | F16: =Модули!$G$7 -> 697.22 | G16: 6 | H16: =F16*G16 -> 4183.32
E17: =Модули!$B$16 -> Модуль 4.1\800 (код 4250) | F17: =Модули!$G$16 -> 123.85 | G17: 3 | H17: =F17*G17 -> 371.55
A18: 4 | B18: Premio GS - 2000/4 | C18: (800+600+800)*450*Н2030 | E18: =Модули!$B$3 -> Модуль 1 (код 4237) | F18: =Модули!$G$3 -> 1500.57 | G18: 4 | H18: =F18*G18 -> 6002.28 | I18: =SUM(H18:H24) -> 16806.63
E19: =Модули!$B$4 -> Модуль 1.1 (код 7002) | F19: =Модули!$G$4 -> 288.71 | G19: 2 | H19: =F19*G19 -> 577.42
E20: =Модули!$B$5 -> Модуль 2.1 \600 (код 4245) | F20: =Модули!$G$5 -> 596.63 | G20: 4 | H20: =F20*G20 -> 2386.52
E21: =Модули!$B$8 -> Модуль 2.2\800 (код 4248) | F21: =Модули!$G$8 -> 783.42 | G21: 6 | H21: =F21*G21 -> 4700.52
E22: =Модули!$B$7 -> Модуль 2.1\800 (код 4247) | F22: =Модули!$G$7 -> 697.22 | G22: 4 | H22: =F22*G22 -> 2788.88
E23: =Модули!$B$15 -> Модуль 4.1 \600 (код 4249) | F23: =Модули!$G$15 -> 103.31 | G23: 1 | H23: =F23*G23 -> 103.31
E24: =Модули!$B$16 -> Модуль 4.1\800 (код 4250) | F24: =Модули!$G$16 -> 123.85 | G24: 2 | H24: =F24*G24 -> 247.7
A25: 5 | B25: Premio GS - 2200/5 | C25: (800+600+800)*450*Н2030 | E25: =Модули!$B$3 -> Модуль 1 (код 4237) | F25: =Модули!$G$3 -> 1500.57 | G25: 4 | H25: =F25*G25 -> 6002.28 | I25: =SUM(H25:H31) -> 18366.36
E26: =Модули!$B$4 -> Модуль 1.1 (код 7002) | F26: =Модули!$G$4 -> 288.71 | G26: 2 | H26: =F26*G26 -> 577.42
E27: =Модули!B7 -> Модуль 2.1\800 (код 4247) | F27: =Модули!G7 -> 697.22 | G27: 6 | H27: =F27*G27 -> 4183.32
E28: =Модули!B5 -> Модуль 2.1 \600 (код 4245) | F28: =Модули!G5 -> 596.63 | G28: 2 | H28: =F28*G28 -> 1193.26
E29: =Модули!B14 -> Модуль 3.3\800 (код 6994) | F29: =Модули!G14 -> 6059.07 | G29: 1 | H29: =F29*G29 -> 6059.07
E30: =Модули!B15 -> Модуль 4.1 \600 (код 4249) | F30: =Модули!G15 -> 103.31 | G30: 1 | H30: =F30*G30 -> 103.31
E31: =Модули!B16 -> Модуль 4.1\800 (код 4250) | F31: =Модули!G16 -> 123.85 | G31: 2 | H31: =F31*G31 -> 247.7
A32: 6 | B32: Premio GS - 2200/6 | C32: (800+600+800)*450*Н2030 | E32: =Модули!$B$3 -> Модуль 1 (код 4237) | F32: =Модули!$G$3 -> 1500.57 | G32: 4 | H32: =F32*G32 -> 6002.28 | I32: =SUM(H32:H38) -> 19143.49
E33: =Модули!$B$4 -> Модуль 1.1 (код 7002) | F33: =Модули!$G$4 -> 288.71 | G33: 2 | H33: =F33*G33 -> 577.42
E34: =Модули!B7 -> Модуль 2.1\800 (код 4247) | F34: =Модули!G7 -> 697.22 | G34: 11 | H34: =F34*G34 -> 7669.42
E35: =Модули!B5 -> Модуль 2.1 \600 (код 4245) | F35: =Модули!G5 -> 596.63 | G35: 1 | H35: =F35*G35 -> 596.63
E36: =Модули!B10 -> Модуль 3.2 \600 (код 6980) | F36: =Модули!G10 -> 3946.73 | G36: 1 | H36: =F36*G36 -> 3946.73
E37: =Модули!B15 -> Модуль 4.1 \600 (код 4249) | F37: =Модули!G15 -> 103.31 | G37: 1 | H37: =F37*G37 -> 103.31
E38: =Модули!B16 -> Модуль 4.1\800 (код 4250) | F38: =Модули!G16 -> 123.85 | G38: 2 | H38: =F38*G38 -> 247.7
A39: 7 | B39: Premio GS - 2200/7 | C39: (800+600+800)*450*Н2030 | E39: =Модули!$B$3 -> Модуль 1 (код 4237) | F39: =Модули!$G$3 -> 1500.57 | G39: 4 | H39: =F39*G39 -> 6002.28 | I39: =SUM(H39:H44) -> 24372.96
E40: =Модули!$B$4 -> Модуль 1.1 (код 7002) | F40: =Модули!$G$4 -> 288.71 | G40: 2 | H40: =F40*G40 -> 577.42
E41: =Модули!B7 -> Модуль 2.1\800 (код 4247) | F41: =Модули!G7 -> 697.22 | G41: 18 | H41: =F41*G41 -> 12549.96
E42: =Модули!B5 -> Модуль 2.1 \600 (код 4245) | F42: =Модули!G5 -> 596.63 | G42: 2 | H42: =F42*G42 -> 1193.26
E43: =Модули!B10 -> Модуль 3.2 \600 (код 6980) | F43: =Модули!G10 -> 3946.73 | G43: 1 | H43: =F43*G43 -> 3946.73
E44: =Модули!B15 -> Модуль 4.1 \600 (код 4249) | F44: =Модули!G15 -> 103.31 | G44: 1 | H44: =F44*G44 -> 103.31
A45: 8 | B45: Premio GS - 2200/8 | C45: (800+600+800)*450*Н2030 | E45: =Модули!$B$3 -> Модуль 1 (код 4237) | F45: =Модули!$G$3 -> 1500.57 | G45: 4 | H45: =F45*G45 -> 6002.28 | I45: =SUM(H45:H51) -> 25615.39
E46: =Модули!$B$4 -> Модуль 1.1 (код 7002) | F46: =Модули!$G$4 -> 288.71 | G46: 2 | H46: =F46*G46 -> 577.42
E47: =Модули!B7 -> Модуль 2.1\800 (код 4247) | F47: =Модули!G7 -> 697.22 | G47: 14 | H47: =F47*G47 -> 9761.08
E48: =Модули!B5 -> Модуль 2.1 \600 (код 4245) | F48: =Модули!G5 -> 596.63 | G48: 3 | H48: =F48*G48 -> 1789.89
E49: =Модули!B6 -> Модуль 2.2 \600 (код 4246) | F49: =Модули!G6 -> 661.17 | G49: 2 | H49: =F49*G49 -> 1322.34
E50: =Модули!B14 -> Модуль 3.3\800 (код 6994) | F50: =Модули!G14 -> 6059.07 | G50: 1 | H50: =F50*G50 -> 6059.07
E51: =Модули!B15 -> Модуль 4.1 \600 (код 4249) | F51: =Модули!G15 -> 103.31 | G51: 1 | H51: =F51*G51 -> 103.31
A52: 9 | B52: Premio GS - 2200/9 | C52: (800+600+800)*450*Н2030 | E52: =Модули!$B$3 -> Модуль 1 (код 4237) | F52: =Модули!$G$3 -> 1500.57 | G52: 4 | H52: =F52*G52 -> 6002.28 | I52: =SUM(H52:H56) -> 16839.54
E53: =Модули!$B$4 -> Модуль 1.1 (код 7002) | F53: =Модули!$G$4 -> 288.71 | G53: 2 | H53: =F53*G53 -> 577.42
E54: =Модули!B7 -> Модуль 2.1\800 (код 4247) | F54: =Модули!G7 -> 697.22 | G54: 12 | H54: =F54*G54 -> 8366.64
E55: =Модули!B5 -> Модуль 2.1 \600 (код 4245) | F55: =Модули!G5 -> 596.63 | G55: 3 | H55: =F55*G55 -> 1789.89
E56: =Модули!B15 -> Модуль 4.1 \600 (код 4249) | F56: =Модули!G15 -> 103.31 | G56: 1 | H56: =F56*G56 -> 103.31

Sheet ГС Тройная
A1: Гардеробна система 1800 (1934) -2400 ( 2534 мм )
A2: № | B2: Наименование | C2: Изображение | D2: Комплектація (600+600+600=1884мм)*450*2030 (+21мм. Стійув, +50мм. Пята) | E2: Ціна за одиницю | F2: К-ть | G2: Ціна | H2: Сума | I2: Комплектація (800+800+800=2484 мм)*450*2030 (+21мм. Стійув, +50мм. Пята) | J2: Ціна за одиницю | K2: К-ть | L2: Ціна | M2: Сума
A3: 1 | B3: Premio GS - 3/1 | D3: =Модули!$B$3 -> Модуль 1 (код 4237) | E3: =Модули!$G$3 -> 1500.57 | F3: 4 | G3: =E3*F3 -> 6002.28 | H3: =SUM(G3:G7) -> 16970.96 | I3: =Модули!$B$3 -> Модуль 1 (код 4237) | J3: =Модули!$G$3 -> 1500.57 | K3: 4 | L3: =J3*K3 -> 6002.28 | M3: =SUM(L3:L7) -> 18588.08
D4: =Модули!$B$4 -> Модуль 1.1 (код 7002) | E4: =Модули!$G$4 -> 288.71 | F4: 2 | G4: =E4*F4 -> 577.42 | I4: =Модули!$B$4 -> Модуль 1.1 (код 7002) | J4: =Модули!$G$4 -> 288.71 | K4: 2 | L4: =J4*K4 -> 577.42
D5: =Модули!B5 -> Модуль 2.1 \600 (код 4245) | E5: =Модули!G5 -> 596.63 | F5: 8 | G5: =E5*F5 -> 4773.04 | I5: =Модули!B7 -> Модуль 2.1\800 (код 4247) | J5: =Модули!G7 -> 697.22 | K5: 8 | L5: =J5*K5 -> 5577.76
D6: =Модули!B11 -> Модуль 3.3\600 (код 6981) | E6: =Модули!G11 -> 5308.29 | F6: 1 | G6: =E6*F6 -> 5308.29 | I6: =Модули!B14 -> Модуль 3.3\800 (код 6994) | J6: =Модули!G14 -> 6059.07 | K6: 1 | L6: =J6*K6 -> 6059.07
D7: =Модули!B15 -> Модуль 4.1 \600 (код 4249) | E7: =Модули!G15 -> 103.31 | F7: 3 | G7: =E7*F7 -> 309.93 | I7: =Модули!B16 -> Модуль 4.1\800 (код 4250) | J7: =Модули!G16 -> 123.85 | K7: 3 | L7: =J7*K7 -> 371.55
A8: 2 | B8: Premio GS - 3/2 | D8: =Модули!$B$3 -> Модуль 1 (код 4237) | E8: =Модули!$G$3 -> 1500.57 | F8: 4 | G8: =E8*F8 -> 6002.28 | H8: =SUM(G8:G12) -> 22562.34 | I8: =Модули!$B$3 -> Модуль 1 (код 4237) | J8: =Модули!$G$3 -> 1500.57 | K8: 4 | L8: =J8*K8 -> 6002.28 | M8: =SUM(L8:L12) -> 25163.5
D9: =Модули!$B$4 -> Модуль 1.1 (код 7002) | E9: =Модули!$G$4 -> 288.71 | F9: 2 | G9: =E9*F9 -> 577.42 | I9: =Модули!$B$4 -> Модуль 1.1 (код 7002) | J9: =Модули!$G$4 -> 288.71 | K9: 2 | L9: =J9*K9 -> 577.42
D10: =Модули!B5 -> Модуль 2.1 \600 (код 4245) | E10: =Модули!G5 -> 596.63 | F10: 20 | G10: =E10*F10 -> 11932.6 | I10: =Модули!B7 -> Модуль 2.1\800 (код 4247) | J10: =Модули!G7 -> 697.22 | K10: 20 | L10: =J10*K10 -> 13944.4
D11: =Модули!B10 -> Модуль 3.2 \600 (код 6980) | E11: =Модули!G10 -> 3946.73 | F11: 1 | G11: =E11*F11 -> 3946.73 | I11: =Модули!B13 -> Модуль 3.2\800 (код 6993) | J11: =Модули!G13 -> 4515.55 | K11: 1 | L11: =J11*K11 -> 4515.55
D12: =Модули!B15 -> Модуль 4.1 \600 (код 4249) | E12: =Модули!G15 -> 103.31 | F12: 1 | G12: =E12*F12 -> 103.31 | I12: =Модули!B16 -> Модуль 4.1\800 (код 4250) | J12: =Модули!G16 -> 123.85 | K12: 1 | L12: =J12*K12 -> 123.85
A13: 3 | B13: Premio GS - 3/3 | D13: =Модули!$B$3 -> Модуль 1 (код 4237) | E13: =Модули!$G$3 -> 1500.57 | F13: 4 | G13: =E13*F13 -> 6002.28 | H13: =SUM(G13:G17) -> 23353.04 | I13: =Модули!$B$3 -> Модуль 1 (код 4237) | J13: =Модули!$G$3 -> 1500.57 | K13: 4 | L13: =J13*K13 -> 6002.28 | M13: =SUM(L13:L17) -> 26058.35
D14: =Модули!$B$4 -> Модуль 1.1 (код 7002) | E14: =Модули!$G$4 -> 288.71 | F14: 2 | G14: =E14*F14 -> 577.42 | I14: =Модули!$B$4 -> Модуль 1.1 (код 7002) | J14: =Модули!$G$4 -> 288.71 | K14: 2 | L14: =J14*K14 -> 577.42
D15: =Модули!B5 -> Модуль 2.1 \600 (код 4245) | E15: =Модули!G5 -> 596.63 | F15: 17 | G15: =E15*F15 -> 10142.71 | I15: =Модули!B7 -> Модуль 2.1\800 (код 4247) | J15: =Модули!G7 -> 697.22 | K15: 17 | L15: =J15*K15 -> 11852.74
D16: =Модули!B6 -> Модуль 2.2 \600 (код 4246) | E16: =Модули!G6 -> 661.17 | F16: 2 | G16: =E16*F16 -> 1322.34 | I16: =Модули!B8 -> Модуль 2.2\800 (код 4248) | J16: =Модули!G8 -> 783.42 | K16: 2 | L16: =J16*K16 -> 1566.84
D17: =Модули!B11 -> Модуль 3.3\600 (код 6981) | E17: =Модули!G11 -> 5308.29 | F17: 1 | G17: =E17*F17 -> 5308.29 | I17: =Модули!B14 -> Модуль 3.3\800 (код 6994) | J17: =Модули!G14 -> 6059.07 | K17: 1 | L17: =J17*K17 -> 6059.07
D18: =Модули!B15 -> Модуль 4.1 \600 (код 4249) | E18: =Модули!G15 -> 103.31 | F18: 1 | G18: =E18*F18 -> 103.31 | I18: =Модули!B16 -> Модуль 4.1\800 (код 4250) | J18: =Модули!G16 -> 123.85 | K18: 1 | L18: =J18*K18 -> 123.85
A19: 4 | B19: Premio GS - 3/4 | D19: =Модули!$B$3 -> Модуль 1 (код 4237) | E19: =Модули!$G$3 -> 1500.57 | F19: 4 | G19: =E19*F19 -> 6002.28 | H19: =SUM(G19:G23) -> 17995.92 | I19: =Модули!$B$3 -> Модуль 1 (код 4237) | J19: =Модули!$G$3 -> 1500.57 | K19: 4 | L19: =J19*K19 -> 6002.28 | M19: =SUM(L19:L23) -> 19833.44
D20: =Модули!$B$4 -> Модуль 1.1 (код 7002) | E20: =Модули!$G$4 -> 288.71 | F20: 2 | G20: =E20*F20 -> 577.42 | I20: =Модули!$B$4 -> Модуль 1.1 (код 7002) | J20: =Модули!$G$4 -> 288.71 | K20: 2 | L20: =J20*K20 -> 577.42
D21: =Модули!B5 -> Модуль 2.1 \600 (код 4245) | E21: =Модули!G5 -> 596.63 | F21: 12 | G21: =E21*F21 -> 7159.56 | I21: =Модули!B7 -> Модуль 2.1\800 (код 4247) | J21: =Модули!G7 -> 697.22 | K21: 12 | L21: =J21*K21 -> 8366.64
D22: =Модули!B10 -> Модуль 3.2 \600 (код 6980) | E22: =Модули!G10 -> 3946.73 | F22: 1 | G22: =E22*F22 -> 3946.73 | I22: =Модули!B13 -> Модуль 3.2\800 (код 6993) | J22: =Модули!G13 -> 4515.55 | K22: 1 | L22: =J22*K22 -> 4515.55
D23: =Модули!B15 -> Модуль 4.1 \600 (код 4249) | E23: =Модули!G15 -> 103.31 | F23: 3 | G23: =E23*F23 -> 309.93 | I23: =Модули!B16 -> Модуль 4.1\800 (код 4250) | J23: =Модули!G16 -> 123.85 | K23: 3 | L23: =J23*K23 -> 371.55
A24: 5 | B24: Premio GS - 3/5 | D24: =Модули!$B$3 -> Модуль 1 (код 4237) | E24: =Модули!$G$3 -> 1500.57 | F24: 4 | G24: =E24*F24 -> 6002.28 | H24: =SUM(G24:G27) -> 15632.46 | I24: =Модули!$B$3 -> Модуль 1 (код 4237) | J24: =Модули!$G$3 -> 1500.57 | K24: 4 | L24: =J24*K24 -> 6002.28 | M24: =SUM(L24:L27) -> 17161.85
D25: =Модули!$B$4 -> Модуль 1.1 (код 7002) | E25: =Модули!$G$4 -> 288.71 | F25: 2 | G25: =E25*F25 -> 577.42 | I25: =Модули!$B$4 -> Модуль 1.1 (код 7002) | J25: =Модули!$G$4 -> 288.71 | K25: 2 | L25: =J25*K25 -> 577.42
D26: =Модули!B5 -> Модуль 2.1 \600 (код 4245) | E26: =Модули!G5 -> 596.63 | F26: 15 | G26: =E26*F26 -> 8949.45 | I26: =Модули!B7 -> Модуль 2.1\800 (код 4247) | J26: =Модули!G7 -> 697.22 | K26: 15 | L26: =J26*K26 -> 10458.3
D27: =Модули!B15 -> Модуль 4.1 \600 (код 4249) | E27: =Модули!G15 -> 103.31 | F27: 1 | G27: =E27*F27 -> 103.31 | I27: =Модули!B16 -> Модуль 4.1\800 (код 4250) | J27: =Модули!G16 -> 123.85 | K27: 1 | L27: =J27*K27 -> 123.85
A28: 6 | B28: Premio GS - 3/6 | D28: =Модули!$B$3 -> Модуль 1 (код 4237) | E28: =Модули!$G$3 -> 1500.57 | F28: 4 | G28: =E28*F28 -> 6002.28 | H28: =SUM(G28:G32) -> 15436.07 | I28: =Модули!$B$3 -> Модуль 1 (код 4237) | J28: =Модули!$G$3 -> 1500.57 | K28: 4 | L28: =J28*K28 -> 6002.28 | M28: =SUM(L28:L32) -> 16970.93
D29: =Модули!$B$4 -> Модуль 1.1 (код 7002) | E29: =Модули!$G$4 -> 288.71 | F29: 2 | G29: =E29*F29 -> 577.42 | I29: =Модули!$B$4 -> Модуль 1.1 (код 7002) | J29: =Модули!$G$4 -> 288.71 | K29: 2 | L29: =J29*K29 -> 577.42
D30: =Модули!B5 -> Модуль 2.1 \600 (код 4245) | E30: =Модули!G5 -> 596.63 | F30: 11 | G30: =E30*F30 -> 6562.93 | I30: =Модули!B7 -> Модуль 2.1\800 (код 4247) | J30: =Модули!G7 -> 697.22 | K30: 11 | L30: =J30*K30 -> 7669.42
D31: =Модули!B6 -> Модуль 2.2 \600 (код 4246) | E31: =Модули!G6 -> 661.17 | F31: 3 | G31: =E31*F31 -> 1983.51 | I31: =Модули!B8 -> Модуль 2.2\800 (код 4248) | J31: =Модули!G8 -> 783.42 | K31: 3 | L31: =J31*K31 -> 2350.26
D32: =Модули!B15 -> Модуль 4.1 \600 (код 4249) | E32: =Модули!G15 -> 103.31 | F32: 3 | G32: =E32*F32 -> 309.93 | I32: =Модули!B16 -> Модуль 4.1\800 (код 4250) | J32: =Модули!G16 -> 123.85 | K32: 3 | L32: =J32*K32 -> 371.55
A33: 7 | B33: Premio GS - 3/7 | D33: =Модули!$B$3 -> Модуль 1 (код 4237) | E33: =Модули!$G$3 -> 1500.57 | F33: 4 | G33: =E33*F33 -> 6002.28 | H33: =SUM(G33:G37) -> 13581.64 | I33: =Модули!$B$3 -> Модуль 1 (код 4237) | J33: =Модули!$G$3 -> 1500.57 | K33: 4 | L33: =J33*K33 -> 6002.28 | M33: =SUM(L33:L37) -> 14793.07
D34: =Модули!$B$4 -> Модуль 1.1 (код 7002) | E34: =Модули!$G$4 -> 288.71 | F34: 2 | G34: =E34*F34 -> 577.42 | I34: =Модули!$B$4 -> Модуль 1.1 (код 7002) | J34: =Модули!$G$4 -> 288.71 | K34: 2 | L34: =J34*K34 -> 577.42
D35: =Модули!B5 -> Модуль 2.1 \600 (код 4245) | E35: =Модули!G5 -> 596.63 | F35: 9 | G35: =E35*F35 -> 5369.67 | I35: =Модули!B7 -> Модуль 2.1\800 (код 4247) | J35: =Модули!G7 -> 697.22 | K35: 9 | L35: =J35*K35 -> 6274.98
D36: =Модули!B6 -> Модуль 2.2 \600 (код 4246) | E36: =Модули!G6 -> 661.17 | F36: 2 | G36: =E36*F36 -> 1322.34 | I36: =Модули!B8 -> Модуль 2.2\800 (код 4248) | J36: =Модули!G8 -> 783.42 | K36: 2 | L36: =J36*K36 -> 1566.84
D37: =Модули!B15 -> Модуль 4.1 \600 (код 4249) | E37: =Модули!G15 -> 103.31 | F37: 3 | G37: =E37*F37 -> 309.93 | I37: =Модули!B16 -> Модуль 4.1\800 (код 4250) | J37: =Модули!G16 -> 123.85 | K37: 3 | L37: =J37*K37 -> 371.55

Sheet Лист1

Sheet Лист2
