Workbook

Sheet Система знижок
A7: www.binzel-abicor.com | C7: коефіцієнт
A8: MIG/MAG | B8: кількість, шт. | C8: дод. знижки
A9: Зварювальні пальники | B9: 3 та більше одного артикулу або | C9: 0.05
B10: 5 та більше в асортименті
A11: Накінечники всіх типів | B11: від 50 одного артикулу | C11: 0.1
B12: від 100 одного артикулу | C12: 0.15
B13: від 300 одного артикулу | C13: 0.2
B14: від 500 одного артикулу | C14: 0.3
B15: від 1000 одного артикулу | C15: 0.35
A16: Спіралі м.п. всіх типів | B16: від 100 м.п. одного артикулу | C16: 0.05
B17: від 200 м.п. одного артикулу | C17: 0.1
B18: 200 м.п. в асортименті | C18: 0.05
B19: 300 м.п. в асортименті | C19: 0.1
A20: Спіралі шт. всіх типів | B20: від 20 одного артикулу | C20: 0.05
B21: від 30 одного артикулу | C21: 0.1
A22: Вставки для накінечників всіх типів | B22: від 50 одного артикулу | C22: 0.05
A23: Сопла газові всіх типів | B23: від 50 одного артикулу | C23: 0.05
A24: WIG/TIG | B24: кількість, шт.
A25: Зварювальні пальники | B25: 3 та більше одного артикулу або | C25: 0.05
B26: в асортименті
A27: Керамічні сопла всіх типів | B27: від 50 одного артикулу | C27: 0.05
A28: Вольфрамові електроди тип WR2, Е3, WP | B28: 30 та більше в ассортименті | C28: 0.05
B29: 70 та більше в ассортименті | C29: 0.1
B30: від 50 одного артикулу | C30: 0.1
B31: від 70 одного артикулу | C31: 0.2
B32: від 100 одного артикулу | C32: 0.3
B33: від 200 одного артикулу | C33: 0.5
A34: PLASMA | B34: кількість, шт.
A35: Плазмотрони | B35: від 2 одного артикулу | C35: 0.05
A36: Плазменні електроди | B36: від 50 одного артикулу | C36: 0.05
A37: Плазменні сопла | B37: від 50 одного артикулу | C37: 0.05
A38: Приладдя | B38: кількість, шт.
A39: Блоки примусового охолодження CR1000 / CR 1250 | B39: від 2 одного артикулу | C39: 0.05
A40: Електродотримачі | B40: 50 та більше одного артикулу або | C40: 0.05
B41: 100 та більше в асортименті
B42: 100 та більше одного артикулу або | C42: 0.1
B43: 150 та більше в асортименті
A44: Клеми | B44: 50 та більше одного артикулу або | C44: 0.05
B45: 100 та більше в асортименті
A46: Вугільні електроди | B46: від 200 одного артикулу | C46: 0.1
B47: від 500 одного артикулу | C47: 0.2
B48: від 1000 одного артикулу | C48: 0.3
A49: Маска зварювальника | B49: від 3 шт | C49: 0.1
B50: від 5 шт | C50: 0.15
A51: Düsofix-паста, 300 гр. | B51: від 7 упаковок (84 шт.) | C51: 0.1
A52: Binzel-spray / HAUFE-spray | B52: від 10 упаковок (120 шт.) | C52: 0.1
B53: від 42 упаковок (504 шт.) | C53: 0.15
B54: від 1 палети (1008 шт.) | C54: 0.2
A55: Керамічний спрей | B55: від 5 упаковок (60 шт.) | C55: 0.1
A56: PROTEC CE 15L, Metallotion | B56: від 50 л | C56: 0.1
B57: від 100 л | C57: 0.2
A58: ABIBLUE | B58: від 50 л | C58: 0.2
B59: від 100 л | C59: 0.3
A60: BTC | B60: від 10 л | C60: 0.1

Sheet ABICLEANER NEW!
A6: Проспект: | B6: https://abidoc.binzel-abicor.com/uploads/ABIDOC/ZUBEHOER/Schweissnahtbearbeitung/ABICLEANER/Prospekte/PRO_A092_EN_ABICLEANER_WEB.pdf
C7: Курс | D7: =MIG_MAG!D7 -> 45323 | E7: грн/€
A8: www.binzel-abicor.com | C8: 48.11 | D8: Поточний уточнюйте
A9: Ідент.№ | B9: Найменування | C9: Ціна без ПДВ | E9: Ціна з ПДВ, грн/шт. | F9: Примітки
C10: €/шт. | D10: грн./шт.
A12: Апарати для електрохімічного очищення, пасивування та полірування нержавіючих сталей
A13: 192.0362.1 | B13: Апарат ABICLEANER 800 AC | C13: 1069.21 | D13: =IF(C13="","",5*ROUND(C13*$C$8/5,2)) -> 51439.7 | E13: =D13*1.2 -> 61727.64 | F13: Функція очищення; Uвх = 230 В, 800 ВА, Uвих = 8,7 В AC, вага 4,9 кг
A14: 192.0364.1 | B14: Апарат ABICLEANER 1000 AC/DC | C14: 1744.49 | D14: =IF(C14="","",5*ROUND(C14*$C$8/5,2)) -> 83927.4 | E14: =D14*1.2 -> 100712.88 | F14: Функції очищення, полірування; Uвх = 230 В, 1000 ВА, Uвих = 9,8 В AC / 12 В DC, вага 7,5 кг
A16: Комплектуючі та витратні матеріали
A17: 192.0369.1 | B17: Електроліт ABICLEAN універсальний, 1 л | C17: 31.64 | D17: =IF(C17="","",5*ROUND(C17*$C$8/5,2)) -> 1522.2 | E17: =D17*1.2 -> 1826.64
A18: 192.0378.1 | B18: Електроліт ABICLEAN 5л. | C18: 143.48 | D18: =IF(C18="","",5*ROUND(C18*$C$8/5,2)) -> 6902.8 | E18: =D18*1.2 -> 8283.36
A19: 192.0370.1 | B19: Ємність з широким горлом | C19: 8.34 | D19: =IF(C19="","",5*ROUND(C19*$C$8/5,2)) -> 401.25 | E19: =D19*1.2 -> 481.5
A20: 192.0367.5 | B20: Щітка із вуглецевого волокна ABIBRUSH | C20: 31.92 | D20: =IF(C20="","",5*ROUND(C20*$C$8/5,2)) -> 1535.65 | E20: =D20*1.2 -> 1842.78 | F20: 1,5 млн щетинок
A21: 192.0365.1 | B21: Рукоятка ABICLEANER з кабелем 10 мм2, 4 м | C21: 330.26 | D21: =IF(C21="","",5*ROUND(C21*$C$8/5,2)) -> 15888.8 | E21: =D21*1.2 -> 19066.56
A22: 192.0368.1 | B22: PTFE-муфта | C22: 83.36 | D22: =IF(C22="","",5*ROUND(C22*$C$8/5,2)) -> 4010.45 | E22: =D22*1.2 -> 4812.54

Sheet MIG_MAG
C7: Курс | D7: 45323 | E7: грн/€
A8: www.binzel-abicor.com | C8: 48.11 | D8: Поточний уточнюйте
A9: Ідент.№ | B9: Найменування | C9: Ціна без ПДВ | E9: Ціна з ПДВ, грн/шт. | F9: Примітки
C10: €/шт. | D10: грн./шт.
A11: Каталог: | B11: https://abidoc.binzel-abicor.com/uploads/ABIDOC/MANUELL/MIGMAG/x_Uebersichtskataloge_MIG_MAG/PRO_M277_EN_MIG_MAG_WEB.pdf
A12: Зварювальні пальники MIG/MAG (Зварювання в СО2 / газова суміш (М21)*, газове охолодження) - серій RF GRIP, MB EVO/EVO PRO, RB, ABIMIG® A/GRIP A, ABIMIG® AT
A13: * зменшення вказаного граничного навантаження пальника на 30%
A14: Сертифікат відповідності вимогам ДСТУ EN 60974-7:2015, ДСТУ EN 60974-10:2015
A15: при замовленні 5 шт. та більше - див. систему знижок | C15: =C8 -> 48.11
A16: 006.D428.0 | B16: RV 13 2,50 м KP - CN frei | C16: 48.2 | D16: =IF(C16="","",5*ROUND(C16*$C$8/5,2)) -> 2318.9 | E16: =D16*1.2 -> 2782.68 | F16: 130А - 60% ПВ, D 0,6 - 0,8 KP - керування подаванням газу клапаном
A18: 006.D856.1 | B18: MB 14 AK 2,50 м B2 - EA (M12x1x28) | C18: 61.24 | D18: =IF(C18="","",5*ROUND(C18*$C$8/5,2)) -> 2946.25 | E18: =D18*1.2 -> 3535.5 | F18: 130А - 60% ПВ, D 0,6 - 0,8
A19: 006.D753 | B19: MB 14 L 3,00 м B2 - EA (M12x1x30) | C19: 66.28 | D19: =IF(C19="","",5*ROUND(C19*$C$8/5,2)) -> 3188.75 | E19: =D19*1.2 -> 3826.5 | F19: 130А - 60% ПВ, D 0,6 - 0,8
A21: 006.D416 | B21: МВ 14АК 3,00 м L - SE (M10x1x24) | C21: 79.01 | D21: =IF(C21="","",5*ROUND(C21*$C$8/5,2)) -> 3801.15 | E21: =D21*1.2 -> 4561.38 | F21: 160А - 60% ПВ, D 0,6 - 1,0
A23: 002.0712.05 | B23: МВ EVO PRO 15 3,00 м - KZ-2 FK | C23: 88.69 | D23: =IF(C23="","",5*ROUND(C23*$C$8/5,2)) -> 4266.9 | E23: =D23*1.2 -> 5120.28 | F23: 180А - 60% ПВ, D 0,6 - 1,0 BIKOX® - R
A24: 002.0713.1 | B24: МВ EVO PRO 15 4,00 м - KZ-2 FK | C24: 95.31 | D24: =IF(C24="","",5*ROUND(C24*$C$8/5,2)) -> 4585.35 | E24: =D24*1.2 -> 5502.42 | F24: 180А - 60% ПВ, D 0,6 - 1,0 BIKOX® - R
A25: 002.0714.1 | B25: МВ EVO PRO 15 5,00 м - KZ-2 FK | C25: 101.95 | D25: =IF(C25="","",5*ROUND(C25*$C$8/5,2)) -> 4904.8 | E25: =D25*1.2 -> 5885.76 | F25: 180А - 60% ПВ, D 0,6 - 1,0 BIKOX® - R
A26: 002.0729.1 | B26: МВ EVO 15 3,00 м - PDG 309 | C26: 88.69 | D26: =IF(C26="","",5*ROUND(C26*$C$8/5,2)) -> 4266.9 | E26: =D26*1.2 -> 5120.28 | F26: 180А - 60% ПВ, D 0,6 - 1,0 BIKOX® - R
A27: 002.0739.1 | B27: МВ EVO PRO 15 4,00 м - PDG 309 | C27: 95.31 | D27: =IF(C27="","",5*ROUND(C27*$C$8/5,2)) -> 4585.35 | E27: =D27*1.2 -> 5502.42 | F27: 180А - 60% ПВ, D 0,6 - 1,0 BIKOX® - R
A28: 002.0740.1 | B28: МВ EVO PRO 15 5,00 м - PDG 309 | C28: 101.95 | D28: =IF(C28="","",5*ROUND(C28*$C$8/5,2)) -> 4904.8 | E28: =D28*1.2 -> 5885.76 | F28: 180А - 60% ПВ, D 0,6 - 1,0 BIKOX® - R
A30: 767.D923.1 | B30: ABIMIG® GRIP A 155 LW 3,00 м - PDG-309 | C30: 95.71 | D30: =IF(C30="","",5*ROUND(C30*$C$8/5,2)) -> 4604.6 | E30: =D30*1.2 -> 5525.52 | F30: 190А - 60% ПВ, D 0,6 - 1,0 BIKOX® - Low Weight
A31: 767.0008.1 | B31: ABIMIG® GRIP A 155 LW 4,00 м - PDG-309 | C31: 107.57 | D31: =IF(C31="","",5*ROUND(C31*$C$8/5,2)) -> 5175.2 | E31: =D31*1.2 -> 6210.24 | F31: 190А - 60% ПВ, D 0,6 - 1,0 BIKOX® - Low Weight
... A66: 767.D672.1 | B66: ABIMIG® GRIP A 305 LW 3,00 м - PDG-309 | C66: 163.79 | D66: =IF(C66="","",5*ROUND(C66*$C$8/5,2)) -> 7879.95 | E66: =D66*1.2 -> 9455.94 | F66: 315А - 60% ПВ, D 0,8 - 1,2 BIKOX® - Low Weight
D67: =IF(C67="","",5*ROUND(C67*$C$8/5,2))
A68: 767.0036.1 | B68: ABIMIG® A 305 LW 3,00 м - KZ-2 | C68: 159.02 | D68: =IF(C68="","",5*ROUND(C68*$C$8/5,2)) -> 7650.45 | E68: =D68*1.2 -> 9180.54 | F68: 315А - 60% ПВ, D 0,8 - 1,2 BIKOX® - Low Weight тип рукоятки A/AT
A69: 767.0037.1 | B69: ABIMIG® A 305 LW 4,00 м - KZ-2 | C69: 177.3 | D69: =IF(C69="","",5*ROUND(C69*$C$8/5,2)) -> 8529.9 | E69: =D69*1.2 -> 10235.88 | F69: 315А - 60% ПВ, D 0,8 - 1,2 BIKOX® - Low Weight тип рукоятки A/AT
A70: 767.0038.1 | B70: ABIMIG® A 305 LW 5,00 м - KZ-2 | C70: 195.54 | D70: =IF(C70="","",5*ROUND(C70*$C$8/5,2)) -> 9407.45 | E70: =D70*1.2 -> 11288.94 | F70: 315А - 60% ПВ, D 0,8 - 1,2 BIKOX® - Low Weight тип рукоятки A/AT
A72: 018.D960.05 | B72: ABIMIG® AT 305 LW 3,00 м - KZ-2 | C72: 163.79 | D72: =IF(C72="","",5*ROUND(C72*$C$8/5,2)) -> 7879.95 | E72: =D72*1.2 -> 9455.94 | F72: 320А - 60% ПВ, D 0,8 - 1,2 BIKOX® - Low Weight Т - поворотний гусак
A73: 018.D961.1 | B73: ABIMIG® AT 305 LW 4,00 м - KZ-2 | C73: 182.63 | D73: =IF(C73="","",5*ROUND(C73*$C$8/5,2)) -> 8786.35 | E73: =D73*1.2 -> 10543.62 | F73: 320А - 60% ПВ, D 0,8 - 1,2 BIKOX® - Low Weight Т - поворотний гусак
A74: 018.D962.1 | B74: ABIMIG® AT 305 LW 5,00 м - KZ-2 | C74: 201.41 | D74: =IF(C74="","",5*ROUND(C74*$C$8/5,2)) -> 9689.85 | E74: =D74*1.2 -> 11627.82 | F74: 320А - 60% ПВ, D 0,8 - 1,2 BIKOX® - Low Weight Т - поворотний гусак
A76: 918.D023.1 | B76: ABIMIG® MTG 305 T 3,00 м - KZ-0 | C76: 178.61 | D76: =IF(C76="","",5*ROUND(C76*$C$8/5,2)) -> 8592.95 | E76: =D76*1.2 -> 10311.54 | F76: 320А - 60% ПВ, D 0,8 - 1,2 Виконання для автоматичного зварювання (без гусака та спіралі)
A78: 767.D660.1 | B78: ABIMIG® GRIP A 305 LW 3,00 м - KZ-2 | C78: 132 | D78: =IF(C78="","",5*ROUND(C78*$C$8/5,2)) -> 6350.5 | E78: =D78*1.2 -> 7620.6 | F78: 315А - 60% ПВ, D 0,8 - 1,2 BIKOX® - Low Weight
A79: 767.D661.1 | B79: ABIMIG® GRIP A 305 LW 4,00 м - KZ-2 | C79: 140.82 | D79: =IF(C79="","",5*ROUND(C79*$C$8/5,2)) -> 6774.85 | E79: =D79*1.2 -> 8129.82 | F79: 315А - 60% ПВ, D 0,8 - 1,2 BIKOX® - Low Weight
A80: 767.D662.1 | B80: ABIMIG® GRIP A 305 LW 5,00 м - KZ-2 | C80: 149.57 | D80: =IF(C80="","",5*ROUND(C80*$C$8/5,2)) -> 7195.8 | E80: =D80*1.2 -> 8634.96 | F80: 315А - 60% ПВ, D 0,8 - 1,2 BIKOX® - Low Weight
A82: 014.0529.1 | B82: МВ EVO PRO 36 3,00 м - KZ-2 | C82: 148.04 | D82: =IF(C82="","",5*ROUND(C82*$C$8/5,2)) -> 7122.2 | E82: =D82*1.2 -> 8546.64 | F82: 320(340А) - 60% ПВ, D 0,8 - 1,2 (1,6) BIKOX® - Low Weight
A83: 014.0530.1 | B83: МВ EVO PRO 36 4,00 м - KZ-2 | C83: 163.08 | D83: =IF(C83="","",5*ROUND(C83*$C$8/5,2)) -> 7845.8 | E83: =D83*1.2 -> 9414.96 | F83: 320(340А) - 60% ПВ, D 0,8 - 1,2 (1,6) BIKOX® - Low Weight
... A130: 913.0015 | B130: AUT 61GD 0˚ 3,00 м - KZ-0 | C130: 519.2 | D130: =IF(C130="","",5*ROUND(C130*$C$8/5,2)) -> 24978.7 | E130: =D130*1.2 -> 29974.44 | F130: 500А - 60% ПВ, D 1,6 - 3,2 AUT - виконання для автоматизованого зварювання
A132: Зварювальні пальники MIG/MAG (з димовідведенням)
A133: 614.0177.1 | B133: RAB GRIP 36 HE 4,00 м - KZ-2 | C133: 530.57 | D133: =IF(C133="","",5*ROUND(C133*$C$8/5,2)) -> 25525.7 | E133: =D133*1.2 -> 30630.84 | F133: 300A - 60% ПВ, D 0,8- 1,2
A135: Зварювальні пальники MIG/MAG (Push-Pull, в комплекті з блоком синхронизації з подаючим механізмом)
A136: 085.0106.1 | B136: РР Plus 36 D 8,00 м - KZ-2 | C136: 1994.52 | D136: =IF(C136="","",5*ROUND(C136*$C$8/5,2)) -> 95956.35 | E136: =D136*1.2 -> 115147.62 | F136: 300A - 60% ПВ, D 0,8-1,2
A138: Зварювальні пальники MIG/MAG (охолодження рідиною) серій MB EVO PRO, ABIMIG W/WT
A139: 033.0384.1 | B139: MB EVO PRO 401D 3,00 м - WZ-2 | C139: 244.41 | D139: =IF(C139="","",5*ROUND(C139*$C$8/5,2)) -> 11758.55 | E139: =D139*1.2 -> 14110.26 | F139: 400А - 100% ПВ, D 0,8 - 1,2
A140: 033.0385.1 | B140: MB EVO PRO 401D 4,00 м - WZ-2 | C140: 261.07 | D140: =IF(C140="","",5*ROUND(C140*$C$8/5,2)) -> 12560.1 | E140: =D140*1.2 -> 15072.12 | F140: 400А - 100% ПВ, D 0,8 - 1,2
A141: 033.0386.1 | B141: MB EVO PRO 401D 5,00 м - WZ-2 | C141: 280.63 | D141: =IF(C141="","",5*ROUND(C141*$C$8/5,2)) -> 13501.1 | E141: =D141*1.2 -> 16201.32 | F141: 400А - 100% ПВ, D 0,8 - 1,2
A143: 034.0862.1 | B143: MB EVO PRO 501D 3,00 м - WZ-2 | C143: 251.85 | D143: =IF(C143="","",5*ROUND(C143*$C$8/5,2)) -> 12116.5 | E143: =D143*1.2 -> 14539.8 | F143: 500А - 100% ПВ, D 1,0 - 1,6 (2,4)
A144: 034.0863.1 | B144: MB EVO PRO 501D 4,00 м - WZ-2 | C144: 268.54 | D144: =IF(C144="","",5*ROUND(C144*$C$8/5,2)) -> 12919.45 | E144: =D144*1.2 -> 15503.34 | F144: 500А - 100% ПВ, D 1,0 - 1,6 (2,4)
A145: 034.0864.1 | B145: MB EVO PRO 501D 5,00 м - WZ-2 | C145: 288.12 | D145: =IF(C145="","",5*ROUND(C145*$C$8/5,2)) -> 13861.45 | E145: =D145*1.2 -> 16633.74 | F145: 500А - 100% ПВ, D 1,0 - 1,6 (2,4)
A147: 766.1533.1 | B147: ABIMIG W 440 PVC 3,00 м - WZ-2 | C147: 251.85 | D147: =IF(C147="","",5*ROUND(C147*$C$8/5,2)) -> 12116.5 | E147: =D147*1.2 -> 14539.8 | F147: 500А - 100% ПВ, D 0,8 - 2,4 СПЕЦЦІНА!!!
A148: 766.1534.1 | B148: ABIMIG W 440 PVC 4,00 м - WZ-2 | C148: 268.54 | D148: =IF(C148="","",5*ROUND(C148*$C$8/5,2)) -> 12919.45 | E148: =D148*1.2 -> 15503.34 | F148: 500А - 100% ПВ, D 0,8 - 2,4 СПЕЦЦІНА!!!
A149: 766.1535.1 | B149: ABIMIG W 440 PVC 5,00 м - WZ-2 | C149: 288.12 | D149: =IF(C149="","",5*ROUND(C149*$C$8/5,2)) -> 13861.45 | E149: =D149*1.2 -> 16633.74 | F149: 500А - 100% ПВ, D 0,8 - 2,4 СПЕЦЦІНА!!!
A150: 766.1536.1 | B150: ABIMIG W 540 PVC 3,00 м - WZ-2 | C150: 318.57 | D150: =IF(C150="","",5*ROUND(C150*$C$8/5,2)) -> 15326.4 | E150: =D150*1.2 -> 18391.68 | F150: 600А - 100% ПВ, D 0,8 - 2,4
A151: 766.1537.1 | B151: ABIMIG W 540 PVC 4,00 м - WZ-2 | C151: 338.9 | D151: =IF(C151="","",5*ROUND(C151*$C$8/5,2)) -> 16304.5 | E151: =D151*1.2 -> 19565.4 | F151: 600А - 100% ПВ, D 0,8 - 2,4
A152: 766.1538.1 | B152: ABIMIG W 540 PVC 5,00 м - WZ-2 | C152: 359.19 | D152: =IF(C152="","",5*ROUND(C152*$C$8/5,2)) -> 17280.65 | E152: =D152*1.2 -> 20736.78 | F152: 600А - 100% ПВ, D 0,8 - 2,4
... A168: 934.0033 | B168: AUT 401D/501D 45˚ 3,00 м - WZ-0 | C168: 431.92 | D168: =IF(C168="","",5*ROUND(C168*$C$8/5,2)) -> 20779.65 | E168: =D168*1.2 -> 24935.58 | F168: 500А - 100% ПВ, D 1,0 - 1,6 (2,4) 0˚ (45˚) - згин відносно вісі гусака
A170: Зварювальні пальники MIG/MAG (Push-Pull, в комплекті з блоком синхронізації з подаючим механізмом)
A171: 095.0114.1 | B171: РР 401 D Plus 8,00 м - WZ-2 | C171: 2150.07 | D171: =IF(C171="","",5*ROUND(C171*$C$8/5,2)) -> 103439.85 | E171: =D171*1.2 -> 124127.82 | F171: 400A -100% ПВ, D 0,8-1,2
A173: Блоки примусового охолодження (для зварювальних пальників та плазмотронів рідинного охолодження)
A174: 850.1001.1 | B174: Блок примусового охолодження CR 1000 | C174: 639.51 | D174: =IF(C174="","",5*ROUND(C174*$C$8/5,2)) -> 30766.85 | E174: =D174*1.2 -> 36920.22 | F174: 2-х ряд. мідний теплообм., насос (50 Hz, Qmax 7 л/мин, Hmax 30 м), пласт. ємність 6 л, маса 14,9 кг
A175: 850.1051.1 | B175: Блок примусового охолодження CR 1250 | C175: 687.77 | D175: =IF(C175="","",5*ROUND(C175*$C$8/5,2)) -> 33088.6 | E175: =D175*1.2 -> 39706.32 | F175: 3-х ряд. мідний теплообм., насос (50 Hz, Qmax 7 л/мин, Hmax 30 м), пласт. ємність 6 л, маса 16,7 кг
A176: 192.0265.1 | B176: Охолоджуючий агент ВТС-20 NF каністра 5 л | C176: 41.87 | D176: =IF(C176="","",5*ROUND(C176*$C$8/5,2)) -> 2014.35 | E176: =D176*1.2 -> 2417.22 | F176: відсутність електролітного нальоту, застосовується до -17 град., незаймистий
A177: 192.0175.1 | B177: Охолоджуючий агент ВТС-50 NF каністра 5 л | C177: 47.04 | D177: =IF(C177="","",5*ROUND(C177*$C$8/5,2)) -> 2263.1 | E177: =D177*1.2 -> 2715.72 | F177: відсутність електролітного нальоту, застосовується до -45 град., незаймистий
A178: 109.0056 | B178: Шланг червоний армований 5,5х1,5 | C178: 1.09 | D178: =IF(C178="","",5*ROUND(C178*$C$8/5,2)) -> 52.45 | E178: =D178*1.2 -> 62.94 | F178: MB EVO PRO 401/501D / ABIMIG WT
A179: 109.0057 | B179: Шланг синій армований 5,5х1,5 | C179: 1.09 | D179: =IF(C179="","",5*ROUND(C179*$C$8/5,2)) -> 52.45 | E179: =D179*1.2 -> 62.94 | F179: MB EVO PRO 401/501D / ABIMIG WT
A180: 107.0004 | B180: Зовнішній шланг п.м. | C180: 6.98 | D180: =IF(C180="","",5*ROUND(C180*$C$8/5,2)) -> 335.8 | E180: =D180*1.2 -> 402.96 | F180: MB EVO PRO 401/501D / ABIMIG WT
A182: Комплектуючі до пальників MIG/MAG
A183: 006.0001 | B183: Гусак RF 13 | C183: 18.6 | D183: =IF(C183="","",5*ROUND(C183*$C$8/5,2)) -> 894.85 | E183: =D183*1.2 -> 1073.82 | F183: RF 13
A184: 002.D656.0 | B184: Гусак RF 15 GRIP | C184: 15.12 | D184: =IF(C184="","",5*ROUND(C184*$C$8/5,2)) -> 727.4 | E184: =D184*1.2 -> 872.88 | F184: RF 15 GRIP
A185: 004.D268 | B185: Гусак RF 25 | C185: 21.9 | D185: =IF(C185="","",5*ROUND(C185*$C$8/5,2)) -> 1053.6 | E185: =D185*1.2 -> 1264.32 | F185: RF 25
A186: 004.D801.1 | B186: Гусак RF 25 GRIP | C186: 18.6 | D186: =IF(C186="","",5*ROUND(C186*$C$8/5,2)) -> 894.85 | E186: =D186*1.2 -> 1073.82 | F186: RF 25 GRIP
A187: 014.0216 | B187: Гусак RF 36LC / RF 36LC GRIP | C187: 31.94 | D187: =IF(C187="","",5*ROUND(C187*$C$8/5,2)) -> 1536.65 | E187: =D187*1.2 -> 1843.98 | F187: RF 36LC / RF 36LC GRIP
A188: 014.H227.1 | B188: Гусак RF 36 GRIP | C188: 35.25 | D188: =IF(C188="","",5*ROUND(C188*$C$8/5,2)) -> 1695.9 | E188: =D188*1.2 -> 2035.08 | F188: RF 36 GRIP
A189: 017.D047.1 | B189: Гусак RF 45 GRIP | C189: 94.01 | D189: =IF(C189="","",5*ROUND(C189*$C$8/5,2)) -> 4522.8 | E189: =D189*1.2 -> 5427.36 | F189: RF 45 / RF 45 GRIP
A190: 002.0050 | B190: Запобіжна втулка МВ 15 | C190: 1.59 | D190: =IF(C190="","",5*ROUND(C190*$C$8/5,2)) -> 76.5 | E190: =D190*1.2 -> 91.8 | F190: Запобігає вигорянню ізоляції різьбового сопла
A191: 006.D190 | B191: Запобіжна втулка RF 25 | C191: 1.59 | D191: =IF(C191="","",5*ROUND(C191*$C$8/5,2)) -> 76.5 | E191: =D191*1.2 -> 91.8 | F191: Запобігає вигорянню ізоляції різьбового сопла
A192: 004.D890.5 | B192: Запобіжна втулка RF GRIP 15 / 25 | C192: 2.64 | D192: =IF(C192="","",5*ROUND(C192*$C$8/5,2)) -> 127 | E192: =D192*1.2 -> 152.4 | F192: Запобігає вигорянню ізоляції різьбового сопла
A193: 018.D873 | B193: Запобіжна втулка RF GRIP 36 | C193: 2.64 | D193: =IF(C193="","",5*ROUND(C193*$C$8/5,2)) -> 127 | E193: =D193*1.2 -> 152.4 | F193: Запобігає вигорянню ізоляції різьбового сопла
A194: 016.D101 | B194: Запобіжна втулка RF 45 | C194: 3.21 | D194: =IF(C194="","",5*ROUND(C194*$C$8/5,2)) -> 154.45 | E194: =D194*1.2 -> 185.34 | F194: Запобігає вигорянню ізоляції різьбового сопла
... A227: 014.H363.1 | B227: Гусак ABIMIG® AT 355 | C227: 56.74 | D227: =IF(C227="","",5*ROUND(C227*$C$8/5,2)) -> 2729.75 | E227: =D227*1.2 -> 3275.7 | F227: ABIMIG® AT 355
A228: 014.D812 | B228: Гусак ABIMIG® MT 355 T8M 0G X225 Y0 M8 | C228: 62.96 | D228: 1202.5 | E228: 1443 | F228: ABIMIG® AT / ATG / MTG 355
A229: 767.D723.1 | B229: Гусак ABIMIG® GRIP A 405 | C229: 55.76 | D229: =IF(C229="","",5*ROUND(C229*$C$8/5,2)) -> 2682.6 | E229: =D229*1.2 -> 3219.12 | F229: ABIMIG® GRIP A 405
A230: 767.0055.1 | B230: Гусак ABIMIG® A 405 | C230: 74.78 | D230: =IF(C230="","",5*ROUND(C230*$C$8/5,2)) -> 3597.65 | E230: =D230*1.2 -> 4317.18 | F230: ABIMIG® A 405
A231: 015.D082.1 | B231: Гусак ABIMIG® AT 405 | C231: 71.89 | D231: =IF(C231="","",5*ROUND(C231*$C$8/5,2)) -> 3458.65 | E231: =D231*1.2 -> 4150.38 | F231: ABIMIG® AT 405
A232: 767.D770.1 | B232: Гусак ABIMIG® GRIP A 455 M8 | C232: 79.85 | D232: =IF(C232="","",5*ROUND(C232*$C$8/5,2)) -> 3841.6 | E232: =D232*1.2 -> 4609.92 | F232: ABIMIG® GRIP A 455
A233: 767.D753.1 | B233: Гусак ABIMIG® GRIP A 455 M10 | C233: 79.85 | D233: =IF(C233="","",5*ROUND(C233*$C$8/5,2)) -> 3841.6 | E233: =D233*1.2 -> 4609.92 | F233: ABIMIG® GRIP A 455
A234: 767.D501 | B234: Гусак ABIMIG® 450 | C234: 78.05 | D234: =IF(C234="","",5*ROUND(C234*$C$8/5,2)) -> 3755 | E234: =D234*1.2 -> 4506 | F234: ABIMIG® 450
A235: 016.D225 | B235: Гусак ABIMIG® MT 455 T8M 45G X190 Y100 M10 | C235: 95.52 | D235: =IF(C235="","",5*ROUND(C235*$C$8/5,2)) -> 4595.45 | E235: =D235*1.2 -> 5514.54 | F235: ABIMIG® AT / ATG / 405 / MTG 455
A236: 016.D250 | B236: Гусак ABIMIG® MT 455 T8M 0G X230 Y0 M10 | C236: 112.42 | D236: =IF(C236="","",5*ROUND(C236*$C$8/5,2)) -> 5408.55 | E236: =D236*1.2 -> 6490.26 | F236: ABIMIG® AT / ATG / 405 / MTG 455
A237: 013.D093 | B237: Гусак ABIMIG® -ALPHA FLUX 350 | C237: 94.23 | D237: =IF(C237="","",5*ROUND(C237*$C$8/5,2)) -> 4533.4 | E237: =D237*1.2 -> 5440.08 | F237: ABIMIG® -ALPHA FLUX 350VB
A238: 013.D092 | B238: Під'єднання гусака M10X1 FLUX | C238: 90.9 | D238: =IF(C238="","",5*ROUND(C238*$C$8/5,2)) -> 4373.2 | E238: =D238*1.2 -> 5247.84 | F238: ABIMIG® -ALPHA FLUX 350VB
A239: 013.D097 | B239: Ізолятор ABIMIG® -ALPHA FLUX 350 | C239: 6.01 | D239: =IF(C239="","",5*ROUND(C239*$C$8/5,2)) -> 289.15 | E239: =D239*1.2 -> 346.98 | F239: ABIMIG® -ALPHA FLUX 350VB
A240: 766.1553.1 | B240: Гусак ABIMIG W 340 | C240: 74.41 | D240: =IF(C240="","",5*ROUND(C240*$C$8/5,2)) -> 3579.85 | E240: =D240*1.2 -> 4295.82 | F240: ABIMIG W 340
... A258: 185.0135.1 | B258: Кнопка 2-х полюсна коротка | C258: 10.32 | D258: =IF(C258="","",5*ROUND(C258*$C$8/5,2)) -> 496.5 | E258: =D258*1.2 -> 595.8 | F258: ABIMIG® A/AT 155-455
A260: Шлангові пакети
A261: 160.D520 | B261: Шланговий пакет BIKOX® 16 R 2-x пол. 3,00 м | C261: 50.1 | D261: =IF(C261="","",5*ROUND(C261*$C$8/5,2)) -> 2410.3 | E261: =D261*1.2 -> 2892.36 | F261: RF 15 / MB EVO 15
A262: 160.D521 | B262: Шланговий пакет BIKOX® 16 R 2-x пол. 4,00 м | C262: 57.3 | D262: =IF(C262="","",5*ROUND(C262*$C$8/5,2)) -> 2756.7 | E262: =D262*1.2 -> 3308.04 | F262: RF 15 / MB EVO 15
A263: 160.D522 | B263: Шланговий пакет BIKOX® 16 R 2-x пол. 5,00 м | C263: 71.57 | D263: =IF(C263="","",5*ROUND(C263*$C$8/5,2)) -> 3443.25 | E263: =D263*1.2 -> 4131.9 | F263: RF 15 / MB EVO 15
A265: 160.D427 | B265: Шланговий пакет BIKOX® 25 R 2-x пол. 3,00 м | C265: 63.74 | D265: =IF(C265="","",5*ROUND(C265*$C$8/5,2)) -> 3066.55 | E265: =D265*1.2 -> 3679.86 | F265: RF 25 / MB 24 EVO
A266: 160.D428 | B266: Шланговий пакет BIKOX® 25 R 2-x пол. 4,00 м | C266: 74.99 | D266: =IF(C266="","",5*ROUND(C266*$C$8/5,2)) -> 3607.75 | E266: =D266*1.2 -> 4329.3 | F266: RF 25 / MB 24 EVO
A267: 160.D429 | B267: Шланговий пакет BIKOX® 25 R 2-x пол. 5,00 м | C267: 89.15 | D267: =IF(C267="","",5*ROUND(C267*$C$8/5,2)) -> 4289 | E267: =D267*1.2 -> 5146.8 | F267: RF 25 / MB 24 EVO
A269: 160.D430 | B269: Шланговий пакет BIKOX® 35 R 2-x пол. 3,00 м | C269: 76.57 | D269: =IF(C269="","",5*ROUND(C269*$C$8/5,2)) -> 3683.8 | E269: =D269*1.2 -> 4420.56 | F269: RF 36LC
...

Sheet WIG_TIG
C7: Курс | D7: =MIG_MAG!D7 -> 45323 | E7: грн/€
A8: www.binzel-abicor.com | C8: 48.11 | D8: Поточний уточнюйте
A9: Ідент.№ | B9: Найменування | C9: Ціна без ПДВ | E9: Ціна з ПДВ, грн/шт. | F9: Примітки
C10: €/шт. | D10: грн./шт.
A11: Каталог: | B11: https://abidoc.binzel-abicor.com/uploads/ABIDOC/MANUELL/TIG/x_Uebersichtskataloge_TIG/PRO_W137_EN_TIG_WEB.pdf
A12: Зварювальні пальники WIG/TIG (зварювання неплавким електродом в середовищі інертного газу)
A13: Сертифікат відповідності вимогам ДСТУ EN 60974-7:2015, ДСТУ EN 60974-10:2015
A14: *кінцева вартість пальника формується після комплектації витратними частинами на вибір (Ковпачок, цанга, корпус цанги під діаметр…,
A15: керамічне сопло NW …, а також бажаним типом під'єднання до керування, газу та охолодження)
A16: Всі зварювальні пальники як з роз'ємами 10-25 - штир D9 мм, 35-50/50-70 - штир D13 мм, так і ін. роз'ємами відповідно до типу джерела.
A17: при замовленні 3 шт. та більше - див. систему знижок | C17: =C8 -> 48.11
A18: Керування подачі газу кнопкою, газове охолодження | C18: =C8 -> 48.11
A19: 396.6217 | B19: ABITIG® 9 GRIP 4,00 м 10-25 | C19: 127.92 | D19: =IF(C19="","",5*ROUND(C19*$C$8/5,2)) -> 6154.25 | E19: =D19*1.2 -> 7385.1 | F19: 110А (DC) / 95A (AC) - 35%ПВ, D W-електроду 0,5 - 1,6(3,2) мм (витрати газу 5-12 л/хв)
A20: 7S1.SK.083.52.22.000.01 | B20: ABITIG® 9 GRIP 8,00 м 10-25 | C20: 163.51 | D20: =IF(C20="","",5*ROUND(C20*$C$8/5,2)) -> 7866.45 | E20: =D20*1.2 -> 9439.74 | F20: 110А (DC) / 95A (AC) - 35%ПВ, D W-електроду 0,5 - 1,6(3,2) мм (витрати газу 5-12 л/хв)
A21: 7L1SH.043.52.22.000.01 | B21: ABITIG® 9 GRIP Little 4,00 м (кожа) 10-25 | C21: 185.22 | D21: =IF(C21="","",5*ROUND(C21*$C$8/5,2)) -> 8910.95 | E21: =D21*1.2 -> 10693.14 | F21: 110А (DC) / 95A (AC) - 35%ПВ, D W-електроду 0,5 - 1,6(3,2) мм (витрати газу 5-12 л/хв)
A22: 396.6218 | B22: ABITIG® 17 GRIP 4,00 м 10-25 | C22: 136.53 | D22: =IF(C22="","",5*ROUND(C22*$C$8/5,2)) -> 6568.45 | E22: =D22*1.2 -> 7882.14 | F22: 140А (DC) / 125A (AC) - 35%ПВ, D W-електроду 0,5 - 2,4(4,0) мм (витрати газу 7-15 л/хв)
A23: 396.6219 | B23: ABITIG® 17 GRIP 8,00 м 10-25 | C23: 169.93 | D23: =IF(C23="","",5*ROUND(C23*$C$8/5,2)) -> 8175.35 | E23: =D23*1.2 -> 9810.42 | F23: 140А (DC) / 125A (AC) - 35%ПВ, D W-електроду 0,5 - 2,4(4,0) мм (витрати газу 7-15 л/хв)
A24: 7L2SH.043.52.22.000.01 | B24: ABITIG® 17 GRIP Little 4,00 м (кожа) 10-25 | C24: 197.75 | D24: =IF(C24="","",5*ROUND(C24*$C$8/5,2)) -> 9513.75 | E24: =D24*1.2 -> 11416.5 | F24: 140А (DC) / 125A (AC) - 35%ПВ, D W-електроду 0,5 - 2,4(4,0) мм (витрати газу 7-15 л/хв)
A25: 7S2.FK.043.52.22.000.01 | B25: ABITIG® 17F GRIP 4,00 м 10-25 | C25: 149.51 | D25: =IF(C25="","",5*ROUND(C25*$C$8/5,2)) -> 7192.95 | E25: =D25*1.2 -> 8631.54 | F25: 140А (DC) / 125A (AC) - 35%ПВ, D W-електроду 0,5 - 2,4(4,0) мм (витрати газу 7-15 л/хв)
A26: 7T6SK.043.52.22.000.01 | B26: ABITIG® 150 GRIP 4,00 м 10-25 | C26: 177.43 | D26: =IF(C26="","",5*ROUND(C26*$C$8/5,2)) -> 8536.15 | E26: =D26*1.2 -> 10243.38 | F26: 150А (DC) / 105A (AC) - 35%ПВ, D W-електроду 1,0 - 1,6(3,2) мм (витрати газу 7-15 л/хв)
A27: 7T6…. | B27: ABITIG® 150 GRIP 8,00 м 10-25 | C27: 223.76 | D27: =IF(C27="","",5*ROUND(C27*$C$8/5,2)) -> 10765.1 | E27: =D27*1.2 -> 12918.12 | F27: 150А (DC) / 105A (AC) - 35%ПВ, D W-електроду 1,0 - 1,6(3,2) мм (витрати газу 7-15 л/хв)
A28: 7L6SH.043.52.22.000.01 | B28: ABITIG® 150 GRIP Little 4,00 м (кожа) 10-25 | C28: 259.25 | D28: =IF(C28="","",5*ROUND(C28*$C$8/5,2)) -> 12472.5 | E28: =D28*1.2 -> 14967 | F28: 150А (DC) / 105A (AC) - 35%ПВ, D W-електроду 1,0 - 1,6(3,2) мм (витрати газу 7-15 л/хв)
A29: 396.6167 | B29: ABITIG® 26 GRIP 4,00 м 35-50 | C29: 148.77 | D29: =IF(C29="","",5*ROUND(C29*$C$8/5,2)) -> 7157.3 | E29: =D29*1.2 -> 8588.76 | F29: 180А (DC) / 130A (AC) - 35%ПВ, D W-електроду 0,5 - 4,0 мм (витрати газу 7-18 л/хв)
A30: 7S3.SK.043.52.06.. | B30: ABITIG® 26 GRIP 4,00 м 3/8' | C30: 155.39 | D30: =IF(C30="","",5*ROUND(C30*$C$8/5,2)) -> 7475.8 | E30: =D30*1.2 -> 8970.96 | F30: 180А (DC) / 130A (AC) - 35%ПВ, D W-електроду 0,5 - 4,0 мм (витрати газу 7-18 л/хв)
... A39: 7T4.SK.083.52.00.000.01 | B39: ABITIG® 200 GRIP 8,00 м 35-50 | C39: 250.48 | D39: =IF(C39="","",5*ROUND(C39*$C$8/5,2)) -> 12050.6 | E39: =D39*1.2 -> 14460.72 | F39: 200А (DC) / 140A (AC) - 35%ПВ, D W-електроду 1,6 - 3,2(4,8) мм (витрати газу 7-18 л/хв)
A40: 712.5020 | B40: Головка SRT 9 | C40: 24.24 | D40: =IF(C40="","",5*ROUND(C40*$C$8/5,2)) -> 1166.2 | E40: =D40*1.2 -> 1399.44
A41: 712.5030 | B41: Головка SRT 9 F | C41: 32.02 | D41: =IF(C41="","",5*ROUND(C41*$C$8/5,2)) -> 1540.5 | E41: =D41*1.2 -> 1848.6 | F41: F - гнучка головка
A42: 712.1020 | B42: Головка SRT 17 | C42: 24.24 | D42: =IF(C42="","",5*ROUND(C42*$C$8/5,2)) -> 1166.2 | E42: =D42*1.2 -> 1399.44
A43: 712.1030 | B43: Головка SRT 17 F | C43: 36.9 | D43: =IF(C43="","",5*ROUND(C43*$C$8/5,2)) -> 1775.25 | E43: =D43*1.2 -> 2130.3
A44: 712.4020 | B44: Головка SRT 26 | C44: 26.6 | D44: =IF(C44="","",5*ROUND(C44*$C$8/5,2)) -> 1279.75 | E44: =D44*1.2 -> 1535.7
A45: 712.4030 | B45: Головка SRT 26 F | C45: 41.49 | D45: =IF(C45="","",5*ROUND(C45*$C$8/5,2)) -> 1996.1 | E45: =D45*1.2 -> 2395.32
A46: 776.0010 | B46: Головка ABITIG® GRIP 150 | C46: 55.27 | D46: =IF(C46="","",5*ROUND(C46*$C$8/5,2)) -> 2659.05 | E46: =D46*1.2 -> 3190.86
A47: 774.0010 | B47: Головка ABITIG® GRIP 200 | C47: 48.44 | D47: =IF(C47="","",5*ROUND(C47*$C$8/5,2)) -> 2330.45 | E47: =D47*1.2 -> 2796.54
A49: Керування подачі газу вентилем
A50: 706.5057 | B50: ABITIG 9V 4,00 м 10-25 | C50: 126.36 | D50: =IF(C50="","",5*ROUND(C50*$C$8/5,2)) -> 6079.2 | E50: =D50*1.2 -> 7295.04 | F50: 110А (DC) / 95A (AC) - 35%ПВ, D W-електроду 0,5 - 1,6(3,2) мм (витрати газу 5-12 л/хв)
A51: 706.5058 | B51: ABITIG 9V 8,00 м 10-25 | C51: 160.33 | D51: =IF(C51="","",5*ROUND(C51*$C$8/5,2)) -> 7713.5 | E51: =D51*1.2 -> 9256.2 | F51: 110А (DC) / 95A (AC) - 35%ПВ, D W-електроду 0,5 - 1,6(3,2) мм (витрати газу 5-12 л/хв)
A52: 706.1057 | B52: ABITIG 17V 4,00 м 10-25 | C52: 126.36 | D52: =IF(C52="","",5*ROUND(C52*$C$8/5,2)) -> 6079.2 | E52: =D52*1.2 -> 7295.04 | F52: 140А (DC) / 125A (AC) - 35%ПВ, D W-електроду 0,5 - 2,4(4,0) мм (витрати газу 7-15 л/хв)
A53: 706.1058 | B53: ABITIG 17V 8,00 м 10-25 | C53: 160.33 | D53: =IF(C53="","",5*ROUND(C53*$C$8/5,2)) -> 7713.5 | E53: =D53*1.2 -> 9256.2 | F53: 140А (DC) / 125A (AC) - 35%ПВ, D W-електроду 0,5 - 2,4(4,0) мм (витрати газу 7-15 л/хв)
A54: 706.1157 | B54: ABITIG 17FXV 4,00 м 10-25 | C54: 148.22 | D54: =IF(C54="","",5*ROUND(C54*$C$8/5,2)) -> 7130.85 | E54: =D54*1.2 -> 8557.02 | F54: 140А (DC) / 125A (AC) - 35%ПВ, D W-електроду 0,5 - 2,4(4,0) мм (F - гнучка головка)
A55: 706.1158 | B55: ABITIG 17FXV 8,00 м 10-25 | C55: 182.3 | D55: =IF(C55="","",5*ROUND(C55*$C$8/5,2)) -> 8770.45 | E55: =D55*1.2 -> 10524.54 | F55: 140А (DC) / 125A (AC) - 35%ПВ, D W-електроду 0,5 - 2,4(4,0) мм (F - гнучка головка)
A56: 706.4037 | B56: ABITIG 26V 4,00 м 35-50 | C56: 158.1 | D56: =IF(C56="","",5*ROUND(C56*$C$8/5,2)) -> 7606.2 | E56: =D56*1.2 -> 9127.44 | F56: 180А (DC) / 130A (AC) - 35%ПВ, D W-електроду 0,5 - 4,0 мм (витрати газу 7-18 л/хв)
A57: 706.4038 | B57: ABITIG 26V 8,00 м 35-50 | C57: 193.31 | D57: =IF(C57="","",5*ROUND(C57*$C$8/5,2)) -> 9300.15 | E57: =D57*1.2 -> 11160.18 | F57: 180А (DC) / 130A (AC) - 35%ПВ, D W-електроду 0,5 - 4,0 мм (витрати газу 7-18 л/хв)
A58: 706.4137 | B58: ABITIG 26FXV 4,00 м 35-50 | C58: 175.64 | D58: =IF(C58="","",5*ROUND(C58*$C$8/5,2)) -> 8450.05 | E58: =D58*1.2 -> 10140.06 | F58: 180А (DC) / 130A (AC) - 35%ПВ, D W-електроду 0,5 - 4,0 мм (F - гнучка головка)
A59: 706.4138 | B59: ABITIG 26FXV 8,00 м 35-50 | C59: 210.69 | D59: =IF(C59="","",5*ROUND(C59*$C$8/5,2)) -> 10136.3 | E59: =D59*1.2 -> 12163.56 | F59: 180А (DC) / 130A (AC) - 35%ПВ, D W-електроду 0,5 - 4,0 мм (F - гнучка головка)
A60: 705.0007 | B60: Головка SRT 9V | C60: 28.81 | D60: =IF(C60="","",5*ROUND(C60*$C$8/5,2)) -> 1386.05 | E60: =D60*1.2 -> 1663.26
A61: 705.0038 | B61: Головка SRT 17V | C61: 30.93 | D61: =IF(C61="","",5*ROUND(C61*$C$8/5,2)) -> 1488.05 | E61: =D61*1.2 -> 1785.66
A62: 703.0010 | B62: Головка SRT 17FXV | C62: 48.44 | D62: =IF(C62="","",5*ROUND(C62*$C$8/5,2)) -> 2330.45 | E62: =D62*1.2 -> 2796.54
A63: 705.0091 | B63: Головка SRT 26V | C63: 34.51 | D63: =IF(C63="","",5*ROUND(C63*$C$8/5,2)) -> 1660.3 | E63: =D63*1.2 -> 1992.36
A64: 703.0290 | B64: Головка SRT 26FXV | C64: 51.78 | D64: =IF(C64="","",5*ROUND(C64*$C$8/5,2)) -> 2491.15 | E64: =D64*1.2 -> 2989.38
A66: Керування подачі газу кнопкою, рідинне охолодження
A67: 7S5…. | B67: ABITIG® 20 GRIP 4,00 м 35-50 | C67: 169.93 | D67: =IF(C67="","",5*ROUND(C67*$C$8/5,2)) -> 8175.35 | E67: =D67*1.2 -> 9810.42 | F67: 240А (DC) / 170A (AC) - 100%ПВ, D W-електроду 0,5 - 3,2 мм (витрати газу 7-18 л/хв)
A68: 7S5…. | B68: ABITIG® 20 GRIP 8,00 м 35-50 | C68: 201.49 | D68: =IF(C68="","",5*ROUND(C68*$C$8/5,2)) -> 9693.7 | E68: =D68*1.2 -> 11632.44 | F68: 240А (DC) / 170A (AC) - 100%ПВ, D W-електроду 0,5 - 3,2 мм (витрати газу 7-18 л/хв)
A69: 396.6203 | B69: ABITIG® 18 GRIP 4,00 м 35-50 | C69: 179.65 | D69: =IF(C69="","",5*ROUND(C69*$C$8/5,2)) -> 8642.95 | E69: =D69*1.2 -> 10371.54 | F69: 320А (DC) / 240A (AC) - 100%ПВ, D W-електроду 0,5 - 4,0 мм (витрати газу 7-20 л/хв)
A70: 7S4.FK.043.. | B70: ABITIG® 18F GRIP 4,00 м 35-50 | C70: 192.6 | D70: =IF(C70="","",5*ROUND(C70*$C$8/5,2)) -> 9266 | E70: =D70*1.2 -> 11119.2 | F70: 320А (DC) / 240A (AC) - 100%ПВ, D W-електроду 0,5 - 4,0 мм (витрати газу 7-20 л/хв)
A71: 7S4.SK.046.. | B71: ABITIG® 18 GRIP 4,00 м FR UD | C71: 303.79 | D71: =IF(C71="","",5*ROUND(C71*$C$8/5,2)) -> 14615.35 | E71: =D71*1.2 -> 17538.42 | F71: 320А (DC) / 240A (AC) - 100%ПВ, D W-електроду 0,5 - 4,0 мм керування Up/Down
A72: 396.6214 | B72: ABITIG® 18 GRIP 8,00 м 35-50 | C72: 217.65 | D72: =IF(C72="","",5*ROUND(C72*$C$8/5,2)) -> 10471.15 | E72: =D72*1.2 -> 12565.38 | F72: 320А (DC) / 240A (AC) - 100%ПВ, D W-електроду 0,5 - 4,0 мм (витрати газу 7-20 л/хв)
A73: 396.6215 | B73: ABITIG® 18SC GRIP 4,00 м 35-50 | C73: 206.09 | D73: =IF(C73="","",5*ROUND(C73*$C$8/5,2)) -> 9915 | E73: =D73*1.2 -> 11898 | F73: 400А (DC) / 280A (AC) - 100%ПВ, D W-електроду 0,5 - 4,8 мм (витрати газу 7-20 л/хв)
A74: 7S7.SK.046.. | B74: ABITIG® 18SC GRIP 4,00 м FR UD | C74: 324.18 | D74: =IF(C74="","",5*ROUND(C74*$C$8/5,2)) -> 15596.3 | E74: =D74*1.2 -> 18715.56 | F74: 400А (DC) / 280A (AC) - 100%ПВ, D W-електроду 0,5 - 4,8 мм (витрати газу 7-20 л/хв)
A75: 396.6216 | B75: ABITIG® 18SC GRIP 8,00 м 35-50 | C75: 245.35 | D75: =IF(C75="","",5*ROUND(C75*$C$8/5,2)) -> 11803.8 | E75: =D75*1.2 -> 14164.56 | F75: 400А (DC) / 280A (AC) - 100%ПВ, D W-електроду 0,5 - 4,8 мм (витрати газу 7-20 л/хв)
A76: 396.6226 | B76: ABITIG® 450 W GRIP 4,00 м 35-50 | C76: 275.83 | D76: =IF(C76="","",5*ROUND(C76*$C$8/5,2)) -> 13270.2 | E76: =D76*1.2 -> 15924.24 | F76: 450А (DC) / 320A (AC) - 100%ПВ, D W-електроду 1,6 - 4,8 мм (витрати газу 7-20 л/хв)
A77: 7T5.SK.046.65.36.16A.12 | B77: ABITIG® 450 W GRIP 4,00 м FR UD | C77: 421.22 | D77: =IF(C77="","",5*ROUND(C77*$C$8/5,2)) -> 20264.9 | E77: =D77*1.2 -> 24317.88 | F77: 450А (DC) / 320A (AC) - 100%ПВ, D W-електроду 1,6 - 4,8 мм керування Up/Down
A78: 396.6227 | B78: ABITIG® 450 W GRIP 8,00 м 35-50 | C78: 329.38 | D78: =IF(C78="","",5*ROUND(C78*$C$8/5,2)) -> 15846.45 | E78: =D78*1.2 -> 19015.74 | F78: 450А (DC) / 320A (AC) - 100%ПВ, D W-електроду 1,6 - 4,8 мм (витрати газу 7-20 л/хв)
... A80: 7T9…. | B80: ABITIG® 500 W GRIP 4,00 м 35-50 | C80: 432.21 | D80: =IF(C80="","",5*ROUND(C80*$C$8/5,2)) -> 20793.6 | E80: =D80*1.2 -> 24952.32 | F80: 500А (DC) / 350A (AC) - 100%ПВ, D W-електроду 1,6 - 6,4 мм (витрати газу 7-20 л/хв)
A81: 712.2020 | B81: Головка SRT 18 | C81: 49.42 | D81: =IF(C81="","",5*ROUND(C81*$C$8/5,2)) -> 2377.6 | E81: =D81*1.2 -> 2853.12
A82: 712.2030 | B82: Головка SRT 18F | C82: 55.57 | D82: =IF(C82="","",5*ROUND(C82*$C$8/5,2)) -> 2673.45 | E82: =D82*1.2 -> 3208.14
A83: 712.6020 | B83: Головка SRT 18SC | C83: 89.2 | D83: =IF(C83="","",5*ROUND(C83*$C$8/5,2)) -> 4291.4 | E83: =D83*1.2 -> 5149.68
A84: 777.0010 | B84: Головка ABITIG® GRIP 260 W | C84: 97.83 | D84: =IF(C84="","",5*ROUND(C84*$C$8/5,2)) -> 4706.6 | E84: =D84*1.2 -> 5647.92
A85: 775.0010 | B85: Головка ABITIG® GRIP 450 W | C85: 93.26 | D85: =IF(C85="","",5*ROUND(C85*$C$8/5,2)) -> 4486.75 | E85: =D85*1.2 -> 5384.1
A86: 775. 0041.1 | B86: Головка ABITIG® GRIP 500 W | C86: 127.47 | D86: =IF(C86="","",5*ROUND(C86*$C$8/5,2)) -> 6132.6 | E86: =D86*1.2 -> 7359.12
A88: Комплектуючі та витратні частини до пальників WIG/TIG
A89: 701.0247 | B89: Ковпачок довгий | C89: 4.72 | D89: =IF(C89="","",5*ROUND(C89*$C$8/5,2)) -> 227.1 | E89: =D89*1.2 -> 272.52 | F89: ABITIG®GRIP/SRT 9, SRT 9V, ABITIG®GRIP/SRT 20
A90: 701.0244 | B90: Ковпачок середній | C90: 2.87 | D90: =IF(C90="","",5*ROUND(C90*$C$8/5,2)) -> 138.1 | E90: =D90*1.2 -> 165.72 | F90: ABITIG®GRIP/SRT 9, SRT 9V, ABITIG®GRIP/SRT 20
A91: 701.0240 | B91: Ковпачок короткий | C91: 2.23 | D91: =IF(C91="","",5*ROUND(C91*$C$8/5,2)) -> 107.3 | E91: =D91*1.2 -> 128.76 | F91: ABITIG®GRIP/SRT 9, SRT 9V, ABITIG®GRIP/SRT 20
A92: 712.1051 | B92: Ковпачок довгий | C92: 5.23 | D92: =IF(C92="","",5*ROUND(C92*$C$8/5,2)) -> 251.6 | E92: =D92*1.2 -> 301.92 | F92: ABITIG®GRIP/SRT 17, 26, 18, 18 SC, SRT 17V, SRT 17FXV SRT 26V, SRT 26FXV
A93: 702.0003 | B93: Ковпачок середній | C93: 4.92 | D93: =IF(C93="","",5*ROUND(C93*$C$8/5,2)) -> 236.7 | E93: =D93*1.2 -> 284.04 | F93: ABITIG®GRIP/SRT 17, 26, 18, 18 SC, SRT 17V, SRT 17FXV SRT 26V, SRT 26FXV
A94: 712.1053 | B94: Ковпачок короткий | C94: 4.45 | D94: =IF(C94="","",5*ROUND(C94*$C$8/5,2)) -> 214.1 | E94: =D94*1.2 -> 256.92 | F94: ABITIG®GRIP/SRT 17, 26, 18, 18 SC, SRT 17V, SRT 17FXV SRT 26V, SRT 26FXV
A95: 772.0051.10 | B95: Ковпачок довгий | C95: 12.18 | D95: =IF(C95="","",5*ROUND(C95*$C$8/5,2)) -> 586 | E95: =D95*1.2 -> 703.2 | F95: ABITIG® GRIP 150 / 260W
A96: 776.0053 | B96: Ковпачок короткий | C96: 7.34 | D96: =IF(C96="","",5*ROUND(C96*$C$8/5,2)) -> 353.15 | E96: =D96*1.2 -> 423.78 | F96: ABITIG® GRIP 150 / 260W
A97: 773.0051 | B97: Ковпачок довгий | C97: 11.93 | D97: =IF(C97="","",5*ROUND(C97*$C$8/5,2)) -> 573.95 | E97: =D97*1.2 -> 688.74 | F97: ABITIG® GRIP 200 / 450W
A98: 773.0053 | B98: Ковпачок короткий | C98: 6.74 | D98: =IF(C98="","",5*ROUND(C98*$C$8/5,2)) -> 324.25 | E98: =D98*1.2 -> 389.1 | F98: ABITIG® GRIP 200 / 450W
A99: 775.0051.1 | B99: Ковпачок довгий | C99: 17.4 | D99: =IF(C99="","",5*ROUND(C99*$C$8/5,2)) -> 837.1 | E99: =D99*1.2 -> 1004.52 | F99: ABITIG® GRIP 500W
A100: 775.0053.1 | B100: Ковпачок короткий | C100: 13.93 | D100: =IF(C100="","",5*ROUND(C100*$C$8/5,2)) -> 670.15 | E100: =D100*1.2 -> 804.18 | F100: ABITIG® GRIP 500W
... A123: 701.0130 | B123: Адаптер для корпуса цанги з газ. лінзою (701.02..) | C123: 2.78 | D123: =IF(C123="","",5*ROUND(C123*$C$8/5,2)) -> 133.75 | E123: =D123*1.2 -> 160.5 | F123: ABITIG®GRIP/SRT 17, 26, 18, SRT 17V, SRT 17FXV SRT 26V, SRT 26FXV
A125: 701.0249 | B125: Цанга WE-D 0,5 мм | C125: 1.51 | D125: =IF(C125="","",5*ROUND(C125*$C$8/5,2)) -> 72.65 | E125: =D125*1.2 -> 87.18
A126: 701.0250 | B126: Цанга WE-D 1,0 мм | C126: 1.51 | D126: =IF(C126="","",5*ROUND(C126*$C$8/5,2)) -> 72.65 | E126: =D126*1.2 -> 87.18
A127: 701.0254 | B127: Цанга WE-D 1,2 мм | C127: 1.51 | D127: =IF(C127="","",5*ROUND(C127*$C$8/5,2)) -> 72.65 | E127: =D127*1.2 -> 87.18
A128: 701.0251 | B128: Цанга WE-D 1,6 мм | C128: 1.51 | D128: =IF(C128="","",5*ROUND(C128*$C$8/5,2)) -> 72.65 | E128: =D128*1.2 -> 87.18 | F128: ABITIG®GRIP/SRT 9, SRT 9V, ABITIG®/SRT 20
A129: 701.0255 | B129: Цанга WE-D 2,0 мм | C129: 1.51 | D129: =IF(C129="","",5*ROUND(C129*$C$8/5,2)) -> 72.65 | E129: =D129*1.2 -> 87.18
A130: 701.0252 | B130: Цанга WE-D 2,4 мм | C130: 1.51 | D130: =IF(C130="","",5*ROUND(C130*$C$8/5,2)) -> 72.65 | E130: =D130*1.2 -> 87.18
A131: 701.0253 | B131: Цанга WE-D 3,2 мм | C131: 1.51 | D131: =IF(C131="","",5*ROUND(C131*$C$8/5,2)) -> 72.65 | E131: =D131*1.2 -> 87.18
A133: 702.0005 | B133: Цанга WE-D 0,5 мм | C133: 1.66 | D133: =IF(C133="","",5*ROUND(C133*$C$8/5,2)) -> 79.85 | E133: =D133*1.2 -> 95.82
A134: 702.0006 | B134: Цанга WE-D 1,0 мм | C134: 1.66 | D134: =IF(C134="","",5*ROUND(C134*$C$8/5,2)) -> 79.85 | E134: =D134*1.2 -> 95.82
A135: 702.0007 | B135: Цанга WE-D 1,2 мм | C135: 1.66 | D135: =IF(C135="","",5*ROUND(C135*$C$8/5,2)) -> 79.85 | E135: =D135*1.2 -> 95.82
A136: 702.0008 | B136: Цанга WE-D 1,6 мм | C136: 1.66 | D136: =IF(C136="","",5*ROUND(C136*$C$8/5,2)) -> 79.85 | E136: =D136*1.2 -> 95.82
A137: 702.0012 | B137: Цанга WE-D 2,0 мм | C137: 1.66 | D137: =IF(C137="","",5*ROUND(C137*$C$8/5,2)) -> 79.85 | E137: =D137*1.2 -> 95.82 | F137: ABITIG®GRIP/SRT 17, 26, 18, SRT 17V, SRT 17FXV SRT 26V, SRT 26FXV
A138: 702.0009 | B138: Цанга WE-D 2,4 мм | C138: 1.66 | D138: =IF(C138="","",5*ROUND(C138*$C$8/5,2)) -> 79.85 | E138: =D138*1.2 -> 95.82
A139: 702.0241 | B139: Цанга WE-D 3,0 мм | C139: 1.66 | D139: =IF(C139="","",5*ROUND(C139*$C$8/5,2)) -> 79.85 | E139: =D139*1.2 -> 95.82
A140: 702.0010 | B140: Цанга WE-D 3,2 мм | C140: 1.66 | D140: =IF(C140="","",5*ROUND(C140*$C$8/5,2)) -> 79.85 | E140: =D140*1.2 -> 95.82
A141: 702.0011 | B141: Цанга WE-D 4,0 мм | C141: 1.66 | D141: =IF(C141="","",5*ROUND(C141*$C$8/5,2)) -> 79.85 | E141: =D141*1.2 -> 95.82
A143: 712.6064 | B143: Цанга HL WE-D 3,2 мм | C143: 4.93 | D143: =IF(C143="","",5*ROUND(C143*$C$8/5,2)) -> 237.2 | E143: =D143*1.2 -> 284.64
...

Sheet PLASMA
C7: Курс | D7: =MIG_MAG!D7 -> 45323 | E7: грн/€
A8: www.binzel-abicor.com | C8: 48.11 | D8: Поточний уточнюйте
A9: Ідент.№ | B9: Найменування | C9: Ціна без ПДВ | E9: Ціна з ПДВ, грн/шт. | F9: Примітки
C10: €/шт. | D10: грн./шт.
A12: Плазматрони | C12: =C8 -> 48.11
A13: Сертифікат відповідності вимогам ДСТУ EN 60974-7:2015, ДСТУ EN 60974-10:2015
A14: Повітряне охолодження
A15: 748.0054.1 | B15: ABICUT 25K, 2 пол. 4,00 м ЕА | C15: 218.78 | D15: =IF(C15="","",5*ROUND(C15*$C$8/5,2)) -> 10525.5 | E15: =D15*1.2 -> 12630.6 | F15: 20А - 35%ПВ, одногаз. з тиском ст. п.-2 бар (St-6mm, Alu-2,5mm, VA-4mm)
A16: 748.0047.1 | B16: ABICUT 25K, 4 пол. 4,00 м ЕА | C16: 218.78 | D16: =IF(C16="","",5*ROUND(C16*$C$8/5,2)) -> 10525.5 | E16: =D16*1.2 -> 12630.6 | F16: 20А - 35%ПВ, одногаз. з тиском ст. п.-2 бар (St-6mm, Alu-2,5mm, VA-4mm)
A18: 748.0046.1 | B18: ABICUT 45, 6,00 м EA | C18: 239.55 | D18: =IF(C18="","",5*ROUND(C18*$C$8/5,2)) -> 11524.75 | E18: =D18*1.2 -> 13829.7 | F18: 40А - 60%ПВ, одногаз. з тиском ст. п.-5 бар (St-10mm, Alu-8mm, VA-6mm)
A19: 748.0056.1 | B19: ABICUT 45, 6,00 м ZA | C19: 284.34 | D19: =IF(C19="","",5*ROUND(C19*$C$8/5,2)) -> 13679.6 | E19: =D19*1.2 -> 16415.52 | F19: 40А - 60%ПВ, одногаз. з тиском ст. п.-5 бар (St-10mm, Alu-8mm, VA-6mm)
A21: 748.0090.1 | B21: ABICUT 75 HF, 4,00 м EA | C21: 147.38 | D21: =IF(C21="","",5*ROUND(C21*$C$8/5,2)) -> 7090.45 | E21: =D21*1.2 -> 8508.54 | F21: 75A - 60%ПВ, одногаз. з тиском ст. п.-5-5,5 бар (St-20mm, Alu-15mm, VA-12mm)
A22: 748.0124.1 | B22: ABICUT 75, 6,00 м EA | C22: 281.09 | D22: =IF(C22="","",5*ROUND(C22*$C$8/5,2)) -> 13523.25 | E22: =D22*1.2 -> 16227.9 | F22: 75A - 60%ПВ, одногаз. з тиском ст. п.-5-5,5 бар (St-20mm, Alu-15mm, VA-12mm)
A23: 748.0130.1 | B23: ABICUT 75, 6,00 м ZA | C23: 317.8 | D23: =IF(C23="","",5*ROUND(C23*$C$8/5,2)) -> 15289.35 | E23: =D23*1.2 -> 18347.22 | F23: 75A - 60%ПВ, одногаз. з тиском ст. п.-5-5,5 бар (St-20mm, Alu-15mm, VA-12mm)
A24: 748.0125.1 | B24: ABICUT 75 HF, 6,00 м EA | C24: 281.09 | D24: =IF(C24="","",5*ROUND(C24*$C$8/5,2)) -> 13523.25 | E24: =D24*1.2 -> 16227.9 | F24: 75A - 60%ПВ, одногаз. з тиском ст. п.-5-5,5 бар (St-20mm, Alu-15mm, VA-12mm)
A25: 748.0131.1 | B25: ABICUT 75 HF, 6,00 м ZA | C25: 317.8 | D25: =IF(C25="","",5*ROUND(C25*$C$8/5,2)) -> 15289.35 | E25: =D25*1.2 -> 18347.22 | F25: 75A - 60%ПВ, одногаз. з тиском ст. п.-5-5,5 бар (St-20mm, Alu-15mm, VA-12mm)
A27: 742.0256.1 | B27: ABIPLAS® CUT 71, 6,00 м EA | C27: 238.55 | D27: =IF(C27="","",5*ROUND(C27*$C$8/5,2)) -> 11476.65 | E27: =D27*1.2 -> 13771.98 | F27: 70A - 60%ПВ, Uзаж.=7кВ, одногаз. з min тиском ст. п.-5,5 бар (St-25(20)mm, Alu-20(15)mm)
A28: 742.0257.1 | B28: ABIPLAS® CUT 71, 6,00 м ZA | C28: 282.48 | D28: =IF(C28="","",5*ROUND(C28*$C$8/5,2)) -> 13590.1 | E28: =D28*1.2 -> 16308.12 | F28: 70A - 60%ПВ, Uзаж.=7кВ, одногаз. з min тиском ст. п.-5,5 бар (St-25(20)mm, Alu-20(15)mm)
A29: 742.0259.1 | B29: ABIPLAS® CUT MT 71, 6,00 м EA | C29: 277.67 | D29: =IF(C29="","",5*ROUND(C29*$C$8/5,2)) -> 13358.7 | E29: =D29*1.2 -> 16030.44 | F29: 70A - 60%ПВ, Uзаж.=7кВ, одногаз. з min тиском ст. п.-5,5 бар (St-25(20)mm, Alu-20(15)mm)
... A40: 757.0092.1 | B40: ABIPLAS® CUT MT 151, 6,00 м ZA | C40: 451.96 | D40: =IF(C40="","",5*ROUND(C40*$C$8/5,2)) -> 21743.8 | E40: =D40*1.2 -> 26092.56 | F40: 150A - 60%ПВ, Uзаж.=7кВ, одногаз. з min тиском ст. п.-5,5 бар (St-55(50)mm, Alu-40(35)mm)
A42: Рідинне охолодження
A43: 758.0050 | B43: ABIPLAS® CUT 200W, 6,00 м Standart ЕА | C43: 1326.73 | D43: =IF(C43="","",5*ROUND(C43*$C$8/5,2)) -> 63829 | E43: =D43*1.2 -> 76594.8 | F43: 200A - 100%ПВ, одногаз. з min тиском ст. п.-3,5-4,5 бар (St-70(60)mm, Alu-45(40)mm)
A44: 758.0054 | B44: ABIPLAS® CUT 200W, 6,00 м Standart ZА | C44: 1397.47 | D44: =IF(C44="","",5*ROUND(C44*$C$8/5,2)) -> 67232.3 | E44: =D44*1.2 -> 80678.76 | F44: 200A - 100%ПВ, одногаз. з min тиском ст. п.-3,5-4,5 бар (St-70(60)mm, Alu-45(40)mm)
A45: 758.0062 | B45: ABIPLAS® CUT 200W, 12,00 м Standart EА | C45: 1470.98 | D45: =IF(C45="","",5*ROUND(C45*$C$8/5,2)) -> 70768.85 | E45: =D45*1.2 -> 84922.62 | F45: 200A - 100%ПВ, одногаз. з min тиском ст. п.-3,5-4,5 бар (St-70(60)mm, Alu-45(40)mm)
A46: 758.0063 | B46: ABIPLAS® CUT 200W, 12,00 м Standart ZА | C46: 1541.73 | D46: =IF(C46="","",5*ROUND(C46*$C$8/5,2)) -> 74172.65 | E46: =D46*1.2 -> 89007.18 | F46: 200A - 100%ПВ, одногаз. з min тиском ст. п.-3,5-4,5 бар (St-70(60)mm, Alu-45(40)mm)
A47: 758.1012 | B47: ABIPLAS® CUT MT 200W, 6,00 м Standart EА | C47: 1538.91 | D47: =IF(C47="","",5*ROUND(C47*$C$8/5,2)) -> 74036.95 | E47: =D47*1.2 -> 88844.34 | F47: 200A - 100%ПВ, одногаз. з min тиском ст. п.-3,5-4,5 бар (St-70(60)mm, Alu-45(40)mm)
A48: 758.1015 | B48: ABIPLAS® CUT MT 200W, 6,00 м Standart ZА | C48: 1609.63 | D48: =IF(C48="","",5*ROUND(C48*$C$8/5,2)) -> 77439.3 | E48: =D48*1.2 -> 92927.16 | F48: 200A - 100%ПВ, одногаз. з min тиском ст. п.-3,5-4,5 бар (St-70(60)mm, Alu-45(40)mm)
A49: 758.1019 | B49: ABIPLAS® CUT MT 200W, 12,00 м Standart EА | C49: 1683.12 | D49: =IF(C49="","",5*ROUND(C49*$C$8/5,2)) -> 80974.9 | E49: =D49*1.2 -> 97169.88 | F49: 200A - 100%ПВ, одногаз. з min тиском ст. п.-3,5-4,5 бар (St-70(60)mm, Alu-45(40)mm)
A50: 758.1020 | B50: ABIPLAS® CUT MT 200W, 12,00 м Standart ZА | C50: 1753.9 | D50: =IF(C50="","",5*ROUND(C50*$C$8/5,2)) -> 84380.15 | E50: =D50*1.2 -> 101256.18 | F50: 200A - 100%ПВ, одногаз. з min тиском ст. п.-3,5-4,5 бар (St-70(60)mm, Alu-45(40)mm)
A52: Комплектуючі до плазмотронів
A53: 748.0020.1 | B53: Головка ABIСUT 25K / 45 | C53: 101.43 | D53: =IF(C53="","",5*ROUND(C53*$C$8/5,2)) -> 4879.8 | E53: =D53*1.2 -> 5855.76
A54: 748.0100.1 | B54: Головка ABIСUT 75 / 75 HF | C54: 99.26 | D54: =IF(C54="","",5*ROUND(C54*$C$8/5,2)) -> 4775.4 | E54: =D54*1.2 -> 5730.48
A55: 742.D022 | B55: Головка ABIPLAS® CUT 70 | C55: 141.52 | D55: =IF(C55="","",5*ROUND(C55*$C$8/5,2)) -> 6808.55 | E55: =D55*1.2 -> 8170.26
A56: 742.D109 | B56: Головка ABIPLAS® CUT МТ 70 | C56: 183.47 | D56: =IF(C56="","",5*ROUND(C56*$C$8/5,2)) -> 8826.75 | E56: =D56*1.2 -> 10592.1
A57: 742.0247.1 | B57: Головка ABIPLAS® CUT 71 | C57: 123.08 | D57: =IF(C57="","",5*ROUND(C57*$C$8/5,2)) -> 5921.4 | E57: =D57*1.2 -> 7105.68
A58: 742.0248.1 | B58: Головка ABIPLAS® CUT МТ 71 | C58: 159.56 | D58: =IF(C58="","",5*ROUND(C58*$C$8/5,2)) -> 7676.45 | E58: =D58*1.2 -> 9211.74
A59: 745.D025 | B59: Головка ABIPLAS® CUT 110 | C59: 177.26 | D59: =IF(C59="","",5*ROUND(C59*$C$8/5,2)) -> 8528 | E59: =D59*1.2 -> 10233.6
A60: 745.D051 | B60: Головка ABIPLAS® CUT MT 110 | C60: 190.6 | D60: =IF(C60="","",5*ROUND(C60*$C$8/5,2)) -> 9169.75 | E60: =D60*1.2 -> 11003.7
A61: 745.0119.1 | B61: Головка ABIPLAS® CUT 111 | C61: 154.11 | D61: =IF(C61="","",5*ROUND(C61*$C$8/5,2)) -> 7414.25 | E61: =D61*1.2 -> 8897.1
A62: 745.0130.1 | B62: Головка ABIPLAS® CUT MT 111 | C62: 165.75 | D62: =IF(C62="","",5*ROUND(C62*$C$8/5,2)) -> 7974.25 | E62: =D62*1.2 -> 9569.1
A63: 757.D020 | B63: Головка ABIPLAS® CUT 150 | C63: 255.59 | D63: =IF(C63="","",5*ROUND(C63*$C$8/5,2)) -> 12296.45 | E63: =D63*1.2 -> 14755.74
A64: 757.D028 | B64: Головка ABIPLAS® CUT MT 150 | C64: 277.48 | D64: =IF(C64="","",5*ROUND(C64*$C$8/5,2)) -> 13349.55 | E64: =D64*1.2 -> 16019.46
... A68: 758.1016 | B68: Головка ABIPLAS® CUT MT 200 W | C68: 863.81 | D68: =IF(C68="","",5*ROUND(C68*$C$8/5,2)) -> 41557.9 | E68: =D68*1.2 -> 49869.48
A70: 745.D046 | B70: Рукоятка | C70: 25.5 | D70: =IF(C70="","",5*ROUND(C70*$C$8/5,2)) -> 1226.8 | E70: =D70*1.2 -> 1472.16 | F70: ABIPLAS® CUT 70/110
A71: 757.D003 | B71: Рукоятка | C71: 25.5 | D71: =IF(C71="","",5*ROUND(C71*$C$8/5,2)) -> 1226.8 | E71: =D71*1.2 -> 1472.16 | F71: ABIPLAS® CUT 150
A72: 748.0053.1 | B72: Рукоятка | C72: 22.16 | D72: =IF(C72="","",5*ROUND(C72*$C$8/5,2)) -> 1066.1 | E72: =D72*1.2 -> 1279.32 | F72: ABIPLAS® CUT 71
A73: 748.0176.1 | B73: Рукоятка | C73: 66.04 | D73: =IF(C73="","",5*ROUND(C73*$C$8/5,2)) -> 3177.2 | E73: =D73*1.2 -> 3812.64 | F73: ABIPLAS® CUT 111/151
A74: 107.D005 | B74: Зовнішній шланг в компл. 6 м | C74: 29.38 | D74: =IF(C74="","",5*ROUND(C74*$C$8/5,2)) -> 1413.45 | E74: =D74*1.2 -> 1696.14 | F74: ABIPLAS® CUT 110/150
A76: Витратні комплектуючі
A77: сопла та катоди при замовленні 50 шт. та більше - див. систему знижок
A78: 748.0032.10 | B78: Катод плазм. | C78: 2.94 | D78: =IF(C78="","",5*ROUND(C78*$C$8/5,2)) -> 141.45 | E78: =D78*1.2 -> 169.74 | F78: ABIСUT 25K
A79: 748.0034.10 | B79: Сопло плазм., Ø 0,65 | C79: 3.04 | D79: =IF(C79="","",5*ROUND(C79*$C$8/5,2)) -> 146.25 | E79: =D79*1.2 -> 175.5 | F79: ABIСUT 25K
A80: 748.0035.10 | B80: Сопло плазм., Ø 0,80 | C80: 3.04 | D80: =IF(C80="","",5*ROUND(C80*$C$8/5,2)) -> 146.25 | E80: =D80*1.2 -> 175.5 | F80: ABIСUT 25K
A81: 748.0042.2 | B81: Захисний ковпачок | C81: 15.99 | D81: =IF(C81="","",5*ROUND(C81*$C$8/5,2)) -> 769.3 | E81: =D81*1.2 -> 923.16 | F81: ABIСUT 25K
A82: 748.0033.2 | B82: Завихрувач | C82: 11.34 | D82: =IF(C82="","",5*ROUND(C82*$C$8/5,2)) -> 545.55 | E82: =D82*1.2 -> 654.66 | F82: ABIСUT 25K
A83: 748.0050.5 | B83: Дистанційна пружина | C83: 2.48 | D83: =IF(C83="","",5*ROUND(C83*$C$8/5,2)) -> 119.3 | E83: =D83*1.2 -> 143.16 | F83: ABIСUT 25K
A85: 748.0032.10 | B85: Катод плазм. | C85: 2.94 | D85: =IF(C85="","",5*ROUND(C85*$C$8/5,2)) -> 141.45 | E85: =D85*1.2 -> 169.74 | F85: ABIСUT 45
A86: 748.0034.10 | B86: Сопло плазм., Ø 0,6 | C86: 3.04 | D86: =IF(C86="","",5*ROUND(C86*$C$8/5,2)) -> 146.25 | E86: =D86*1.2 -> 175.5 | F86: ABIСUT 45
A87: 748.0035.10 | B87: Сопло плазм., Ø 0,8 | C87: 3.04 | D87: =IF(C87="","",5*ROUND(C87*$C$8/5,2)) -> 146.25 | E87: =D87*1.2 -> 175.5 | F87: ABIСUT 45
A88: 748.0043.2 | B88: Захисний ковпачок | C88: 15.99 | D88: =IF(C88="","",5*ROUND(C88*$C$8/5,2)) -> 769.3 | E88: =D88*1.2 -> 923.16 | F88: ABIСUT 45
A89: 748.0033.2 | B89: Завихрувач | C89: 11.34 | D89: =IF(C89="","",5*ROUND(C89*$C$8/5,2)) -> 545.55 | E89: =D89*1.2 -> 654.66 | F89: ABIСUT 45
A90: 748.0050.5 | B90: Дистанційна пружина | C90: 2.48 | D90: =IF(C90="","",5*ROUND(C90*$C$8/5,2)) -> 119.3 | E90: =D90*1.2 -> 143.16 | F90: ABIСUT 45
... A184: 165.0072 | B184: Кільце | C184: 0.29 | D184: =IF(C184="","",5*ROUND(C184*$C$8/5,2)) -> 13.95 | E184: =D184*1.2 -> 16.74 | F184: ABIPLAS® CUT 200 W
A186: Установки повітряно-плазмового різки Jäckle (Німеччина)
A187: Сертифікат відповідності вимогам ГОСТ 18130-79, ГОСТ 12.2.007.0-75, ДСТУ EN 60974-7:2015, ДСТУ EN 60974-10:2015, ДСТУ EN 60974-11:2014, ДСТУ EN 60974-1:2014, ДСТУ EN 60974-12:2014
A188: (вартість установок містить витрати з сертификації, а також вступний курс експлуатації на базі постачальника, м. Київ,
A189: вартість плазмотрона/різака - не входить)
A190: Повітряне охолодження
A191: 860.060.031 | B191: Plasma 60 ЕA (75 кг) | C191: 2014.93 | D191: =IF(C191="","",5*ROUND(C191*$C$8/5,2)) -> 96938.3 | E191: =D191*1.2 -> 116325.96 | F191: 1 ступінь регул. струму Uс=400B, P=18kBA, Imax =60А, Umax x.x.=290B, 60A-60%ПВ, Sр.max=20(15)mm
A192: 860.060.038 | B192: Plasma 70S ZA (95 кг) | C192: 2911.48 | D192: =IF(C192="","",5*ROUND(C192*$C$8/5,2)) -> 140071.3 | E192: =D192*1.2 -> 168085.56 | F192: плавн. регул. струму Uс=400B, P=19kBA, Iрег =20-70А, Umax x.x.=250B,70A/110B-60%ПВ, Sр.max=25(20)mm
A193: 865.120.003 | B193: Plasma 120S ZA (CNC) (150 кг) | C193: 4256.96 | D193: =IF(C193="","",5*ROUND(C193*$C$8/5,2)) -> 204802.35 | E193: =D193*1.2 -> 245762.82 | F193: плавн. регул. струму Uс=400B, P=32kBA, Iрег =20-120А, Umax x.x.=250B,120A/130B-60%ПВ, Sр.max=45(35)mm
A195: Плазмотрони
A196: 900.199.006 | B196: JHP 251W 12.00 м ЕА | C196: 2132.6 | D196: =IF(C196="","",5*ROUND(C196*$C$8/5,2)) -> 102599.4 | E196: =D196*1.2 -> 123119.28 | F196: 250A - 100%ПВ, одногазовий, з min тиском ст. п.-3,5 бар St-100(70)mm
B197: H - ручного типу
A199: Витратні комплектуючі
A200: сопла та катоди при замовленні від 100 шт. та більше - див. систему знижок
A201: 900.199.035 | B201: Головка плазмотрона | C201: 890.64 | D201: =IF(C201="","",5*ROUND(C201*$C$8/5,2)) -> 42848.7 | E201: =D201*1.2 -> 51418.44 | F201: JHP 251W
A202: 900.199.018 | B202: Головка плазмотрона | C202: 948.73 | D202: =IF(C202="","",5*ROUND(C202*$C$8/5,2)) -> 45643.4 | E202: =D202*1.2 -> 54772.08 | F202: JMP 251W
A203: 900.199.019 | B203: Кільце | C203: 1.37 | D203: =IF(C203="","",5*ROUND(C203*$C$8/5,2)) -> 65.9 | E203: =D203*1.2 -> 79.08 | F203: JMP 251W, JHP 251W
A204: 900.199.020 | B204: Трубка охолодження | C204: 28.91 | D204: =IF(C204="","",5*ROUND(C204*$C$8/5,2)) -> 1390.85 | E204: =D204*1.2 -> 1669.02 | F204: JMP 251W, JHP 251W
A205: 900.199.022 | B205: Ізолятор | C205: 146.55 | D205: =IF(C205="","",5*ROUND(C205*$C$8/5,2)) -> 7050.5 | E205: =D205*1.2 -> 8460.6 | F205: JMP 251W, JHP 251W
A206: 526.0511.10 | B206: Катод повітря/азот (900.199.023) | C206: 17.04 | D206: =IF(C206="","",5*ROUND(C206*$C$8/5,2)) -> 819.8 | E206: =D206*1.2 -> 983.76 | F206: JMP 251W, JHP 251W
A207: 526.0512.1 | B207: Завихрувач 50-250A (900.199.024) | C207: 55.93 | D207: =IF(C207="","",5*ROUND(C207*$C$8/5,2)) -> 2690.8 | E207: =D207*1.2 -> 3228.96 | F207: JMP 251W, JHP 251W
A208: 900.199.026 | B208: Сопло 50A | C208: 16.22 | D208: =IF(C208="","",5*ROUND(C208*$C$8/5,2)) -> 780.35 | E208: =D208*1.2 -> 936.42 | F208: JMP 251W, JHP 251W
A209: 526.Z513.10 | B209: Сопло100A (900.199.027) | C209: 16.22 | D209: =IF(C209="","",5*ROUND(C209*$C$8/5,2)) -> 780.35 | E209: =D209*1.2 -> 936.42 | F209: JMP 251W, JHP 251W
A210: 900.199.028 | B210: Сопло150A | C210: 16.22 | D210: =IF(C210="","",5*ROUND(C210*$C$8/5,2)) -> 780.35 | E210: =D210*1.2 -> 936.42 | F210: JMP 251W, JHP 251W
A211: 900.199.029 | B211: Сопло 200A | C211: 16.22 | D211: =IF(C211="","",5*ROUND(C211*$C$8/5,2)) -> 780.35 | E211: =D211*1.2 -> 936.42 | F211: JMP 251W, JHP 251W
A212: 900.199.030 | B212: Сопло 250A - 300A | C212: 16.22 | D212: =IF(C212="","",5*ROUND(C212*$C$8/5,2)) -> 780.35 | E212: =D212*1.2 -> 936.42 | F212: JMP 251W, JHP 251W
... A219: 900.199.021 | B219: Ключ | C219: 14.67 | D219: =IF(C219="","",5*ROUND(C219*$C$8/5,2)) -> 705.75 | E219: =D219*1.2 -> 846.9 | F219: для монтажу/демонтажу катода та сопла
A221: EA - під'єднання різака накидною гайкою, ZA - євро (центральний) роз'єм різака, MT - установки адаптовані під автоматичну різку (інтерфейс дистанц. керування),
A222: СNС - установки адаптовані під портальну різку (інтерфейс комп. керування)

Sheet Accessories
C7: Курс | D7: =MIG_MAG!D7 -> 45323 | E7: грн/€
A8: www.binzel-abicor.com | C8: 48.11 | D8: Поточний уточнюйте
A9: Ідент.№ | B9: Найменування | C9: Ціна без ПДВ | E9: Ціна з ПДВ, грн/шт. | F9: Примітки
C10: €/шт. | D10: грн./шт.
A11: Каталог: | B11: https://abidoc.binzel-abicor.com/uploads/ABIDOC/ZUBEHOER/x_Uebersichtskataloge_ZUBEHOER/PRO_A068_EN_Accessories_WEB.pdf
A12: Електродотримачі
A13: Сертифікат відповідності вимогам ДСТУ EN 60974-10:2015, ДСТУ EN 60974-11:2014
A14: при замовленні 50 шт. та більше - див. систему знижок | C14: =C8 -> 48.11
A15: 512.D060 | B15: DE 2200 | C15: 10.4 | D15: =IF(C15="","",5*ROUND(C15*$C$8/5,2)) -> 500.35 | E15: =D15*1.2 -> 600.42 | F15: 200(250)А - 60(35)%ПВ , D електроду 2,0 - 4,0 мм
A16: 512.D070 | B16: DE 2300 | C16: 12.13 | D16: =IF(C16="","",5*ROUND(C16*$C$8/5,2)) -> 583.55 | E16: =D16*1.2 -> 700.26 | F16: 300(400)А - 60(35)%ПВ , D електроду 2,0 - 6,3 мм
A17: 512.D080 | B17: DE 2400 | C17: 16.07 | D17: =IF(C17="","",5*ROUND(C17*$C$8/5,2)) -> 773.15 | E17: =D17*1.2 -> 927.78 | F17: 400(500)А - 60(35)%ПВ , D електроду 4,0 - 8,0 мм
A18: 512.D090 | B18: DE 2500 | C18: 19.68 | D18: =IF(C18="","",5*ROUND(C18*$C$8/5,2)) -> 946.8 | E18: =D18*1.2 -> 1136.16 | F18: 500(600)А - 60(35)%ПВ , D електроду 4,0 - 10,0 мм
A20: Ізоляційні накладки до електродотримачів/строгачів канавок
A21: 512.D021 | B21: ИН 1200 | C21: 1.25 | D21: =IF(C21="","",5*ROUND(C21*$C$8/5,2)) -> 60.15 | E21: =D21*1.2 -> 72.18 | F21: DE 2200
A22: 512.D031 | B22: ИН 1300 | C22: 1.42 | D22: =IF(C22="","",5*ROUND(C22*$C$8/5,2)) -> 68.3 | E22: =D22*1.2 -> 81.96 | F22: DE 2300
A23: 512.D041 | B23: ИН 378 | C23: 1.55 | D23: =IF(C23="","",5*ROUND(C23*$C$8/5,2)) -> 74.55 | E23: =D23*1.2 -> 89.46 | F23: DE 2400
A24: 512.D091 | B24: ИН 367 | C24: 1.92 | D24: =IF(C24="","",5*ROUND(C24*$C$8/5,2)) -> 92.35 | E24: =D24*1.2 -> 110.82 | F24: DE 2500/К 10/12
A26: Строгачі канавок
A27: 516.D001 | B27: К 10 3,00 м | C27: 241.18 | D27: =IF(C27="","",5*ROUND(C27*$C$8/5,2)) -> 11603.15 | E27: =D27*1.2 -> 13923.78 | F27: 500А - 60%ПВ, D електроду круглого(пластинчатого) 4,0 - 10,0 мм(15/20 мм - ш, 4 мм - в)
A28: 516.D002 | B28: K 12 3,00 м | C28: 258.3 | D28: =IF(C28="","",5*ROUND(C28*$C$8/5,2)) -> 12426.8 | E28: =D28*1.2 -> 14912.16 | F28: 600А - 60%ПВ, D електроду круглого(пластинчатого) 4,0 - 12,0 мм(15/20 мм - ш, 4/5 мм - в)
A29: 516.D142 | B29: K 12 T 3,00 м | C29: 321.92 | D29: =IF(C29="","",5*ROUND(C29*$C$8/5,2)) -> 15487.55 | E29: =D29*1.2 -> 18585.06 | F29: Версія "Т" - поворотний
A30: 516.D003 | B30: K 16 3,00 м | C30: 304.08 | D30: =IF(C30="","",5*ROUND(C30*$C$8/5,2)) -> 14629.3 | E30: =D30*1.2 -> 17555.16 | F30: 1000А - 60%ПВ, D електроду круглого(пластинчатого) 8,0 - 16,0 мм(15/20/25 мм - ш, 4/5 мм - в)
A31: 516.D150 | B31: K 16T 3,00 м | C31: 356.81 | D31: =IF(C31="","",5*ROUND(C31*$C$8/5,2)) -> 17166.15 | E31: =D31*1.2 -> 20599.38 | F31: Версія "Т" - поворотний
A32: 516.D167.1 | B32: K 20 3,00 м | C32: 388.49 | D32: =IF(C32="","",5*ROUND(C32*$C$8/5,2)) -> 18690.25 | E32: =D32*1.2 -> 22428.3 | F32: 1500А - 60%ПВ, D електроду круглого(пластинчатого) 8,0 - 19,0 мм(15/20/25 мм - ш, 4/5 мм - в)
A34: 516.D026 | B34: Сопло для круглих вугільних електродів | C34: 17.46 | D34: =IF(C34="","",5*ROUND(C34*$C$8/5,2)) -> 840 | E34: =D34*1.2 -> 1008 | F34: К10 / К12
A36: Маска зварювальника
A37: Сертифікат відповідності вимогам EN 175-2001, EN 379:2003
A38: при замовленні 3 шт. та більше - див. систему знижок
A39: 519.0009.1 | B39: Маска зварювальника ADF 600S диз. ABICOR BINZEL | C39: 117.86 | D39: =IF(C39="","",5*ROUND(C39*$C$8/5,2)) -> 5670.25 | E39: =D39*1.2 -> 6804.3 | F39: тип хамелеон, живлення від сонячної батареї, 1 / 2 / 1 / 2
A40: 519.0012.10 | B40: Захисне скло до маски зварювальника 118х108 | C40: 1.51 | D40: =IF(C40="","",5*ROUND(C40*$C$8/5,2)) -> 72.65 | E40: =D40*1.2 -> 87.18 | F40: зовнішнє
A41: 519.0014.5 | B41: Захисне скло до маски зварювальника 96х47 | C41: 1.12 | D41: =IF(C41="","",5*ROUND(C41*$C$8/5,2)) -> 53.9 | E41: =D41*1.2 -> 64.68 | F41: внутрішнє
A43: Вугільні електроди ABIARC® з мідним покриттям
A44: для постійного струму (DC)
A45: при замовленні 200 шт. та більше - див. систему знижок
A46: 515.0015 | B46: D 4,0 х 305 мм | C46: 0.44 | D46: =IF(C46="","",5*ROUND(C46*$C$8/5,2)) -> 21.15 | E46: =D46*1.2 -> 25.38 | F46: 250А
A47: 515.0016 | B47: D 5,0 х 305 мм | C47: 0.44 | D47: =IF(C47="","",5*ROUND(C47*$C$8/5,2)) -> 21.15 | E47: =D47*1.2 -> 25.38 | F47: 300А
A48: 515.0017 | B48: D 6,5 х 305 мм | C48: 0.46 | D48: =IF(C48="","",5*ROUND(C48*$C$8/5,2)) -> 22.15 | E48: =D48*1.2 -> 26.58 | F48: 400А
A49: 515.0018 | B49: D 8,0 х 305 мм | C49: 0.54 | D49: =IF(C49="","",5*ROUND(C49*$C$8/5,2)) -> 26 | E49: =D49*1.2 -> 31.2 | F49: 500А
A50: 515.0019 | B50: D 9,5 х 305 мм | C50: 0.57 | D50: =IF(C50="","",5*ROUND(C50*$C$8/5,2)) -> 27.4 | E50: =D50*1.2 -> 32.88 | F50: 600А
A51: 515.0027 | B51: D 9,5 х 430 мм | C51: 2.2 | D51: =IF(C51="","",5*ROUND(C51*$C$8/5,2)) -> 105.85 | E51: =D51*1.2 -> 127.02 | F51: 600А
A52: 515.0020 | B52: D 13,0 х 355 мм | C52: 1.51 | D52: =IF(C52="","",5*ROUND(C52*$C$8/5,2)) -> 72.65 | E52: =D52*1.2 -> 87.18 | F52: 900А
A53: 515.0028 | B53: D 13,0 х 430 мм | C53: 2.77 | D53: =IF(C53="","",5*ROUND(C53*$C$8/5,2)) -> 133.25 | E53: =D53*1.2 -> 159.9 | F53: 1400А
A54: 515.0029 | B54: D 16,0 х 430 мм | C54: 4.02 | D54: =IF(C54="","",5*ROUND(C54*$C$8/5,2)) -> 193.4 | E54: =D54*1.2 -> 232.08 | F54: 1800А
A55: 515.0030 | B55: D 19,0 х 430 мм | C55: 5.13 | D55: =IF(C55="","",5*ROUND(C55*$C$8/5,2)) -> 246.8 | E55: =D55*1.2 -> 296.16 | F55: 2000А
A57: з алюмінієвим стрижнем
A58: 515.Z501.50 | B58: D 8,0 х 305 мм | C58: 0.24 | D58: =IF(C58="","",5*ROUND(C58*$C$8/5,2)) -> 11.55 | E58: =D58*1.2 -> 13.86 | F58: 500А
A60: Зажими маси
A61: Відповідають вимогам ДСТУ EN 60974-13:2014
A62: при замовленні 100 шт. та більше - див. систему знижок
A63: 513.0001 | B63: МК 150 | C63: 4.17 | D63: =IF(C63="","",5*ROUND(C63*$C$8/5,2)) -> 200.6 | E63: =D63*1.2 -> 240.72 | F63: 150А - 60% ПВ болт М6
A64: 513.0002 | B64: МК 200 | C64: 5.71 | D64: =IF(C64="","",5*ROUND(C64*$C$8/5,2)) -> 274.7 | E64: =D64*1.2 -> 329.64 | F64: 200А - 60% ПВ болт М8
A65: 513.0012.1 | B65: МК 300 | C65: 6.05 | D65: =IF(C65="","",5*ROUND(C65*$C$8/5,2)) -> 291.05 | E65: =D65*1.2 -> 349.26 | F65: 250А - 60% ПВ болт М8
A66: 513.0014.1 | B66: МК 400 | C66: 6.62 | D66: =IF(C66="","",5*ROUND(C66*$C$8/5,2)) -> 318.5 | E66: =D66*1.2 -> 382.2 | F66: 250А - 60% ПВ болт М10
A67: 513.0003 | B67: МК 400 | C67: 7.41 | D67: =IF(C67="","",5*ROUND(C67*$C$8/5,2)) -> 356.5 | E67: =D67*1.2 -> 427.8 | F67: 400А - 60% ПВ болт М8
A68: 513.0004 | B68: МК 600 | C68: 7.9 | D68: =IF(C68="","",5*ROUND(C68*$C$8/5,2)) -> 380.05 | E68: =D68*1.2 -> 456.06 | F68: 600А - 60% ПВ болт М10
A69: 513.0027.1 | B69: МК 400 гвинтовий тип | C69: 11.26 | D69: =IF(C69="","",5*ROUND(C69*$C$8/5,2)) -> 541.7 | E69: =D69*1.2 -> 650.04 | F69: 400А - 60% ПВ
A70: 513.0026.1 | B70: МК 500 гвинтовий тип | C70: 32.2 | D70: =IF(C70="","",5*ROUND(C70*$C$8/5,2)) -> 1549.15 | E70: =D70*1.2 -> 1858.98 | F70: 500А - 60% ПВ
A71: 513.0024.1 | B71: МК 600 струбцина | C71: 21.94 | D71: =IF(C71="","",5*ROUND(C71*$C$8/5,2)) -> 1055.55 | E71: =D71*1.2 -> 1266.66 | F71: 600А
A73: Магнітні зажими маси
A74: Відповідають вимогам ДСТУ EN 60974-13:2014
A75: 513.0029.1 | B75: Магнітний зажим маси МК 600 | C75: 13.58 | D75: =IF(C75="","",5*ROUND(C75*$C$8/5,2)) -> 653.35 | E75: =D75*1.2 -> 784.02 | F75: 600А - 35% ПВ, 400А - 60% ПВ
A77: Байонетні штекера/гнізда
A78: Відповідають вимогам ДСТУ EN 60974-12:2014 | F78: Січення (мм²) - навантаження (А)
A79: 511.0305 | B79: штекер ABI-CM / BSB 10-25 | C79: 2.91 | D79: =IF(C79="","",5*ROUND(C79*$C$8/5,2)) -> 140 | E79: =D79*1.2 -> 168 | F79: до 10 мм² - 125А, 10-16 мм² - 150А, 16-25 мм² - 200А
A80: 511.0315 | B80: штекер ABI-CM / BSB 35-50 | C80: 4.52 | D80: =IF(C80="","",5*ROUND(C80*$C$8/5,2)) -> 217.45 | E80: =D80*1.2 -> 260.94 | F80: 25-35 мм² - 250А, 35-50 мм² - 300А
A81: 511.0331 | B81: штекер ABI-CM / BSB 50-70 | C81: 5.33 | D81: =IF(C81="","",5*ROUND(C81*$C$8/5,2)) -> 256.45 | E81: =D81*1.2 -> 307.74 | F81: 50-70 мм² - 400А
A82: 511.0342 | B82: штекер ABI-CM / BSB 70-95 | C82: 6.17 | D82: =IF(C82="","",5*ROUND(C82*$C$8/5,2)) -> 296.85 | E82: =D82*1.2 -> 356.22 | F82: 70-90 мм² - 500А
A83: 511.0303 | B83: гніздо ABI-CF / BB 10-25 | C83: 2.85 | D83: =IF(C83="","",5*ROUND(C83*$C$8/5,2)) -> 137.1 | E83: =D83*1.2 -> 164.52 | F83: до 10 мм² - 125А, 10-16 мм² - 150А, 16-25 мм² - 200А
A84: 511.0313 | B84: гніздо ABI-CF / ВВ 35-50 | C84: 5 | D84: =IF(C84="","",5*ROUND(C84*$C$8/5,2)) -> 240.55 | E84: =D84*1.2 -> 288.66 | F84: 25-35 мм² - 250А, 35-50 мм² - 300А
A85: 511.0329 | B85: гніздо ABI-CF / ВВ 50-70 | C85: 5.65 | D85: =IF(C85="","",5*ROUND(C85*$C$8/5,2)) -> 271.8 | E85: =D85*1.2 -> 326.16 | F85: 50-70 мм² - 400А
A86: 511.0340 | B86: гніздо ABI-CF / ВВ 70-95 | C86: 6.41 | D86: =IF(C86="","",5*ROUND(C86*$C$8/5,2)) -> 308.4 | E86: =D86*1.2 -> 370.08 | F86: 70-90 мм² - 500А
A87: 511.0304 | B87: гніздо ABI-IF / BЕB 10-25 | C87: 3.23 | D87: =IF(C87="","",5*ROUND(C87*$C$8/5,2)) -> 155.4 | E87: =D87*1.2 -> 186.48 | F87: до 10 мм² - 125А, 10-16 мм² - 150А, 16-25 мм² - 200А
A88: 511.0314 | B88: гніздо ABI-IF / BЕB 35-50 | C88: 4.23 | D88: =IF(C88="","",5*ROUND(C88*$C$8/5,2)) -> 203.5 | E88: =D88*1.2 -> 244.2 | F88: 25-35 мм² - 250А, 35-50 мм² - 300А
A89: 511.0330 | B89: гніздо ABI-IF / BЕB 50-70 | C89: 4.91 | D89: =IF(C89="","",5*ROUND(C89*$C$8/5,2)) -> 236.2 | E89: =D89*1.2 -> 283.44 | F89: 50-70 мм² - 400А
A90: 511.0309 | B90: гніздо ABI-IF / BЕB 70-95 | C90: 7.56 | D90: =IF(C90="","",5*ROUND(C90*$C$8/5,2)) -> 363.7 | E90: =D90*1.2 -> 436.44 | F90: 70-90 мм² - 500А
A92: Редуктора "HERCULES" виробник "GCE", Німеччина
A93: Сертифікат відповідності вимогам EN 19:2009, EN 12266-1:2015
A94: 514.D032 | B94: Редуктор О2 (кисень) | C94: 86 | D94: =IF(C94="","",5*ROUND(C94*$C$8/5,2)) -> 4137.45 | E94: =D94*1.2 -> 4964.94
A95: 514.D033 | B95: Редуктор Acetylen (ацетилен) | C95: 88.65 | D95: =IF(C95="","",5*ROUND(C95*$C$8/5,2)) -> 4264.95 | E95: =D95*1.2 -> 5117.94
A96: 514.D034 | B96: Редуктор Propan (пропан) | C96: 85.28 | D96: =IF(C96="","",5*ROUND(C96*$C$8/5,2)) -> 4102.8 | E96: =D96*1.2 -> 4923.36
A97: 514.D051 | B97: Редуктор Ar/CO2 (аргон / вуглекислота) | C97: 86 | D97: =IF(C97="","",5*ROUND(C97*$C$8/5,2)) -> 4137.45 | E97: =D97*1.2 -> 4964.94
A98: 514.Z516.1 | B98: Редуктор ECOMAT 2000 Ar/CO2 (аргон / вуглекислота) | C98: 336.79 | D98: =IF(C98="","",5*ROUND(C98*$C$8/5,2)) -> 16202.95 | E98: =D98*1.2 -> 19443.54 | F98: Економія газу до 50%
A99: 514.Z511.1 | B99: Ізоляційне кільце | C99: 0.97 | D99: =IF(C99="","",5*ROUND(C99*$C$8/5,2)) -> 46.65 | E99: =D99*1.2 -> 55.98
A101: Манометри вир. WIKA Alexander Wiegand CE & Co.KG, Німеччина
A102: 514.Z528.1 | B102: Манометр 0...315 бар G1/4 | C102: 24.15 | D102: =IF(C102="","",5*ROUND(C102*$C$8/5,2)) -> 1161.85 | E102: =D102*1.2 -> 1394.22 | F102: Редуктор Ar/CO2 (аргон / вуглекислота)
A103: 514.Z533.1 | B103: Манометр 0…30/32 л/хв G1/4 | C103: 24.15 | D103: =IF(C103="","",5*ROUND(C103*$C$8/5,2)) -> 1161.85 | E103: =D103*1.2 -> 1394.22

Sheet ROBO&Hard Auto
C7: Курс | D7: =MIG_MAG!D7 -> 45323 | E7: грн/€
A8: www.binzel-abicor.com | C8: 48.11 | D8: Поточний уточнюйте
A9: Ідент.№ | B9: Найменування | C9: Ціна без ПДВ | E9: Ціна з ПДВ, грн/шт. | F9: Примітки
C10: €/шт. | D10: грн./шт.
A11: Проспект: | B11: https://abidoc.binzel-abicor.com/uploads/ABIDOC/HARD_AUTOMATION/ABICAR/Prospekte/PRO_H003_UK_ABICAR_WEB.pdf
A12: Трактори зварювальні
A13: 522.0179.1 | B13: Трактор ABICAR ADVANCED | C13: 3743.25 | D13: =IF(C13="","",5*ROUND(C13*$C$8/5,2)) -> 180087.75 | E13: =D13*1.2 -> 216105.3 | F13: 100 - 110 см/хв, цифрова індикація, стабілізація швидкості сервомотора, пам'ять останніх налаштувань
A14: 522.0181.1 | B14: Трактор ABICAR 1200 PRO | C14: 5280.45 | D14: =IF(C14="","",5*ROUND(C14*$C$8/5,2)) -> 254042.45 | E14: =D14*1.2 -> 304850.94 | F14: 110 - 120 см/хв, текстовий дисплей, програмований
A15: 522.0183.1 | B15: Осцилятор | C15: 1948.8 | D15: =IF(C15="","",5*ROUND(C15*$C$8/5,2)) -> 93756.75 | E15: =D15*1.2 -> 112508.1 | F15: до ABICAR 1200 PRO, амплітуда 11° / 1-30 мм, швидкість коливань 7 – 164 циклів/хв
A17: Комплектуючі ABICAR
A18: 522.0192.1 | B18: Кріплення двох пальників | C18: 1779.75 | D18: =IF(C18="","",5*ROUND(C18*$C$8/5,2)) -> 85623.75 | E18: =D18*1.2 -> 102748.5
A19: 522.0190.2 | B19: Направляючий кронштейн для кромки | C19: 100.03 | D19: =IF(C19="","",5*ROUND(C19*$C$8/5,2)) -> 4812.45 | E19: =D19*1.2 -> 5774.94 | F19: ABICAR ADVANCED
A20: 522.0197.2 | B20: Направляючий кронштейн для кромки | C20: 138.88 | D20: =IF(C20="","",5*ROUND(C20*$C$8/5,2)) -> 6681.5 | E20: =D20*1.2 -> 8017.8 | F20: ABICAR PRO
A21: 895.0021.1 | B21: Тримач пальника | C21: 603.75 | D21: =IF(C21="","",5*ROUND(C21*$C$8/5,2)) -> 29046.4 | E21: =D21*1.2 -> 34855.68 | F21: для пальників ABIMIG AT/WT зі збереженням точки TCP
A23: Комплекти обладнання для роботизованих комплексів
A24: склад: роботизований пальник в зборі з кріпленням до маніпулятора та шлангпакетом, подаючий механізм з платформою, подаючим каналом, проміжним шлангпакетом та джерело з відповідним інтерфейсом
A25: PAK.0001.1 | B25: PAKiROB - 400 ETH - IP - iSTM - A500 - 22 | C25: 16050.3 | D25: =IF(C25="","",5*ROUND(C25*$C$8/5,2)) -> 772179.95 | E25: =D25*1.2 -> 926615.94 | F25: FANUC® ArcM100iC/12 - StLin 3m - 1,2 St.
A26: PAK.0002.1 | B26: PAKiROB - 500 ETH - IP - iSTM - W500 - 22 | C26: 18055.8 | D26: =IF(C26="","",5*ROUND(C26*$C$8/5,2)) -> 868664.55 | E26: =D26*1.2 -> 1042397.5 | F26: FANUC® ArcM100iC/12 - StLin 3m - 1,2 St
A27: PAK.0003.1 | B27: PAKiROB - 400 ETH - IP - iSTM - A500 - 22 | C27: 16050.3 | D27: =IF(C27="","",5*ROUND(C27*$C$8/5,2)) -> 772179.95 | E27: =D27*1.2 -> 926615.94 | F27: FANUC® ArcM120iC/12L- StLin 3m - 1,2 St.
A28: PAK.0004.1 | B28: PAKiROB - 500 ETH - IP - iSTM - W500 - 22 | C28: 18055.8 | D28: =IF(C28="","",5*ROUND(C28*$C$8/5,2)) -> 868664.55 | E28: =D28*1.2 -> 1042397.5 | F28: FANUC® ArcM120iC/12L- StLin 3m - 1,2 St.
A29: PAK.0005.1 | B29: PAKiROB - 400 DEV - IP - iSTM - A500 - 22 | C29: 16050.3 | D29: =IF(C29="","",5*ROUND(C29*$C$8/5,2)) -> 772179.95 | E29: =D29*1.2 -> 926615.94 | F29: ABB® IRB 1600 ID - StLin 3m - 1,2 St.
A30: PAK.0006.1 | B30: PAKiROB - 500 DEV - IP - iSTM - W500 - 22 | C30: 18055.8 | D30: =IF(C30="","",5*ROUND(C30*$C$8/5,2)) -> 868664.55 | E30: =D30*1.2 -> 1042397.5 | F30: ABB® IRB 1600 ID - StLin 3m - 1,2 St.
A31: PAK.0007.1 | B31: PAKiROB - 400 DEV - IP - iSTM - A500 - 22 | C31: 16050.3 | D31: =IF(C31="","",5*ROUND(C31*$C$8/5,2)) -> 772179.95 | E31: =D31*1.2 -> 926615.94 | F31: ABB® IRB 2600ID8/2.0 - StLin 3m - 1,2 St.
A32: PAK.0008.1 | B32: PAKiROB - 500 DEV - IP - iSTM - W500 - 22 | C32: 18055.8 | D32: =IF(C32="","",5*ROUND(C32*$C$8/5,2)) -> 868664.55 | E32: =D32*1.2 -> 1042397.5 | F32: ABB® IRB 2600ID8/2.0 - StLin 3m - 1,2 St.
A33: PAK.0009.1 | B33: PAKiROB - 400 ETH - IP - iCATmini - A500 - 22 | C33: 16050.3 | D33: =IF(C33="","",5*ROUND(C33*$C$8/5,2)) -> 772179.95 | E33: =D33*1.2 -> 926615.94 | F33: Yaskawa® - MA1440 - StLin 3m - 1,2 St.
A34: PAK.0010.1 | B34: PAKiROB - 500 ETH - IP - iCAT - W500 - 22 | C34: 18055.8 | D34: =IF(C34="","",5*ROUND(C34*$C$8/5,2)) -> 868664.55 | E34: =D34*1.2 -> 1042397.5 | F34: Yaskawa® - MA1440 - StLin 3m - 1,2 St.
A35: PAK.0011.1 | B35: PAKiROB - 400 ETH - IP - iCATmini - A500 - 22 | C35: 16050.3 | D35: =IF(C35="","",5*ROUND(C35*$C$8/5,2)) -> 772179.95 | E35: =D35*1.2 -> 926615.94 | F35: Yaskawa® - MA2010 - StLin 3m - 1,2 St.
A36: PAK.0012.1 | B36: PAKiROB - 500 ETH - IP - iCAT - W500 - 22 | C36: 18055.8 | D36: =IF(C36="","",5*ROUND(C36*$C$8/5,2)) -> 868664.55 | E36: =D36*1.2 -> 1042397.5 | F36: Yaskawa® - MA2010 - StLin 3m - 1,2 St.
... A48: PAK.Z017.1 | B48: PAKiROB - 500DEV - IP - CAT3 - W500 - 22 | C48: 18055.8 | D48: =IF(C48="","",5*ROUND(C48*$C$8/5,2)) -> 868664.55 | E48: =D48*1.2 -> 1042397.5 | F48: KUKA® KR150L110--2-2000-StLin3m-1,2St
A49: Каталог: | B49: https://abidoc.binzel-abicor.com/uploads/ABIDOC/ROBOTIC_SYSTEMS/x_Uebersichtskataloge_ROBO/PRO_R143_EN_47_WEB.pdf

Sheet xFUME
C7: Курс | D7: =MIG_MAG!D7 -> 45323 | E7: грн/€
A8: www.binzel-abicor.com | C8: 48.11 | D8: Поточний уточнюйте
A9: Ідент.№ | B9: Найменування | C9: Ціна без ПДВ | E9: Ціна з ПДВ, грн/шт. | F9: Примітки
C10: €/шт. | D10: грн./шт.
A11: Каталог: | B11: https://abidoc.binzel-abicor.com/uploads/ABIDOC/ABSAUGTECHNIK/x_Uebersichtskatalog_xFUME/PRO_E001_EN_xFUME_Catalouge_1_3_WEB.pdf
A12: Димовитяжні установки
A13: 601.0096.1 | B13: xFUME FLEX 2 м | C13: 2341.5 | D13: =IF(C13="","",5*ROUND(C13*$C$8/5,2)) -> 112649.55 | E13: =D13*1.2 -> 135179.46 | F13: телескопічний витяжний рукав, одноразовий знімний фільтр, світлодіодне освітлення, макс. потік - 1200 м3/год
A14: 601.0097.1 | B14: xFUME FLEX 3 м | C14: 2411.85 | D14: =IF(C14="","",5*ROUND(C14*$C$8/5,2)) -> 116034.1 | E14: =D14*1.2 -> 139240.92 | F14: телескопічний витяжний рукав, одноразовий знімний фільтр, світлодіодне освітлення, макс. потік - 1200 м3/год
A15: 601.0098.1 | B15: xFUME FLEX 4 м | C15: 2489.55 | D15: =IF(C15="","",5*ROUND(C15*$C$8/5,2)) -> 119772.25 | E15: =D15*1.2 -> 143726.7 | F15: телескопічний витяжний рукав, одноразовий знімний фільтр, світлодіодне освітлення, макс. потік - 1200 м3/год
A16: 601.0192.1 | B16: xFUME ADVANCED | C16: 3849.3 | D16: =IF(C16="","",5*ROUND(C16*$C$8/5,2)) -> 185189.8 | E16: =D16*1.2 -> 222227.76 | F16: під'єднання одного/двох пальників, автоматичне очищення фільтрів імпульсами стистненого повітря, автоматичне керування, макс. потік - 340 м3/год
A17: 601.0071.1 | B17: FEС | C17: 2989.35 | D17: =IF(C17="","",5*ROUND(C17*$C$8/5,2)) -> 143817.65 | E17: =D17*1.2 -> 172581.18 | F17: автоматичне керування (опція), фільтр багаторазового використання, індикатор заповнення, система "циклон", підвищена продуктивність, макс. потік - 230 м3/год
A18: 601.0041.1 | B18: Шунт FEC | C18: 305.55 | D18: =IF(C18="","",5*ROUND(C18*$C$8/5,2)) -> 14700 | E18: =D18*1.2 -> 17640 | F18: для автоматичного включення/вимкнення димовитяжної установки при зварюванні/паузі
A20: Комплектуючі
A21: 601.0076.1 | B21: Основний фільтр H13 | C21: 493.03 | D21: =IF(C21="","",5*ROUND(C21*$C$8/5,2)) -> 23719.65 | E21: =D21*1.2 -> 28463.58 | F21: FEC
A22: 601.0119.10 | B22: Попередній фільтр нетканий | C22: 15.12 | D22: =IF(C22="","",5*ROUND(C22*$C$8/5,2)) -> 727.4 | E22: =D22*1.2 -> 872.88 | F22: FLEX
A23: 601.0142.1 | B23: Попередній фільтр (каркас - метал. сітка) | C23: 502.94 | D23: =IF(C23="","",5*ROUND(C23*$C$8/5,2)) -> 24196.45 | E23: =D23*1.2 -> 29035.74 | F23: FLEX багаторазовий
A24: 601.0112.1 | B24: Фільтр-касета | C24: 462.56 | D24: =IF(C24="","",5*ROUND(C24*$C$8/5,2)) -> 22253.75 | E24: =D24*1.2 -> 26704.5 | F24: FLEX
A25: 601.0111.1 | B25: Фільтр-картридж | C25: 226.07 | D25: =IF(C25="","",5*ROUND(C25*$C$8/5,2)) -> 10876.25 | E25: =D25*1.2 -> 13051.5 | F25: ADVANCED
A26: 601.0108.1 | B26: Вугільна щітка | C26: 33.92 | D26: =IF(C26="","",5*ROUND(C26*$C$8/5,2)) -> 1631.9 | E26: =D26*1.2 -> 1958.28 | F26: ADVANCED
A27: 601.0109.1 | B27: Двигун 230 В | C27: 463.65 | D27: =IF(C27="","",5*ROUND(C27*$C$8/5,2)) -> 22306.2 | E27: =D27*1.2 -> 26767.44 | F27: ADVANCED
A28: 601.0116.1 | B28: Фітінг-муфта | C28: 30.11 | D28: =IF(C28="","",5*ROUND(C28*$C$8/5,2)) -> 1448.6 | E28: =D28*1.2 -> 1738.32 | F28: ADVANCED
A29: 601.0114.1 | B29: Кришка-заглушка | C29: 6.66 | D29: =IF(C29="","",5*ROUND(C29*$C$8/5,2)) -> 320.4 | E29: =D29*1.2 -> 384.48 | F29: ADVANCED
A31: Пальники з димовідведенням
A32: 604.0144.1 | B32: Пальник xFUME COMPACT 25 4,00м | C32: 425.24 | D32: =IF(C32="","",5*ROUND(C32*$C$8/5,2)) -> 20458.3 | E32: =D32*1.2 -> 24549.96
A33: 614.0262.1 | B33: Пальник xFUME PRO 36 4,00 м | C33: 504.5 | D33: =IF(C33="","",5*ROUND(C33*$C$8/5,2)) -> 24271.5 | E33: =D33*1.2 -> 29125.8
A34: 634.0207.1 | B34: Пальник xFUME PRO 501 4,00 м | C34: 534.9 | D34: =IF(C34="","",5*ROUND(C34*$C$8/5,2)) -> 25734.05 | E34: =D34*1.2 -> 30880.86
A35: 982.0001.1 | B35: Пальник xFUME AUT 501 4,00 м | C35: 559.52 | D35: =IF(C35="","",5*ROUND(C35*$C$8/5,2)) -> 26918.5 | E35: =D35*1.2 -> 32302.2
A36: 7X6.SH.046.85.00.63D.0601 | B36: Пальник ABITIG 150 xFUME 4,00м 35-50 | C36: 553.88 | D36: =IF(C36="","",5*ROUND(C36*$C$8/5,2)) -> 26647.15 | E36: =D36*1.2 -> 31976.58
A37: 7X6.SH.046.52.00.000.0601 | B37: Пальник ABITIG 150 xFUME 4,00м 35-50 | C37: 524.38 | D37: =IF(C37="","",5*ROUND(C37*$C$8/5,2)) -> 25227.9 | E37: =D37*1.2 -> 30273.48
A38: 7X7.SH.046.85.01.63D.2001 | B38: Пальник ABITIG 260W xFUME 4,00м 35-50 | C38: 661.22 | D38: =IF(C38="","",5*ROUND(C38*$C$8/5,2)) -> 31811.3 | E38: =D38*1.2 -> 38173.56
A39: 7X7.SH.046.52.01.000.2001 | B39: Пальник ABITIG 260W xFUME 4,00м 35-50 | C39: 631.72 | D39: =IF(C39="","",5*ROUND(C39*$C$8/5,2)) -> 30392.05 | E39: =D39*1.2 -> 36470.46
A41: Набори витяжних шлангів
A42: 601.0015.1 | B42: Шланг 5 м компл. фітінгами | C42: 212.3 | D42: =IF(C42="","",5*ROUND(C42*$C$8/5,2)) -> 10213.75 | E42: =D42*1.2 -> 12256.5 | F42: FEC/ADVANCED
