Workbook

Sheet Система знижок
A7: www.binzel-abicor.com | C7: коефіцієнт
A8: MIG/MAG | B8: кількість, шт. | C8: дод. знижки
A9: Зварювальні пальники | B9: 3 та більше одного артикулу або | C9: 0.05
B10: 5 та більше в асортименті
A11: Накінечники всіх типів | B11: від 50 одного артикулу | C11: 0.1
B12: від 100 одного артикулу | C12: 0.15
B13: від 300 одного артикулу | C13: 0.2
B14: від 500 одного артикулу | C14: 0.3
B15: від 1000 одного артикулу | C15: 0.35
A16: Спіралі м.п. всіх типів | B16: від 100 м.п. одного артикулу | C16: 0.05
B17: від 200 м.п. одного артикулу | C17: 0.1
B18: 200 м.п. в асортименті | C18: 0.05
B19: 300 м.п. в асортименті | C19: 0.1
A20: Спіралі шт. всіх типів | B20: від 20 одного артикулу | C20: 0.05
B21: від 30 одного артикулу | C21: 0.1
A22: Вставки для накінечників всіх типів | B22: від 50 одного артикулу | C22: 0.05
A23: Сопла газові всіх типів | B23: від 50 одного артикулу | C23: 0.05
A24: WIG/TIG | B24: кількість, шт.
A25: Зварювальні пальники | B25: 3 та більше одного артикулу або | C25: 0.05
B26: в асортименті
A27: Керамічні сопла всіх типів | B27: від 50 одного артикулу | C27: 0.05
A28: Вольфрамові електроди тип WR2, Е3, WP | B28: 30 та більше в ассортименті | C28: 0.05
B29: 70 та більше в ассортименті | C29: 0.1
B30: від 50 одного артикулу | C30: 0.1
B31: від 70 одного артикулу | C31: 0.2
B32: від 100 одного артикулу | C32: 0.3
B33: від 200 одного артикулу | C33: 0.5
A34: PLASMA | B34: кількість, шт.
A35: Плазмотрони | B35: від 2 одного артикулу | C35: 0.05
A36: Плазменні електроди | B36: від 50 одного артикулу | C36: 0.05
A37: Плазменні сопла | B37: від 50 одного артикулу | C37: 0.05
A38: Приладдя | B38: кількість, шт.
A39: Блоки примусового охолодження CR1000 / CR 1250 | B39: від 2 одного артикулу | C39: 0.05
A40: Електродотримачі | B40: 50 та більше одного артикулу або | C40: 0.05
B41: 100 та більше в асортименті
B42: 100 та більше одного артикулу або | C42: 0.1
B43: 150 та більше в асортименті
A44: Клеми | B44: 50 та більше одного артикулу або | C44: 0.05
B45: 100 та більше в асортименті
A46: Вугільні електроди | B46: від 200 одного артикулу | C46: 0.1
...

Sheet ABICLEANER NEW!
A6: Проспект: | B6: https://abidoc.binzel-abicor.com/uploads/ABIDOC/ZUBEHOER/Schweissnahtbearbeitung/ABICLEANER/Prospekte/PRO_A092_EN_ABICLEANER_WEB.pdf
C7: Курс | D7: =MIG_MAG!D7 -> 45323 | E7: грн/€
A8: www.binzel-abicor.com | C8: 48.11 | D8: Поточний уточнюйте
A9: Ідент.№ | B9: Найменування | C9: Ціна без ПДВ | E9: Ціна з ПДВ, грн/шт. | F9: Примітки
C10: €/шт. | D10: грн./шт.
A12: Апарати для електрохімічного очищення, пасивування та полірування нержавіючих сталей
A13: 192.0362.1 | B13: Апарат ABICLEANER 800 AC | C13: 1069.21 | D13: =IF(C13="","",5*ROUND(C13*$C$8/5,2)) -> 51439.7 | E13: =D13*1.2 -> 61727.64 | F13: Функція очищення; Uвх = 230 В, 800 ВА, Uвих = 8,7 В AC, вага 4,9 кг
A14: 192.0364.1 | B14: Апарат ABICLEANER 1000 AC/DC | C14: 1744.49 | D14: =IF(C14="","",5*ROUND(C14*$C$8/5,2)) -> 83927.4 | E14: =D14*1.2 -> 100712.88 | F14: Функції очищення, полірування; Uвх = 230 В, 1000 ВА, Uвих = 9,8 В AC / 12 В DC, вага 7,5 кг
A16: Комплектуючі та витратні матеріали
A17: 192.0369.1 | B17: Електроліт ABICLEAN універсальний, 1 л | C17: 31.64 | D17: =IF(C17="","",5*ROUND(C17*$C$8/5,2)) -> 1522.2 | E17: =D17*1.2 -> 1826.64
A18: 192.0378.1 | B18: Електроліт ABICLEAN 5л. | C18: 143.48 | D18: =IF(C18="","",5*ROUND(C18*$C$8/5,2)) -> 6902.8 | E18: =D18*1.2 -> 8283.36
A19: 192.0370.1 | B19: Ємність з широким горлом | C19: 8.34 | D19: =IF(C19="","",5*ROUND(C19*$C$8/5,2)) -> 401.25 | E19: =D19*1.2 -> 481.5
A20: 192.0367.5 | B20: Щітка із вуглецевого волокна ABIBRUSH | C20: 31.92 | D20: =IF(C20="","",5*ROUND(C20*$C$8/5,2)) -> 1535.65 | E20: =D20*1.2 -> 1842.78 | F20: 1,5 млн щетинок
A21: 192.0365.1 | B21: Рукоятка ABICLEANER з кабелем 10 мм2, 4 м | C21: 330.26 | D21: =IF(C21="","",5*ROUND(C21*$C$8/5,2)) -> 15888.8 | E21: =D21*1.2 -> 19066.56
A22: 192.0368.1 | B22: PTFE-муфта | C22: 83.36 | D22: =IF(C22="","",5*ROUND(C22*$C$8/5,2)) -> 4010.45 | E22: =D22*1.2 -> 4812.54

Sheet MIG_MAG
C7: Курс | D7: 45323 | E7: грн/€
A8: www.binzel-abicor.com | C8: 48.11 | D8: Поточний уточнюйте
A9: Ідент.№ | B9: Найменування | C9: Ціна без ПДВ | E9: Ціна з ПДВ, грн/шт. | F9: Примітки
C10: €/шт. | D10: грн./шт.
A11: Каталог: | B11: https://abidoc.binzel-abicor.com/uploads/ABIDOC/MANUELL/MIGMAG/x_Uebersichtskataloge_MIG_MAG/PRO_M277_EN_MIG_MAG_WEB.pdf
A12: Зварювальні пальники MIG/MAG (Зварювання в СО2 / газова суміш (М21)*, газове охолодження) - серій RF GRIP, MB EVO/EVO PRO, RB, ABIMIG® A/GRIP A, ABIMIG® AT
A13: * зменшення вказаного граничного навантаження пальника на 30%
A14: Сертифікат відповідності вимогам ДСТУ EN 60974-7:2015, ДСТУ EN 60974-10:2015
A15: при замовленні 5 шт. та більше - див. систему знижок | C15: =C8 -> 48.11
A16: 006.D428.0 | B16: RV 13 2,50 м KP - CN frei | C16: 48.2 | D16: =IF(C16="","",5*ROUND(C16*$C$8/5,2)) -> 2318.9 | E16: =D16*1.2 -> 2782.68 | F16: 130А - 60% ПВ, D 0,6 - 0,8 KP - керування подаванням газу клапаном
A18: 006.D856.1 | B18: MB 14 AK 2,50 м B2 - EA (M12x1x28) | C18: 61.24 | D18: =IF(C18="","",5*ROUND(C18*$C$8/5,2)) -> 2946.25 | E18: =D18*1.2 -> 3535.5 | F18: 130А - 60% ПВ, D 0,6 - 0,8
A19: 006.D753 | B19: MB 14 L 3,00 м B2 - EA (M12x1x30) | C19: 66.28 | D19: =IF(C19="","",5*ROUND(C19*$C$8/5,2)) -> 3188.75 | E19: =D19*1.2 -> 3826.5 | F19: 130А - 60% ПВ, D 0,6 - 0,8
A21: 006.D416 | B21: МВ 14АК 3,00 м L - SE (M10x1x24) | C21: 79.01 | D21: =IF(C21="","",5*ROUND(C21*$C$8/5,2)) -> 3801.15 | E21: =D21*1.2 -> 4561.38 | F21: 160А - 60% ПВ, D 0,6 - 1,0
A23: 002.0712.05 | B23: МВ EVO PRO 15 3,00 м - KZ-2 FK | C23: 88.69 | D23: =IF(C23="","",5*ROUND(C23*$C$8/5,2)) -> 4266.9 | E23: =D23*1.2 -> 5120.28 | F23: 180А - 60% ПВ, D 0,6 - 1,0 BIKOX® - R
A24: 002.0713.1 | B24: МВ EVO PRO 15 4,00 м - KZ-2 FK | C24: 95.31 | D24: =IF(C24="","",5*ROUND(C24*$C$8/5,2)) -> 4585.35 | E24: =D24*1.2 -> 5502.42 | F24: 180А - 60% ПВ, D 0,6 - 1,0 BIKOX® - R
A25: 002.0714.1 | B25: МВ EVO PRO 15 5,00 м - KZ-2 FK | C25: 101.95 | D25: =IF(C25="","",5*ROUND(C25*$C$8/5,2)) -> 4904.8 | E25: =D25*1.2 -> 5885.76 | F25: 180А - 60% ПВ, D 0,6 - 1,0 BIKOX® - R
A26: 002.0729.1 | B26: МВ EVO 15 3,00 м - PDG 309 | C26: 88.69 | D26: =IF(C26="","",5*ROUND(C26*$C$8/5,2)) -> 4266.9 | E26: =D26*1.2 -> 5120.28 | F26: 180А - 60% ПВ, D 0,6 - 1,0 BIKOX® - R
A27: 002.0739.1 | B27: МВ EVO PRO 15 4,00 м - PDG 309 | C27: 95.31 | D27: =IF(C27="","",5*ROUND(C27*$C$8/5,2)) -> 4585.35 | E27: =D27*1.2 -> 5502.42 | F27: 180А - 60% ПВ, D 0,6 - 1,0 BIKOX® - R
A28: 002.0740.1 | B28: МВ EVO PRO 15 5,00 м - PDG 309 | C28: 101.95 | D28: =IF(C28="","",5*ROUND(C28*$C$8/5,2)) -> 4904.8 | E28: =D28*1.2 -> 5885.76 | F28: 180А - 60% ПВ, D 0,6 - 1,0 BIKOX® - R
A30: 767.D923.1 | B30: ABIMIG® GRIP A 155 LW 3,00 м - PDG-309 | C30: 95.71 | D30: =IF(C30="","",5*ROUND(C30*$C$8/5,2)) -> 4604.6 | E30: =D30*1.2 -> 5525.52 | F30: 190А - 60% ПВ, D 0,6 - 1,0 BIKOX® - Low Weight
A31: 767.0008.1 | B31: ABIMIG® GRIP A 155 LW 4,00 м - PDG-309 | C31: 107.57 | D31: =IF(C31="","",5*ROUND(C31*$C$8/5,2)) -> 5175.2 | E31: =D31*1.2 -> 6210.24 | F31: 190А - 60% ПВ, D 0,6 - 1,0 BIKOX® - Low Weight
... A66: 767.D672.1 | B66: ABIMIG® GRIP A 305 LW 3,00 м - PDG-309 | C66: 163.79 | D66: =IF(C66="","",5*ROUND(C66*$C$8/5,2)) -> 7879.95 | E66: =D66*1.2 -> 9455.94 | F66: 315А - 60% ПВ, D 0,8 - 1,2 BIKOX® - Low Weight
D67: =IF(C67="","",5*ROUND(C67*$C$8/5,2))
A68: 767.0036.1 | B68: ABIMIG® A 305 LW 3,00 м - KZ-2 | C68: 159.02 | D68: =IF(C68="","",5*ROUND(C68*$C$8/5,2)) -> 7650.45 | E68: =D68*1.2 -> 9180.54 | F68: 315А - 60% ПВ, D 0,8 - 1,2 BIKOX® - Low Weight тип рукоятки A/AT
A69: 767.0037.1 | B69: ABIMIG® A 305 LW 4,00 м - KZ-2 | C69: 177.3 | D69: =IF(C69="","",5*ROUND(C69*$C$8/5,2)) -> 8529.9 | E69: =D69*1.2 -> 10235.88 | F69: 315А - 60% ПВ, D 0,8 - 1,2 BIKOX® - Low Weight тип рукоятки A/AT
A70: 767.0038.1 | B70: ABIMIG® A 305 LW 5,00 м - KZ-2 | C70: 195.54 | D70: =IF(C70="","",5*ROUND(C70*$C$8/5,2)) -> 9407.45 | E70: =D70*1.2 -> 11288.94 | F70: 315А - 60% ПВ, D 0,8 - 1,2 BIKOX® - Low Weight тип рукоятки A/AT
A72: 018.D960.05 | B72: ABIMIG® AT 305 LW 3,00 м - KZ-2 | C72: 163.79 | D72: =IF(C72="","",5*ROUND(C72*$C$8/5,2)) -> 7879.95 | E72: =D72*1.2 -> 9455.94 | F72: 320А - 60% ПВ, D 0,8 - 1,2 BIKOX® - Low Weight Т - поворотний гусак
A73: 018.D961.1 | B73: ABIMIG® AT 305 LW 4,00 м - KZ-2 | C73: 182.63 | D73: =IF(C73="","",5*ROUND(C73*$C$8/5,2)) -> 8786.35 | E73: =D73*1.2 -> 10543.62 | F73: 320А - 60% ПВ, D 0,8 - 1,2 BIKOX® - Low Weight Т - поворотний гусак
A74: 018.D962.1 | B74: ABIMIG® AT 305 LW 5,00 м - KZ-2 | C74: 201.41 | D74: =IF(C74="","",5*ROUND(C74*$C$8/5,2)) -> 9689.85 | E74: =D74*1.2 -> 11627.82 | F74: 320А - 60% ПВ, D 0,8 - 1,2 BIKOX® - Low Weight Т - поворотний гусак
A76: 918.D023.1 | B76: ABIMIG® MTG 305 T 3,00 м - KZ-0 | C76: 178.61 | D76: =IF(C76="","",5*ROUND(C76*$C$8/5,2)) -> 8592.95 | E76: =D76*1.2 -> 10311.54 | F76: 320А - 60% ПВ, D 0,8 - 1,2 Виконання для автоматичного зварювання (без гусака та спіралі)
A78: 767.D660.1 | B78: ABIMIG® GRIP A 305 LW 3,00 м - KZ-2 | C78: 132 | D78: =IF(C78="","",5*ROUND(C78*$C$8/5,2)) -> 6350.5 | E78: =D78*1.2 -> 7620.6 | F78: 315А - 60% ПВ, D 0,8 - 1,2 BIKOX® - Low Weight
A79: 767.D661.1 | B79: ABIMIG® GRIP A 305 LW 4,00 м - KZ-2 | C79: 140.82 | D79: =IF(C79="","",5*ROUND(C79*$C$8/5,2)) -> 6774.85 | E79: =D79*1.2 -> 8129.82 | F79: 315А - 60% ПВ, D 0,8 - 1,2 BIKOX® - Low Weight
A80: 767.D662.1 | B80: ABIMIG® GRIP A 305 LW 5,00 м - KZ-2 | C80: 149.57 | D80: =IF(C80="","",5*ROUND(C80*$C$8/5,2)) -> 7195.8 | E80: =D80*1.2 -> 8634.96 | F80: 315А - 60% ПВ, D 0,8 - 1,2 BIKOX® - Low Weight
A82: 014.0529.1 | B82: МВ EVO PRO 36 3,00 м - KZ-2 | C82: 148.04 | D82: =IF(C82="","",5*ROUND(C82*$C$8/5,2)) -> 7122.2 | E82: =D82*1.2 -> 8546.64 | F82: 320(340А) - 60% ПВ, D 0,8 - 1,2 (1,6) BIKOX® - Low Weight
A83: 014.0530.1 | B83: МВ EVO PRO 36 4,00 м - KZ-2 | C83: 163.08 | D83: =IF(C83="","",5*ROUND(C83*$C$8/5,2)) -> 7845.8 | E83: =D83*1.2 -> 9414.96 | F83: 320(340А) - 60% ПВ, D 0,8 - 1,2 (1,6) BIKOX® - Low Weight
... A130: 913.0015 | B130: AUT 61GD 0˚ 3,00 м - KZ-0 | C130: 519.2 | D130: =IF(C130="","",5*ROUND(C130*$C$8/5,2)) -> 24978.7 | E130: =D130*1.2 -> 29974.44 | F130: 500А - 60% ПВ, D 1,6 - 3,2 AUT - виконання для автоматизованого зварювання
A132: Зварювальні пальники MIG/MAG (з димовідведенням)
A133: 614.0177.1 | B133: RAB GRIP 36 HE 4,00 м - KZ-2 | C133: 530.57 | D133: =IF(C133="","",5*ROUND(C133*$C$8/5,2)) -> 25525.7 | E133: =D133*1.2 -> 30630.84 | F133: 300A - 60% ПВ, D 0,8- 1,2
A135: Зварювальні пальники MIG/MAG (Push-Pull, в комплекті з блоком синхронизації з подаючим механізмом)
A136: 085.0106.1 | B136: РР Plus 36 D 8,00 м - KZ-2 | C136: 1994.52 | D136: =IF(C136="","",5*ROUND(C136*$C$8/5,2)) -> 95956.35 | E136: =D136*1.2 -> 115147.62 | F136: 300A - 60% ПВ, D 0,8-1,2
...

Sheet WIG_TIG
C7: Курс | D7: =MIG_MAG!D7 -> 45323 | E7: грн/€
A8: www.binzel-abicor.com | C8: 48.11 | D8: Поточний уточнюйте
A9: Ідент.№ | B9: Найменування | C9: Ціна без ПДВ | E9: Ціна з ПДВ, грн/шт. | F9: Примітки
C10: €/шт. | D10: грн./шт.
A11: Каталог: | B11: https://abidoc.binzel-abicor.com/uploads/ABIDOC/MANUELL/TIG/x_Uebersichtskataloge_TIG/PRO_W137_EN_TIG_WEB.pdf
A12: Зварювальні пальники WIG/TIG (зварювання неплавким електродом в середовищі інертного газу)
A13: Сертифікат відповідності вимогам ДСТУ EN 60974-7:2015, ДСТУ EN 60974-10:2015
A14: *кінцева вартість пальника формується після комплектації витратними частинами на вибір (Ковпачок, цанга, корпус цанги під діаметр…,
A15: керамічне сопло NW …, а також бажаним типом під'єднання до керування, газу та охолодження)
A16: Всі зварювальні пальники як з роз'ємами 10-25 - штир D9 мм, 35-50/50-70 - штир D13 мм, так і ін. роз'ємами відповідно до типу джерела.
A17: при замовленні 3 шт. та більше - див. систему знижок | C17: =C8 -> 48.11
A18: Керування подачі газу кнопкою, газове охолодження | C18: =C8 -> 48.11
A19: 396.6217 | B19: ABITIG® 9 GRIP 4,00 м 10-25 | C19: 127.92 | D19: =IF(C19="","",5*ROUND(C19*$C$8/5,2)) -> 6154.25 | E19: =D19*1.2 -> 7385.1 | F19: 110А (DC) / 95A (AC) - 35%ПВ, D W-електроду 0,5 - 1,6(3,2) мм (витрати газу 5-12 л/хв)
A20: 7S1.SK.083.52.22.000.01 | B20: ABITIG® 9 GRIP 8,00 м 10-25 | C20: 163.51 | D20: =IF(C20="","",5*ROUND(C20*$C$8/5,2)) -> 7866.45 | E20: =D20*1.2 -> 9439.74 | F20: 110А (DC) / 95A (AC) - 35%ПВ, D W-електроду 0,5 - 1,6(3,2) мм (витрати газу 5-12 л/хв)
A21: 7L1SH.043.52.22.000.01 | B21: ABITIG® 9 GRIP Little 4,00 м (кожа) 10-25 | C21: 185.22 | D21: =IF(C21="","",5*ROUND(C21*$C$8/5,2)) -> 8910.95 | E21: =D21*1.2 -> 10693.14 | F21: 110А (DC) / 95A (AC) - 35%ПВ, D W-електроду 0,5 - 1,6(3,2) мм (витрати газу 5-12 л/хв)
A22: 396.6218 | B22: ABITIG® 17 GRIP 4,00 м 10-25 | C22: 136.53 | D22: =IF(C22="","",5*ROUND(C22*$C$8/5,2)) -> 6568.45 | E22: =D22*1.2 -> 7882.14 | F22: 140А (DC) / 125A (AC) - 35%ПВ, D W-електроду 0,5 - 2,4(4,0) мм (витрати газу 7-15 л/хв)
A23: 396.6219 | B23: ABITIG® 17 GRIP 8,00 м 10-25 | C23: 169.93 | D23: =IF(C23="","",5*ROUND(C23*$C$8/5,2)) -> 8175.35 | E23: =D23*1.2 -> 9810.42 | F23: 140А (DC) / 125A (AC) - 35%ПВ, D W-електроду 0,5 - 2,4(4,0) мм (витрати газу 7-15 л/хв)
A24: 7L2SH.043.52.22.000.01 | B24: ABITIG® 17 GRIP Little 4,00 м (кожа) 10-25 | C24: 197.75 | D24: =IF(C24="","",5*ROUND(C24*$C$8/5,2)) -> 9513.75 | E24: =D24*1.2 -> 11416.5 | F24: 140А (DC) / 125A (AC) - 35%ПВ, D W-електроду 0,5 - 2,4(4,0) мм (витрати газу 7-15 л/хв)
A25: 7S2.FK.043.52.22.000.01 | B25: ABITIG® 17F GRIP 4,00 м 10-25 | C25: 149.51 | D25: =IF(C25="","",5*ROUND(C25*$C$8/5,2)) -> 7192.95 | E25: =D25*1.2 -> 8631.54 | F25: 140А (DC) / 125A (AC) - 35%ПВ, D W-електроду 0,5 - 2,4(4,0) мм (витрати газу 7-15 л/хв)
A26: 7T6SK.043.52.22.000.01 | B26: ABITIG® 150 GRIP 4,00 м 10-25 | C26: 177.43 | D26: =IF(C26="","",5*ROUND(C26*$C$8/5,2)) -> 8536.15 | E26: =D26*1.2 -> 10243.38 | F26: 150А (DC) / 105A (AC) - 35%ПВ, D W-електроду 1,0 - 1,6(3,2) мм (витрати газу 7-15 л/хв)
A27: 7T6…. | B27: ABITIG® 150 GRIP 8,00 м 10-25 | C27: 223.76 | D27: =IF(C27="","",5*ROUND(C27*$C$8/5,2)) -> 10765.1 | E27: =D27*1.2 -> 12918.12 | F27: 150А (DC) / 105A (AC) - 35%ПВ, D W-електроду 1,0 - 1,6(3,2) мм (витрати газу 7-15 л/хв)
A28: 7L6SH.043.52.22.000.01 | B28: ABITIG® 150 GRIP Little 4,00 м (кожа) 10-25 | C28: 259.25 | D28: =IF(C28="","",5*ROUND(C28*$C$8/5,2)) -> 12472.5 | E28: =D28*1.2 -> 14967 | F28: 150А (DC) / 105A (AC) - 35%ПВ, D W-електроду 1,0 - 1,6(3,2) мм (витрати газу 7-15 л/хв)
A29: 396.6167 | B29: ABITIG® 26 GRIP 4,00 м 35-50 | C29: 148.77 | D29: =IF(C29="","",5*ROUND(C29*$C$8/5,2)) -> 7157.3 | E29: =D29*1.2 -> 8588.76 | F29: 180А (DC) / 130A (AC) - 35%ПВ, D W-електроду 0,5 - 4,0 мм (витрати газу 7-18 л/хв)
A30: 7S3.SK.043.52.06.. | B30: ABITIG® 26 GRIP 4,00 м 3/8' | C30: 155.39 | D30: =IF(C30="","",5*ROUND(C30*$C$8/5,2)) -> 7475.8 | E30: =D30*1.2 -> 8970.96 | F30: 180А (DC) / 130A (AC) - 35%ПВ, D W-електроду 0,5 - 4,0 мм (витрати газу 7-18 л/хв)
... A39: 7T4.SK.083.52.00.000.01 | B39: ABITIG® 200 GRIP 8,00 м 35-50 | C39: 250.48 | D39: =IF(C39="","",5*ROUND(C39*$C$8/5,2)) -> 12050.6 | E39: =D39*1.2 -> 14460.72 | F39: 200А (DC) / 140A (AC) - 35%ПВ, D W-електроду 1,6 - 3,2(4,8) мм (витрати газу 7-18 л/хв)
A40: 712.5020 | B40: Головка SRT 9 | C40: 24.24 | D40: =IF(C40="","",5*ROUND(C40*$C$8/5,2)) -> 1166.2 | E40: =D40*1.2 -> 1399.44
A41: 712.5030 | B41: Головка SRT 9 F | C41: 32.02 | D41: =IF(C41="","",5*ROUND(C41*$C$8/5,2)) -> 1540.5 | E41: =D41*1.2 -> 1848.6 | F41: F - гнучка головка
A42: 712.1020 | B42: Головка SRT 17 | C42: 24.24 | D42: =IF(C42="","",5*ROUND(C42*$C$8/5,2)) -> 1166.2 | E42: =D42*1.2 -> 1399.44
A43: 712.1030 | B43: Головка SRT 17 F | C43: 36.9 | D43: =IF(C43="","",5*ROUND(C43*$C$8/5,2)) -> 1775.25 | E43: =D43*1.2 -> 2130.3
A44: 712.4020 | B44: Головка SRT 26 | C44: 26.6 | D44: =IF(C44="","",5*ROUND(C44*$C$8/5,2)) -> 1279.75 | E44: =D44*1.2 -> 1535.7
A45: 712.4030 | B45: Головка SRT 26 F | C45: 41.49 | D45: =IF(C45="","",5*ROUND(C45*$C$8/5,2)) -> 1996.1 | E45: =D45*1.2 -> 2395.32
A46: 776.0010 | B46: Головка ABITIG® GRIP 150 | C46: 55.27 | D46: =IF(C46="","",5*ROUND(C46*$C$8/5,2)) -> 2659.05 | E46: =D46*1.2 -> 3190.86
A47: 774.0010 | B47: Головка ABITIG® GRIP 200 | C47: 48.44 | D47: =IF(C47="","",5*ROUND(C47*$C$8/5,2)) -> 2330.45 | E47: =D47*1.2 -> 2796.54
A49: Керування подачі газу вентилем
A50: 706.5057 | B50: ABITIG 9V 4,00 м 10-25 | C50: 126.36 | D50: =IF(C50="","",5*ROUND(C50*$C$8/5,2)) -> 6079.2 | E50: =D50*1.2 -> 7295.04 | F50: 110А (DC) / 95A (AC) - 35%ПВ, D W-електроду 0,5 - 1,6(3,2) мм (витрати газу 5-12 л/хв)
A51: 706.5058 | B51: ABITIG 9V 8,00 м 10-25 | C51: 160.33 | D51: =IF(C51="","",5*ROUND(C51*$C$8/5,2)) -> 7713.5 | E51: =D51*1.2 -> 9256.2 | F51: 110А (DC) / 95A (AC) - 35%ПВ, D W-електроду 0,5 - 1,6(3,2) мм (витрати газу 5-12 л/хв)
A52: 706.1057 | B52: ABITIG 17V 4,00 м 10-25 | C52: 126.36 | D52: =IF(C52="","",5*ROUND(C52*$C$8/5,2)) -> 6079.2 | E52: =D52*1.2 -> 7295.04 | F52: 140А (DC) / 125A (AC) - 35%ПВ, D W-електроду 0,5 - 2,4(4,0) мм (витрати газу 7-15 л/хв)
A53: 706.1058 | B53: ABITIG 17V 8,00 м 10-25 | C53: 160.33 | D53: =IF(C53="","",5*ROUND(C53*$C$8/5,2)) -> 7713.5 | E53: =D53*1.2 -> 9256.2 | F53: 140А (DC) / 125A (AC) - 35%ПВ, D W-електроду 0,5 - 2,4(4,0) мм (витрати газу 7-15 л/хв)
A54: 706.1157 | B54: ABITIG 17FXV 4,00 м 10-25 | C54: 148.22 | D54: =IF(C54="","",5*ROUND(C54*$C$8/5,2)) -> 7130.85 | E54: =D54*1.2 -> 8557.02 | F54: 140А (DC) / 125A (AC) - 35%ПВ, D W-електроду 0,5 - 2,4(4,0) мм (F - гнучка головка)
A55: 706.1158 | B55: ABITIG 17FXV 8,00 м 10-25 | C55: 182.3 | D55: =IF(C55="","",5*ROUND(C55*$C$8/5,2)) -> 8770.45 | E55: =D55*1.2 -> 10524.54 | F55: 140А (DC) / 125A (AC) - 35%ПВ, D W-електроду 0,5 - 2,4(4,0) мм (F - гнучка головка)
...

Sheet PLASMA
C7: Курс | D7: =MIG_MAG!D7 -> 45323 | E7: грн/€
A8: www.binzel-abicor.com | C8: 48.11 | D8: Поточний уточнюйте
A9: Ідент.№ | B9: Найменування | C9: Ціна без ПДВ | E9: Ціна з ПДВ, грн/шт. | F9: Примітки
C10: €/шт. | D10: грн./шт.
A12: Плазматрони | C12: =C8 -> 48.11
A13: Сертифікат відповідності вимогам ДСТУ EN 60974-7:2015, ДСТУ EN 60974-10:2015
A14: Повітряне охолодження
A15: 748.0054.1 | B15: ABICUT 25K, 2 пол. 4,00 м ЕА | C15: 218.78 | D15: =IF(C15="","",5*ROUND(C15*$C$8/5,2)) -> 10525.5 | E15: =D15*1.2 -> 12630.6 | F15: 20А - 35%ПВ, одногаз. з тиском ст. п.-2 бар (St-6mm, Alu-2,5mm, VA-4mm)
A16: 748.0047.1 | B16: ABICUT 25K, 4 пол. 4,00 м ЕА | C16: 218.78 | D16: =IF(C16="","",5*ROUND(C16*$C$8/5,2)) -> 10525.5 | E16: =D16*1.2 -> 12630.6 | F16: 20А - 35%ПВ, одногаз. з тиском ст. п.-2 бар (St-6mm, Alu-2,5mm, VA-4mm)
A18: 748.0046.1 | B18: ABICUT 45, 6,00 м EA | C18: 239.55 | D18: =IF(C18="","",5*ROUND(C18*$C$8/5,2)) -> 11524.75 | E18: =D18*1.2 -> 13829.7 | F18: 40А - 60%ПВ, одногаз. з тиском ст. п.-5 бар (St-10mm, Alu-8mm, VA-6mm)
A19: 748.0056.1 | B19: ABICUT 45, 6,00 м ZA | C19: 284.34 | D19: =IF(C19="","",5*ROUND(C19*$C$8/5,2)) -> 13679.6 | E19: =D19*1.2 -> 16415.52 | F19: 40А - 60%ПВ, одногаз. з тиском ст. п.-5 бар (St-10mm, Alu-8mm, VA-6mm)
A21: 748.0090.1 | B21: ABICUT 75 HF, 4,00 м EA | C21: 147.38 | D21: =IF(C21="","",5*ROUND(C21*$C$8/5,2)) -> 7090.45 | E21: =D21*1.2 -> 8508.54 | F21: 75A - 60%ПВ, одногаз. з тиском ст. п.-5-5,5 бар (St-20mm, Alu-15mm, VA-12mm)
A22: 748.0124.1 | B22: ABICUT 75, 6,00 м EA | C22: 281.09 | D22: =IF(C22="","",5*ROUND(C22*$C$8/5,2)) -> 13523.25 | E22: =D22*1.2 -> 16227.9 | F22: 75A - 60%ПВ, одногаз. з тиском ст. п.-5-5,5 бар (St-20mm, Alu-15mm, VA-12mm)
A23: 748.0130.1 | B23: ABICUT 75, 6,00 м ZA | C23: 317.8 | D23: =IF(C23="","",5*ROUND(C23*$C$8/5,2)) -> 15289.35 | E23: =D23*1.2 -> 18347.22 | F23: 75A - 60%ПВ, одногаз. з тиском ст. п.-5-5,5 бар (St-20mm, Alu-15mm, VA-12mm)
A24: 748.0125.1 | B24: ABICUT 75 HF, 6,00 м EA | C24: 281.09 | D24: =IF(C24="","",5*ROUND(C24*$C$8/5,2)) -> 13523.25 | E24: =D24*1.2 -> 16227.9 | F24: 75A - 60%ПВ, одногаз. з тиском ст. п.-5-5,5 бар (St-20mm, Alu-15mm, VA-12mm)
A25: 748.0131.1 | B25: ABICUT 75 HF, 6,00 м ZA | C25: 317.8 | D25: =IF(C25="","",5*ROUND(C25*$C$8/5,2)) -> 15289.35 | E25: =D25*1.2 -> 18347.22 | F25: 75A - 60%ПВ, одногаз. з тиском ст. п.-5-5,5 бар (St-20mm, Alu-15mm, VA-12mm)
A27: 742.0256.1 | B27: ABIPLAS® CUT 71, 6,00 м EA | C27: 238.55 | D27: =IF(C27="","",5*ROUND(C27*$C$8/5,2)) -> 11476.65 | E27: =D27*1.2 -> 13771.98 | F27: 70A - 60%ПВ, Uзаж.=7кВ, одногаз. з min тиском ст. п.-5,5 бар (St-25(20)mm, Alu-20(15)mm)
A28: 742.0257.1 | B28: ABIPLAS® CUT 71, 6,00 м ZA | C28: 282.48 | D28: =IF(C28="","",5*ROUND(C28*$C$8/5,2)) -> 13590.1 | E28: =D28*1.2 -> 16308.12 | F28: 70A - 60%ПВ, Uзаж.=7кВ, одногаз. з min тиском ст. п.-5,5 бар (St-25(20)mm, Alu-20(15)mm)
A29: 742.0259.1 | B29: ABIPLAS® CUT MT 71, 6,00 м EA | C29: 277.67 | D29: =IF(C29="","",5*ROUND(C29*$C$8/5,2)) -> 13358.7 | E29: =D29*1.2 -> 16030.44 | F29: 70A - 60%ПВ, Uзаж.=7кВ, одногаз. з min тиском ст. п.-5,5 бар (St-25(20)mm, Alu-20(15)mm)
... A40: 757.0092.1 | B40: ABIPLAS® CUT MT 151, 6,00 м ZA | C40: 451.96 | D40: =IF(C40="","",5*ROUND(C40*$C$8/5,2)) -> 21743.8 | E40: =D40*1.2 -> 26092.56 | F40: 150A - 60%ПВ, Uзаж.=7кВ, одногаз. з min тиском ст. п.-5,5 бар (St-55(50)mm, Alu-40(35)mm)
A42: Рідинне охолодження
A43: 758.0050 | B43: ABIPLAS® CUT 200W, 6,00 м Standart ЕА | C43: 1326.73 | D43: =IF(C43="","",5*ROUND(C43*$C$8/5,2)) -> 63829 | E43: =D43*1.2 -> 76594.8 | F43: 200A - 100%ПВ, одногаз. з min тиском ст. п.-3,5-4,5 бар (St-70(60)mm, Alu-45(40)mm)
A44: 758.0054 | B44: ABIPLAS® CUT 200W, 6,00 м Standart ZА | C44: 1397.47 | D44: =IF(C44="","",5*ROUND(C44*$C$8/5,2)) -> 67232.3 | E44: =D44*1.2 -> 80678.76 | F44: 200A - 100%ПВ, одногаз. з min тиском ст. п.-3,5-4,5 бар (St-70(60)mm, Alu-45(40)mm)
A45: 758.0062 | B45: ABIPLAS® CUT 200W, 12,00 м Standart EА | C45: 1470.98 | D45: =IF(C45="","",5*ROUND(C45*$C$8/5,2)) -> 70768.85 | E45: =D45*1.2 -> 84922.62 | F45: 200A - 100%ПВ, одногаз. з min тиском ст. п.-3,5-4,5 бар (St-70(60)mm, Alu-45(40)mm)
A46: 758.0063 | B46: ABIPLAS® CUT 200W, 12,00 м Standart ZА | C46: 1541.73 | D46: =IF(C46="","",5*ROUND(C46*$C$8/5,2)) -> 74172.65 | E46: =D46*1.2 -> 89007.18 | F46: 200A - 100%ПВ, одногаз. з min тиском ст. п.-3,5-4,5 бар (St-70(60)mm, Alu-45(40)mm)
A47: 758.1012 | B47: ABIPLAS® CUT MT 200W, 6,00 м Standart EА | C47: 1538.91 | D47: =IF(C47="","",5*ROUND(C47*$C$8/5,2)) -> 74036.95 | E47: =D47*1.2 -> 88844.34 | F47: 200A - 100%ПВ, одногаз. з min тиском ст. п.-3,5-4,5 бар (St-70(60)mm, Alu-45(40)mm)
A48: 758.1015 | B48: ABIPLAS® CUT MT 200W, 6,00 м Standart ZА | C48: 1609.63 | D48: =IF(C48="","",5*ROUND(C48*$C$8/5,2)) -> 77439.3 | E48: =D48*1.2 -> 92927.16 | F48: 200A - 100%ПВ, одногаз. з min тиском ст. п.-3,5-4,5 бар (St-70(60)mm, Alu-45(40)mm)
A49: 758.1019 | B49: ABIPLAS® CUT MT 200W, 12,00 м Standart EА | C49: 1683.12 | D49: =IF(C49="","",5*ROUND(C49*$C$8/5,2)) -> 80974.9 | E49: =D49*1.2 -> 97169.88 | F49: 200A - 100%ПВ, одногаз. з min тиском ст. п.-3,5-4,5 бар (St-70(60)mm, Alu-45(40)mm)
A50: 758.1020 | B50: ABIPLAS® CUT MT 200W, 12,00 м Standart ZА | C50: 1753.9 | D50: =IF(C50="","",5*ROUND(C50*$C$8/5,2)) -> 84380.15 | E50: =D50*1.2 -> 101256.18 | F50: 200A - 100%ПВ, одногаз. з min тиском ст. п.-3,5-4,5 бар (St-70(60)mm, Alu-45(40)mm)
A52: Комплектуючі до плазмотронів
A53: 748.0020.1 | B53: Головка ABIСUT 25K / 45 | C53: 101.43 | D53: =IF(C53="","",5*ROUND(C53*$C$8/5,2)) -> 4879.8 | E53: =D53*1.2 -> 5855.76
A54: 748.0100.1 | B54: Головка ABIСUT 75 / 75 HF | C54: 99.26 | D54: =IF(C54="","",5*ROUND(C54*$C$8/5,2)) -> 4775.4 | E54: =D54*1.2 -> 5730.48
A55: 742.D022 | B55: Головка ABIPLAS® CUT 70 | C55: 141.52 | D55: =IF(C55="","",5*ROUND(C55*$C$8/5,2)) -> 6808.55 | E55: =D55*1.2 -> 8170.26
A56: 742.D109 | B56: Головка ABIPLAS® CUT МТ 70 | C56: 183.47 | D56: =IF(C56="","",5*ROUND(C56*$C$8/5,2)) -> 8826.75 | E56: =D56*1.2 -> 10592.1
A57: 742.0247.1 | B57: Головка ABIPLAS® CUT 71 | C57: 123.08 | D57: =IF(C57="","",5*ROUND(C57*$C$8/5,2)) -> 5921.4 | E57: =D57*1.2 -> 7105.68
A58: 742.0248.1 | B58: Головка ABIPLAS® CUT МТ 71 | C58: 159.56 | D58: =IF(C58="","",5*ROUND(C58*$C$8/5,2)) -> 7676.45 | E58: =D58*1.2 -> 9211.74
A59: 745.D025 | B59: Головка ABIPLAS® CUT 110 | C59: 177.26 | D59: =IF(C59="","",5*ROUND(C59*$C$8/5,2)) -> 8528 | E59: =D59*1.2 -> 10233.6
A60: 745.D051 | B60: Головка ABIPLAS® CUT MT 110 | C60: 190.6 | D60: =IF(C60="","",5*ROUND(C60*$C$8/5,2)) -> 9169.75 | E60: =D60*1.2 -> 11003.7
A61: 745.0119.1 | B61: Головка ABIPLAS® CUT 111 | C61: 154.11 | D61: =IF(C61="","",5*ROUND(C61*$C$8/5,2)) -> 7414.25 | E61: =D61*1.2 -> 8897.1
A62: 745.0130.1 | B62: Головка ABIPLAS® CUT MT 111 | C62: 165.75 | D62: =IF(C62="","",5*ROUND(C62*$C$8/5,2)) -> 7974.25 | E62: =D62*1.2 -> 9569.1
...

Sheet Accessories
C7: Курс | D7: =MIG_MAG!D7 -> 45323 | E7: грн/€
A8: www.binzel-abicor.com | C8: 48.11 | D8: Поточний уточнюйте
A9: Ідент.№ | B9: Найменування | C9: Ціна без ПДВ | E9: Ціна з ПДВ, грн/шт. | F9: Примітки
C10: €/шт. | D10: грн./шт.
A11: Каталог: | B11: https://abidoc.binzel-abicor.com/uploads/ABIDOC/ZUBEHOER/x_Uebersichtskataloge_ZUBEHOER/PRO_A068_EN_Accessories_WEB.pdf
A12: Електродотримачі
A13: Сертифікат відповідності вимогам ДСТУ EN 60974-10:2015, ДСТУ EN 60974-11:2014
A14: при замовленні 50 шт. та більше - див. систему знижок | C14: =C8 -> 48.11
A15: 512.D060 | B15: DE 2200 | C15: 10.4 | D15: =IF(C15="","",5*ROUND(C15*$C$8/5,2)) -> 500.35 | E15: =D15*1.2 -> 600.42 | F15: 200(250)А - 60(35)%ПВ , D електроду 2,0 - 4,0 мм
A16: 512.D070 | B16: DE 2300 | C16: 12.13 | D16: =IF(C16="","",5*ROUND(C16*$C$8/5,2)) -> 583.55 | E16: =D16*1.2 -> 700.26 | F16: 300(400)А - 60(35)%ПВ , D електроду 2,0 - 6,3 мм
A17: 512.D080 | B17: DE 2400 | C17: 16.07 | D17: =IF(C17="","",5*ROUND(C17*$C$8/5,2)) -> 773.15 | E17: =D17*1.2 -> 927.78 | F17: 400(500)А - 60(35)%ПВ , D електроду 4,0 - 8,0 мм
A18: 512.D090 | B18: DE 2500 | C18: 19.68 | D18: =IF(C18="","",5*ROUND(C18*$C$8/5,2)) -> 946.8 | E18: =D18*1.2 -> 1136.16 | F18: 500(600)А - 60(35)%ПВ , D електроду 4,0 - 10,0 мм
A20: Ізоляційні накладки до електродотримачів/строгачів канавок
A21: 512.D021 | B21: ИН 1200 | C21: 1.25 | D21: =IF(C21="","",5*ROUND(C21*$C$8/5,2)) -> 60.15 | E21: =D21*1.2 -> 72.18 | F21: DE 2200
A22: 512.D031 | B22: ИН 1300 | C22: 1.42 | D22: =IF(C22="","",5*ROUND(C22*$C$8/5,2)) -> 68.3 | E22: =D22*1.2 -> 81.96 | F22: DE 2300
A23: 512.D041 | B23: ИН 378 | C23: 1.55 | D23: =IF(C23="","",5*ROUND(C23*$C$8/5,2)) -> 74.55 | E23: =D23*1.2 -> 89.46 | F23: DE 2400
A24: 512.D091 | B24: ИН 367 | C24: 1.92 | D24: =IF(C24="","",5*ROUND(C24*$C$8/5,2)) -> 92.35 | E24: =D24*1.2 -> 110.82 | F24: DE 2500/К 10/12
A26: Строгачі канавок
A27: 516.D001 | B27: К 10 3,00 м | C27: 241.18 | D27: =IF(C27="","",5*ROUND(C27*$C$8/5,2)) -> 11603.15 | E27: =D27*1.2 -> 13923.78 | F27: 500А - 60%ПВ, D електроду круглого(пластинчатого) 4,0 - 10,0 мм(15/20 мм - ш, 4 мм - в)
A28: 516.D002 | B28: K 12 3,00 м | C28: 258.3 | D28: =IF(C28="","",5*ROUND(C28*$C$8/5,2)) -> 12426.8 | E28: =D28*1.2 -> 14912.16 | F28: 600А - 60%ПВ, D електроду круглого(пластинчатого) 4,0 - 12,0 мм(15/20 мм - ш, 4/5 мм - в)
A29: 516.D142 | B29: K 12 T 3,00 м | C29: 321.92 | D29: =IF(C29="","",5*ROUND(C29*$C$8/5,2)) -> 15487.55 | E29: =D29*1.2 -> 18585.06 | F29: Версія "Т" - поворотний
A30: 516.D003 | B30: K 16 3,00 м | C30: 304.08 | D30: =IF(C30="","",5*ROUND(C30*$C$8/5,2)) -> 14629.3 | E30: =D30*1.2 -> 17555.16 | F30: 1000А - 60%ПВ, D електроду круглого(пластинчатого) 8,0 - 16,0 мм(15/20/25 мм - ш, 4/5 мм - в)
A31: 516.D150 | B31: K 16T 3,00 м | C31: 356.81 | D31: =IF(C31="","",5*ROUND(C31*$C$8/5,2)) -> 17166.15 | E31: =D31*1.2 -> 20599.38 | F31: Версія "Т" - поворотний
A32: 516.D167.1 | B32: K 20 3,00 м | C32: 388.49 | D32: =IF(C32="","",5*ROUND(C32*$C$8/5,2)) -> 18690.25 | E32: =D32*1.2 -> 22428.3 | F32: 1500А - 60%ПВ, D електроду круглого(пластинчатого) 8,0 - 19,0 мм(15/20/25 мм - ш, 4/5 мм - в)
A34: 516.D026 | B34: Сопло для круглих вугільних електродів | C34: 17.46 | D34: =IF(C34="","",5*ROUND(C34*$C$8/5,2)) -> 840 | E34: =D34*1.2 -> 1008 | F34: К10 / К12
A36: Маска зварювальника
A37: Сертифікат відповідності вимогам EN 175-2001, EN 379:2003
A38: при замовленні 3 шт. та більше - див. систему знижок
A39: 519.0009.1 | B39: Маска зварювальника ADF 600S диз. ABICOR BINZEL | C39: 117.86 | D39: =IF(C39="","",5*ROUND(C39*$C$8/5,2)) -> 5670.25 | E39: =D39*1.2 -> 6804.3 | F39: тип хамелеон, живлення від сонячної батареї, 1 / 2 / 1 / 2
A40: 519.0012.10 | B40: Захисне скло до маски зварювальника 118х108 | C40: 1.51 | D40: =IF(C40="","",5*ROUND(C40*$C$8/5,2)) -> 72.65 | E40: =D40*1.2 -> 87.18 | F40: зовнішнє
A41: 519.0014.5 | B41: Захисне скло до маски зварювальника 96х47 | C41: 1.12 | D41: =IF(C41="","",5*ROUND(C41*$C$8/5,2)) -> 53.9 | E41: =D41*1.2 -> 64.68 | F41: внутрішнє
A43: Вугільні електроди ABIARC® з мідним покриттям
A44: для постійного струму (DC)
A45: при замовленні 200 шт. та більше - див. систему знижок
A46: 515.0015 | B46: D 4,0 х 305 мм | C46: 0.44 | D46: =IF(C46="","",5*ROUND(C46*$C$8/5,2)) -> 21.15 | E46: =D46*1.2 -> 25.38 | F46: 250А
A47: 515.0016 | B47: D 5,0 х 305 мм | C47: 0.44 | D47: =IF(C47="","",5*ROUND(C47*$C$8/5,2)) -> 21.15 | E47: =D47*1.2 -> 25.38 | F47: 300А
A48: 515.0017 | B48: D 6,5 х 305 мм | C48: 0.46 | D48: =IF(C48="","",5*ROUND(C48*$C$8/5,2)) -> 22.15 | E48: =D48*1.2 -> 26.58 | F48: 400А
A49: 515.0018 | B49: D 8,0 х 305 мм | C49: 0.54 | D49: =IF(C49="","",5*ROUND(C49*$C$8/5,2)) -> 26 | E49: =D49*1.2 -> 31.2 | F49: 500А
A50: 515.0019 | B50: D 9,5 х 305 мм | C50: 0.57 | D50: =IF(C50="","",5*ROUND(C50*$C$8/5,2)) -> 27.4 | E50: =D50*1.2 -> 32.88 | F50: 600А
A51: 515.0027 | B51: D 9,5 х 430 мм | C51: 2.2 | D51: =IF(C51="","",5*ROUND(C51*$C$8/5,2)) -> 105.85 | E51: =D51*1.2 -> 127.02 | F51: 600А
...

Sheet ROBO&Hard Auto
C7: Курс | D7: =MIG_MAG!D7 -> 45323 | E7: грн/€
A8: www.binzel-abicor.com | C8: 48.11 | D8: Поточний уточнюйте
A9: Ідент.№ | B9: Найменування | C9: Ціна без ПДВ | E9: Ціна з ПДВ, грн/шт. | F9: Примітки
C10: €/шт. | D10: грн./шт.
A11: Проспект: | B11: https://abidoc.binzel-abicor.com/uploads/ABIDOC/HARD_AUTOMATION/ABICAR/Prospekte/PRO_H003_UK_ABICAR_WEB.pdf
A12: Трактори зварювальні
A13: 522.0179.1 | B13: Трактор ABICAR ADVANCED | C13: 3743.25 | D13: =IF(C13="","",5*ROUND(C13*$C$8/5,2)) -> 180087.75 | E13: =D13*1.2 -> 216105.3 | F13: 100 - 110 см/хв, цифрова індикація, стабілізація швидкості сервомотора, пам'ять останніх налаштувань
A14: 522.0181.1 | B14: Трактор ABICAR 1200 PRO | C14: 5280.45 | D14: =IF(C14="","",5*ROUND(C14*$C$8/5,2)) -> 254042.45 | E14: =D14*1.2 -> 304850.94 | F14: 110 - 120 см/хв, текстовий дисплей, програмований
A15: 522.0183.1 | B15: Осцилятор | C15: 1948.8 | D15: =IF(C15="","",5*ROUND(C15*$C$8/5,2)) -> 93756.75 | E15: =D15*1.2 -> 112508.1 | F15: до ABICAR 1200 PRO, амплітуда 11° / 1-30 мм, швидкість коливань 7 – 164 циклів/хв
A17: Комплектуючі ABICAR
A18: 522.0192.1 | B18: Кріплення двох пальників | C18: 1779.75 | D18: =IF(C18="","",5*ROUND(C18*$C$8/5,2)) -> 85623.75 | E18: =D18*1.2 -> 102748.5
A19: 522.0190.2 | B19: Направляючий кронштейн для кромки | C19: 100.03 | D19: =IF(C19="","",5*ROUND(C19*$C$8/5,2)) -> 4812.45 | E19: =D19*1.2 -> 5774.94 | F19: ABICAR ADVANCED
A20: 522.0197.2 | B20: Направляючий кронштейн для кромки | C20: 138.88 | D20: =IF(C20="","",5*ROUND(C20*$C$8/5,2)) -> 6681.5 | E20: =D20*1.2 -> 8017.8 | F20: ABICAR PRO
A21: 895.0021.1 | B21: Тримач пальника | C21: 603.75 | D21: =IF(C21="","",5*ROUND(C21*$C$8/5,2)) -> 29046.4 | E21: =D21*1.2 -> 34855.68 | F21: для пальників ABIMIG AT/WT зі збереженням точки TCP
A23: Комплекти обладнання для роботизованих комплексів
A24: склад: роботизований пальник в зборі з кріпленням до маніпулятора та шлангпакетом, подаючий механізм з платформою, подаючим каналом, проміжним шлангпакетом та джерело з відповідним інтерфейсом
A25: PAK.0001.1 | B25: PAKiROB - 400 ETH - IP - iSTM - A500 - 22 | C25: 16050.3 | D25: =IF(C25="","",5*ROUND(C25*$C$8/5,2)) -> 772179.95 | E25: =D25*1.2 -> 926615.94 | F25: FANUC® ArcM100iC/12 - StLin 3m - 1,2 St.
A26: PAK.0002.1 | B26: PAKiROB - 500 ETH - IP - iSTM - W500 - 22 | C26: 18055.8 | D26: =IF(C26="","",5*ROUND(C26*$C$8/5,2)) -> 868664.55 | E26: =D26*1.2 -> 1042397.5 | F26: FANUC® ArcM100iC/12 - StLin 3m - 1,2 St
A27: PAK.0003.1 | B27: PAKiROB - 400 ETH - IP - iSTM - A500 - 22 | C27: 16050.3 | D27: =IF(C27="","",5*ROUND(C27*$C$8/5,2)) -> 772179.95 | E27: =D27*1.2 -> 926615.94 | F27: FANUC® ArcM120iC/12L- StLin 3m - 1,2 St.
A28: PAK.0004.1 | B28: PAKiROB - 500 ETH - IP - iSTM - W500 - 22 | C28: 18055.8 | D28: =IF(C28="","",5*ROUND(C28*$C$8/5,2)) -> 868664.55 | E28: =D28*1.2 -> 1042397.5 | F28: FANUC® ArcM120iC/12L- StLin 3m - 1,2 St.
A29: PAK.0005.1 | B29: PAKiROB - 400 DEV - IP - iSTM - A500 - 22 | C29: 16050.3 | D29: =IF(C29="","",5*ROUND(C29*$C$8/5,2)) -> 772179.95 | E29: =D29*1.2 -> 926615.94 | F29: ABB® IRB 1600 ID - StLin 3m - 1,2 St.
A30: PAK.0006.1 | B30: PAKiROB - 500 DEV - IP - iSTM - W500 - 22 | C30: 18055.8 | D30: =IF(C30="","",5*ROUND(C30*$C$8/5,2)) -> 868664.55 | E30: =D30*1.2 -> 1042397.5 | F30: ABB® IRB 1600 ID - StLin 3m - 1,2 St.
A31: PAK.0007.1 | B31: PAKiROB - 400 DEV - IP - iSTM - A500 - 22 | C31: 16050.3 | D31: =IF(C31="","",5*ROUND(C31*$C$8/5,2)) -> 772179.95 | E31: =D31*1.2 -> 926615.94 | F31: ABB® IRB 2600ID8/2.0 - StLin 3m - 1,2 St.
A32: PAK.0008.1 | B32: PAKiROB - 500 DEV - IP - iSTM - W500 - 22 | C32: 18055.8 | D32: =IF(C32="","",5*ROUND(C32*$C$8/5,2)) -> 868664.55 | E32: =D32*1.2 -> 1042397.5 | F32: ABB® IRB 2600ID8/2.0 - StLin 3m - 1,2 St.
A33: PAK.0009.1 | B33: PAKiROB - 400 ETH - IP - iCATmini - A500 - 22 | C33: 16050.3 | D33: =IF(C33="","",5*ROUND(C33*$C$8/5,2)) -> 772179.95 | E33: =D33*1.2 -> 926615.94 | F33: Yaskawa® - MA1440 - StLin 3m - 1,2 St.
A34: PAK.0010.1 | B34: PAKiROB - 500 ETH - IP - iCAT - W500 - 22 | C34: 18055.8 | D34: =IF(C34="","",5*ROUND(C34*$C$8/5,2)) -> 868664.55 | E34: =D34*1.2 -> 1042397.5 | F34: Yaskawa® - MA1440 - StLin 3m - 1,2 St.
A35: PAK.0011.1 | B35: PAKiROB - 400 ETH - IP - iCATmini - A500 - 22 | C35: 16050.3 | D35: =IF(C35="","",5*ROUND(C35*$C$8/5,2)) -> 772179.95 | E35: =D35*1.2 -> 926615.94 | F35: Yaskawa® - MA2010 - StLin 3m - 1,2 St.
A36: PAK.0012.1 | B36: PAKiROB - 500 ETH - IP - iCAT - W500 - 22 | C36: 18055.8 | D36: =IF(C36="","",5*ROUND(C36*$C$8/5,2)) -> 868664.55 | E36: =D36*1.2 -> 1042397.5 | F36: Yaskawa® - MA2010 - StLin 3m - 1,2 St.
... A48: PAK.Z017.1 | B48: PAKiROB - 500DEV - IP - CAT3 - W500 - 22 | C48: 18055.8 | D48: =IF(C48="","",5*ROUND(C48*$C$8/5,2)) -> 868664.55 | E48: =D48*1.2 -> 1042397.5 | F48: KUKA® KR150L110--2-2000-StLin3m-1,2St
A49: Каталог: | B49: https://abidoc.binzel-abicor.com/uploads/ABIDOC/ROBOTIC_SYSTEMS/x_Uebersichtskataloge_ROBO/PRO_R143_EN_47_WEB.pdf

Sheet xFUME
C7: Курс | D7: =MIG_MAG!D7 -> 45323 | E7: грн/€
A8: www.binzel-abicor.com | C8: 48.11 | D8: Поточний уточнюйте
A9: Ідент.№ | B9: Найменування | C9: Ціна без ПДВ | E9: Ціна з ПДВ, грн/шт. | F9: Примітки
C10: €/шт. | D10: грн./шт.
A11: Каталог: | B11: https://abidoc.binzel-abicor.com/uploads/ABIDOC/ABSAUGTECHNIK/x_Uebersichtskatalog_xFUME/PRO_E001_EN_xFUME_Catalouge_1_3_WEB.pdf
A12: Димовитяжні установки
A13: 601.0096.1 | B13: xFUME FLEX 2 м | C13: 2341.5 | D13: =IF(C13="","",5*ROUND(C13*$C$8/5,2)) -> 112649.55 | E13: =D13*1.2 -> 135179.46 | F13: телескопічний витяжний рукав, одноразовий знімний фільтр, світлодіодне освітлення, макс. потік - 1200 м3/год
A14: 601.0097.1 | B14: xFUME FLEX 3 м | C14: 2411.85 | D14: =IF(C14="","",5*ROUND(C14*$C$8/5,2)) -> 116034.1 | E14: =D14*1.2 -> 139240.92 | F14: телескопічний витяжний рукав, одноразовий знімний фільтр, світлодіодне освітлення, макс. потік - 1200 м3/год
A15: 601.0098.1 | B15: xFUME FLEX 4 м | C15: 2489.55 | D15: =IF(C15="","",5*ROUND(C15*$C$8/5,2)) -> 119772.25 | E15: =D15*1.2 -> 143726.7 | F15: телескопічний витяжний рукав, одноразовий знімний фільтр, світлодіодне освітлення, макс. потік - 1200 м3/год
A16: 601.0192.1 | B16: xFUME ADVANCED | C16: 3849.3 | D16: =IF(C16="","",5*ROUND(C16*$C$8/5,2)) -> 185189.8 | E16: =D16*1.2 -> 222227.76 | F16: під'єднання одного/двох пальників, автоматичне очищення фільтрів імпульсами стистненого повітря, автоматичне керування, макс. потік - 340 м3/год
A17: 601.0071.1 | B17: FEС | C17: 2989.35 | D17: =IF(C17="","",5*ROUND(C17*$C$8/5,2)) -> 143817.65 | E17: =D17*1.2 -> 172581.18 | F17: автоматичне керування (опція), фільтр багаторазового використання, індикатор заповнення, система "циклон", підвищена продуктивність, макс. потік - 230 м3/год
A18: 601.0041.1 | B18: Шунт FEC | C18: 305.55 | D18: =IF(C18="","",5*ROUND(C18*$C$8/5,2)) -> 14700 | E18: =D18*1.2 -> 17640 | F18: для автоматичного включення/вимкнення димовитяжної установки при зварюванні/паузі
A20: Комплектуючі
A21: 601.0076.1 | B21: Основний фільтр H13 | C21: 493.03 | D21: =IF(C21="","",5*ROUND(C21*$C$8/5,2)) -> 23719.65 | E21: =D21*1.2 -> 28463.58 | F21: FEC
A22: 601.0119.10 | B22: Попередній фільтр нетканий | C22: 15.12 | D22: =IF(C22="","",5*ROUND(C22*$C$8/5,2)) -> 727.4 | E22: =D22*1.2 -> 872.88 | F22: FLEX
A23: 601.0142.1 | B23: Попередній фільтр (каркас - метал. сітка) | C23: 502.94 | D23: =IF(C23="","",5*ROUND(C23*$C$8/5,2)) -> 24196.45 | E23: =D23*1.2 -> 29035.74 | F23: FLEX багаторазовий
A24: 601.0112.1 | B24: Фільтр-касета | C24: 462.56 | D24: =IF(C24="","",5*ROUND(C24*$C$8/5,2)) -> 22253.75 | E24: =D24*1.2 -> 26704.5 | F24: FLEX
A25: 601.0111.1 | B25: Фільтр-картридж | C25: 226.07 | D25: =IF(C25="","",5*ROUND(C25*$C$8/5,2)) -> 10876.25 | E25: =D25*1.2 -> 13051.5 | F25: ADVANCED
A26: 601.0108.1 | B26: Вугільна щітка | C26: 33.92 | D26: =IF(C26="","",5*ROUND(C26*$C$8/5,2)) -> 1631.9 | E26: =D26*1.2 -> 1958.28 | F26: ADVANCED
A27: 601.0109.1 | B27: Двигун 230 В | C27: 463.65 | D27: =IF(C27="","",5*ROUND(C27*$C$8/5,2)) -> 22306.2 | E27: =D27*1.2 -> 26767.44 | F27: ADVANCED
A28: 601.0116.1 | B28: Фітінг-муфта | C28: 30.11 | D28: =IF(C28="","",5*ROUND(C28*$C$8/5,2)) -> 1448.6 | E28: =D28*1.2 -> 1738.32 | F28: ADVANCED
A29: 601.0114.1 | B29: Кришка-заглушка | C29: 6.66 | D29: =IF(C29="","",5*ROUND(C29*$C$8/5,2)) -> 320.4 | E29: =D29*1.2 -> 384.48 | F29: ADVANCED
A31: Пальники з димовідведенням
A32: 604.0144.1 | B32: Пальник xFUME COMPACT 25 4,00м | C32: 425.24 | D32: =IF(C32="","",5*ROUND(C32*$C$8/5,2)) -> 20458.3 | E32: =D32*1.2 -> 24549.96
A33: 614.0262.1 | B33: Пальник xFUME PRO 36 4,00 м | C33: 504.5 | D33: =IF(C33="","",5*ROUND(C33*$C$8/5,2)) -> 24271.5 | E33: =D33*1.2 -> 29125.8
A34: 634.0207.1 | B34: Пальник xFUME PRO 501 4,00 м | C34: 534.9 | D34: =IF(C34="","",5*ROUND(C34*$C$8/5,2)) -> 25734.05 | E34: =D34*1.2 -> 30880.86
A35: 982.0001.1 | B35: Пальник xFUME AUT 501 4,00 м | C35: 559.52 | D35: =IF(C35="","",5*ROUND(C35*$C$8/5,2)) -> 26918.5 | E35: =D35*1.2 -> 32302.2
A36: 7X6.SH.046.85.00.63D.0601 | B36: Пальник ABITIG 150 xFUME 4,00м 35-50 | C36: 553.88 | D36: =IF(C36="","",5*ROUND(C36*$C$8/5,2)) -> 26647.15 | E36: =D36*1.2 -> 31976.58
A37: 7X6.SH.046.52.00.000.0601 | B37: Пальник ABITIG 150 xFUME 4,00м 35-50 | C37: 524.38 | D37: =IF(C37="","",5*ROUND(C37*$C$8/5,2)) -> 25227.9 | E37: =D37*1.2 -> 30273.48
A38: 7X7.SH.046.85.01.63D.2001 | B38: Пальник ABITIG 260W xFUME 4,00м 35-50 | C38: 661.22 | D38: =IF(C38="","",5*ROUND(C38*$C$8/5,2)) -> 31811.3 | E38: =D38*1.2 -> 38173.56
A39: 7X7.SH.046.52.01.000.2001 | B39: Пальник ABITIG 260W xFUME 4,00м 35-50 | C39: 631.72 | D39: =IF(C39="","",5*ROUND(C39*$C$8/5,2)) -> 30392.05 | E39: =D39*1.2 -> 36470.46
A41: Набори витяжних шлангів
A42: 601.0015.1 | B42: Шланг 5 м компл. фітінгами | C42: 212.3 | D42: =IF(C42="","",5*ROUND(C42*$C$8/5,2)) -> 10213.75 | E42: =D42*1.2 -> 12256.5 | F42: FEC/ADVANCED
