Workbook

Sheet Асортимент
C1: Розсадник ягідних культур.
C2: Прайс-лист на сезон "Осінь-2022"
C4: 100% власна продукція
C5: Контакти: | E5: Адреса: | H5: Відвантаження буде проводитися з кінця серпня до 1 грудня
C6: тел. +380969580139 | E6: н.с. Халеп'я, вул. Беркутова 10В
C7: тел. +380978659743 | E7: Обухівський р-н., Київська обл.
C8: тел. +380969318069 | E8: Сайт: sadok.biz.ua
C9: E-mail: sadok_prom@ukr.net
C10: Назва сорту | E10: Вартість прикупівлі на суму, грн | I10: Замовлення
E11: < 20 тис. | F11: 20-50 тис. | G11: 50-100 тис. | H11: > 100 тис.
C12: Рододендрон 1-річний саджанець, контейнер 0,5-1л
C13: Gartendirektor Rieger (квіти біло-кремові) | E13: 85 | F13: 80 | G13: 75 | H13: 70
C14: Pearce`s American Beauty (квітки рубіново-рожеві)
C15: Alfred (квітки світло-фіолетові)
C16: Andantino (квітки ніжно-рожеві)
C17: Arkadius (квіти рожеві з жовтою плямою)
C18: Busuki (квітки яскраво-червоні)
C19: Catawbiense Grandiflorum (квітки світло-лілові)
C20: Kali (квітки насичені темно-червоні)
C21: Nova zembla (квітки рубіново-червоні)
C22: Рододендрон 2-річний саджанець, контейнер 1,5-2л
C23: Arkadius (квіти рожеві з жовтою плямою) | E23: 190 | F23: 170 | G23: 160 | H23: 150
C24: Boleslaw Chrobry (квітки фіолетові)
C25: Calsap (квіти білі з бордовою плямою)
C26: Busuki (квітки яскраво-червоні)
C27: Kali (квітки насичені темно-червоні)
C28: Gartendirektor Rieger (квіти біло-кремові)
C29: P. J. M. ELITE (квіти фіолетово-рожеві)
C30: Catawbiense Grandiflorum (квітки світло-лілові)
C31: Dresselhuys (квіти рожеві)
C32: Nova zembla (квітки рубіново-червоні)
C33: Van Weerden Poelman (квіти рубіново-червоні)
C34: Pearce`s American Beauty (квітки насичено-рожеві)
C35: Roseum Elegans (квітки світло-рожеві)
... C41: Рододендрон 4-річний саджанець, контейнер 10л
C42: Pearce`s American Beauty (квітки рубіново-рожеві) | E42: 425 | F42: 403.8 | G42: 382.5 | H42: 361.3
C44: Азалія 1-річний саджанець, контейнер 0,5-1л
C45: Konigstein (квіти фіолетові) | E45: 85 | F45: 80 | G45: 75 | H45: 70
C46: Mandarin Lights (квіти помаранчеві)
C47: Juanita (квіти рожеві з жовтою плямою)
...
