Workbook

Sheet Асортимент
C1: Розсадник ягідних культур.
C2: Прайс-лист на сезон "Осінь-2022"
C4: 100% власна продукція
C5: Контакти: | E5: Адреса: | H5: Відвантаження буде проводитися з кінця серпня до 1 грудня
C6: тел. +380969580139 | E6: н.с. Халеп'я, вул. Беркутова 10В
C7: тел. +380978659743 | E7: Обухівський р-н., Київська обл.
C8: тел. +380969318069 | E8: Сайт: sadok.biz.ua
C9: E-mail: sadok_prom@ukr.net
C10: Назва сорту | E10: Вартість прикупівлі на суму, грн | I10: Замовлення
E11: < 20 тис. | F11: 20-50 тис. | G11: 50-100 тис. | H11: > 100 тис.
C12: Рододендрон 1-річний саджанець, контейнер 0,5-1л
C13: Gartendirektor Rieger (квіти біло-кремові) | E13: 85 | F13: 80 | G13: 75 | H13: 70
C14: Pearce`s American Beauty (квітки рубіново-рожеві)
C15: Alfred (квітки світло-фіолетові)
C16: Andantino (квітки ніжно-рожеві)
C17: Arkadius (квіти рожеві з жовтою плямою)
C18: Busuki (квітки яскраво-червоні)
C19: Catawbiense Grandiflorum (квітки світло-лілові)
C20: Kali (квітки насичені темно-червоні)
C21: Nova zembla (квітки рубіново-червоні)
C22: Рододендрон 2-річний саджанець, контейнер 1,5-2л
C23: Arkadius (квіти рожеві з жовтою плямою) | E23: 190 | F23: 170 | G23: 160 | H23: 150
C24: Boleslaw Chrobry (квітки фіолетові)
C25: Calsap (квіти білі з бордовою плямою)
C26: Busuki (квітки яскраво-червоні)
C27: Kali (квітки насичені темно-червоні)
C28: Gartendirektor Rieger (квіти біло-кремові)
C29: P. J. M. ELITE (квіти фіолетово-рожеві)
C30: Catawbiense Grandiflorum (квітки світло-лілові)
C31: Dresselhuys (квіти рожеві)
C32: Nova zembla (квітки рубіново-червоні)
C33: Van Weerden Poelman (квіти рубіново-червоні)
C34: Pearce`s American Beauty (квітки насичено-рожеві)
C35: Roseum Elegans (квітки світло-рожеві)
... C41: Рододендрон 4-річний саджанець, контейнер 10л
C42: Pearce`s American Beauty (квітки рубіново-рожеві) | E42: 425 | F42: 403.8 | G42: 382.5 | H42: 361.3
C44: Азалія 1-річний саджанець, контейнер 0,5-1л
C45: Konigstein (квіти фіолетові) | E45: 85 | F45: 80 | G45: 75 | H45: 70
C46: Mandarin Lights (квіти помаранчеві)
C47: Juanita (квіти рожеві з жовтою плямою)
C48: Азалія 2-річний саджанець, контейнер 1,5-2л
C49: Nene (квіти ніжно-білі) | E49: 190 | F49: 170 | G49: 160 | H49: 150
C50: Mandarin Lights (квіти помаранчеві)
C51: Geicha Orange (квіти помаранчеві)
C52: Stewarsnown (квіти помаранчеві)
C53: Nabucco (квіти насичено-червоні)
C54: Satomi (квіти біло-рожеві)
C55: Азалія 3-річний саджанець, контейнер 4л
C56: Crosswater Red (квіти насичено-червоні) | E56: =[1]Лист1!E39 -> 300 | F56: =[1]Лист1!F39 -> 285 | G56: =[1]Лист1!G39 -> 270 | H56: =[1]Лист1!H39 -> 255
C57: Orange Kopfchen (квіти помаранчеві)
C58: Kilian (квіти рожеві)
C59: Азалія 4-річний саджанець, контейнер 4л
C60: Mandarin Lights (квіти помаранчеві) | E60: =[1]Лист1!E40 -> 425 | F60: =[1]Лист1!F40 -> 403.75 | G60: =[1]Лист1!G40 -> 382.5 | H60: 361.3
C61: Feurwerk (червоні з помаранчевим відтінком)
C62: Doloroso (квітки темно-червоні)
C63: Goldtopas (квітки золотисто-жовті)
C64: Limetta (світло-золотисто-жовті квіти)
C65: Fireball (квітки оранжево-червоні)
C66: Golden Light (квітки золотисто-помаранчеві)
C67: Windsor Sunbeam (великі, золотисті квітки)
C69: Кальмія , контейнер 1,5-2 л
C70: Ideal (квіти біло-рожеві з червоними плямками по краях) | E70: 200 | F70: 190 | G70: 180 | H70: 150
C71: Pinkobello (квіти яскраво-рожеві)
C72: Merlin (квіти бордові)
C73: Latchmin (квіти насичено-бордові)
C74: Кальмія , контейнер 4 л
C75: Jans Delight (квіти білі, усередині бордові) | E75: 300 | F75: 285 | G75: 270 | H75: 255
C76: Keepsake (фіолетово-бордові з білими краями)
C77: Beacon (квітки насичені червоно-рожеві)
C79: Гортензія 2-річний саджанець, контейнер 1,5л
C80: Vanilla (квіти білі, з часом стають рожево-малинові) | E80: =[1]Лист1!E46 -> 142.5 | F80: 135.4 | G80: 128.3 | H80: 121.1
C81: Wim's Red (квіти білі, з часом насичено червоні)
C82: Diamant Rouge (квіти спочатку білі, потім насичено-червоні)
C83: Endless Summer (квіти рожеві)
C84: Little Lime (квіти спочатку кремові, потім ніжно рожеві)
C85: Magical Fire (квіти спочатку білі, потім рожево-червоні)
C86: Magical Sweet Summer (квіти спочатку білі, потім ніжно-рожеві)
C87: Sundae Fraise (квіти спочатку білі , потім рожеві)
C88: Гортензія 2-річний саджанець, контейнер 2л
C89: Polar Bear (квіти спочатку лаймово-зелені, потім білосніжні ) | E89: =[1]Лист1!E47 -> 180 | F89: =[1]Лист1!F47 -> 171 | G89: =[1]Лист1!G47 -> 162 | H89: =[1]Лист1!H47 -> 153
C90: Vanilla (квіти білі, з часом стають рожево-малинові)
C91: Bomdshell (квіти спочатку лаймово-зелені, потім білі )
C92: Diamant Rouge (квіти спочатку білі, потім насичено-червоні)
C93: Kyushu (квіти білі)
C94: Magical Fire (квіти спочатку білі, потім рожево-червоні)
C95: Mega Mindy (квіти спочатку білі, потім темно рожеві)
C96: Magical Candal (квіти спочатку зелено-білі , потім темно-рожеві)
C98: Лаванда 1-річний саджанець, контейнер 1л
C99: Стєпная | E99: 63 | F99: 59.9 | G99: 56.7 | H99: 53.6
C100: Сінева
C101: Біла
C102: Лавандин Grosso
C103: Hidcote
C104: Little Lady
C106: Вейгела 2-річний саджанець, контейнер 1,5л
C107: Bouquet Rose (листя зелене; квіти рожеві) | E107: 75 | F107: 71.3 | G107: 67.5 | H107: 63.8
C109: Барбарис контейнер 0,5л
C110: в асортименті | E110: 60 | F110: =E110*0.95 -> 57 | G110: =E110*0.9 -> 54 | H110: =E110*0.85 -> 51
C111: Барбарис контейнер 3л
C112: Kelleris (листя зелене з білими прожилками) | E112: =[1]Лист1!E54 -> 108 | F112: =[1]Лист1!F54 -> 102.6 | G112: =[1]Лист1!G54 -> 97.2 | H112: =[1]Лист1!H54 -> 91.8
...
